Workbook

Sheet 2026년 1분기
A1: 2026년 1분기 수의계약현황
A3: ■ 계약총괄
A4: 연번 | B4: 구분 | C4: 부서명 | D4: 계약명 | E4: 계약금액 | F4: 계약일 | G4: 계약상대자 | H4: 비고 | I4: 증빙번호
A5: 1 | B5: 용역 | C5: 관광사업부 | D5: 2026년 욕지섬모노레일 전기설비 안전관리대행 용역 계약 체결 | E5: 6240000 | F5: 2026. 1. 2. | G5: 선우전기이엔지㈜
A6: 2 | B6: 용역 | C6: 관광사업부 | D6: 통영케이블카 상,하부정류장 전기안전관리 대행 계약 체결 | E6: 5400000 | F6: 2026. 1. 2. | G6: 선우전기이엔지㈜
A7: 3 | B7: 용역 | C7: 문화시설부 | D7: 디피랑 빔 프로젝터 6차 수리 계약 체결 | E7: 4277230 | F7: 2026. 1. 26. | G7: 컴앤아이티
A8: 4 | B8: 물품 | C8: 관광사업부 | D8: 케이블카 개폐창문 가스실린더 구입 계약 체결 | E8: 6600000 | F8: 2026. 1. 27. | G8: 대현정공
A9: 5 | B9: 물품 | C9: 관광사업부 | D9: 케이블카 유압호스 구입 계약 체결 | E9: 3519890 | F9: 2026. 1. 27. | G9: ㈜파코하이텍
A10: 6 | B10: 용역 | C10: 관광사업부 | D10: 통영케이블카 승강기 점검보수 용역 계약 체결 | E10: 3960000 | F10: 2026. 1. 27. | G10: ㈜타워엘리베이터
A11: 7 | B11: 물품 | C11: 관광사업부 | D11: 케이블카 수삭륜/안내륜 고무라이너 구입 계약 체결 | E11: 9537000 | F11: 2026. 2. 5. | G11: 부광고무산업사
A12: 8 | B12: 공사 | C12: 경영지원부 | D12: 케이블카 하부역사 대나무 숲 와이어 설치 공사 계약 체결 | E12: 4400000 | F12: 2026. 2. 5. | G12: ㈜도담
A13: 9 | B13: 공사 | C13: 관광사업부 | D13: 상부역사 스카이워크 지붕 패널 교체공사 계약 체결 | E13: 7653000 | F13: 2026. 3. 5. | G13: ㈜우승
A14: 10 | B14: 물품 | C14: 경영지원부 | D14: 본부 사무실 냉난방기 구입 및 설치 계약 체결 | E14: 2970000 | F14: 2026. 2. 2. | G14: 주영시스템에어컨
A15: 11 | B15: 물품 | C15: 관광사업부 | D15: 어드벤처타워 안전헬멧 구입 계약 체결 | E15: 7436000 | F15: 2026. 2. 6. | G15: 버티컬 세븐 코리아
A16: 12 | B16: 물품 | C16: 체육시설부 | D16: 통영수영장 안내판 등 정비물품 제작‧구입 계약 체결 | E16: 3360000 | F16: 2026. 2. 6. | G16: ㈜애플디자인
... A34: 30 | B34: 물품 | C34: 문화시설부 | D34: 디피랑 춘추계 근무복 구입 계약 체결 | E34: 1749000 | F34: 2026. 3. 31. | G34: ㈜신영컴퍼니

Sheet 1
A2: 연번 | B2: 1
A3: 계약명 | B3: ='2026년 1분기'!D5 -> 2026년 욕지섬모노레일 전기설비 안전관리대행 용역 계약 체결
A4: 예정가격 | B4: 6600000 | D4: 최초계약금액 | E4: 6240000
A5: 낙찰률 | B5: =E4/B4 -> 0.94545455 | D5: 계약금액 | E5: 6240000
A6: 계약일자 | B6: ='2026년 1분기'!F5 -> 2026. 1. 2. | D6: 시작일자 | E6: 2026. 1. 1.
A7: 계약방법 | B7: 수의계약 | D7: 종료일자 | E7: 2026. 12. 31.
A8: 계약유형 | B8: ='2026년 1분기'!B5 -> 용역 | D8: 검수일 | E8: 2026. 12. 31.
A9: 계약상대자 | B9: 업체명 | C9: 성명 | D9: 주소
B10: ='2026년 1분기'!G5 -> 선우전기이엔지㈜ | C10: 박수우 | D10: 경상남도 통영시 무전8길 14-12, 207호
A11: 수의계약사유 | B11: 「지방계약법 시행령」 제25조 등 관계법령
A12: 사업장소 | B12: 욕지섬모노레일

Sheet 2
A2: 연번 | B2: 2
A3: 계약명 | B3: ='2026년 1분기'!D6 -> 통영케이블카 상,하부정류장 전기안전관리 대행 계약 체결
A4: 예정가격 | B4: 5400000 | D4: 최초계약금액 | E4: 5400000
A5: 낙찰률 | B5: =E4/B4 -> 1 | D5: 계약금액 | E5: =E4 -> 5400000
A6: 계약일자 | B6: ='2026년 1분기'!F6 -> 2026. 1. 2. | D6: 시작일자 | E6: 2026. 1. 1.
A7: 계약방법 | B7: 수의계약 | D7: 종료일자 | E7: 2026. 12. 31.
A8: 계약유형 | B8: ='2026년 1분기'!B6 -> 용역 | D8: 검수일 | E8: 2026. 12. 31.
A9: 계약상대자 | B9: 업체명 | C9: 성명 | D9: 주소
B10: 선우전기이엔지㈜ | C10: 박수우 | D10: 경상남도 통영시 무전8길 14-12, 207호
A11: 수의계약사유 | B11: 「지방계약법 시행령」 제25조 등 관계법령
A12: 사업장소 | B12: 통영케이블카

Sheet 3
A2: 연번 | B2: 3
A3: 계약명 | B3: ='2026년 1분기'!D7 -> 디피랑 빔 프로젝터 6차 수리 계약 체결
A4: 예정가격 | B4: 4800000 | D4: 최초계약금액 | E4: 4277230
A5: 낙찰률 | B5: =E4/B4 -> 0.89108958 | D5: 계약금액 | E5: =E4 -> 4277230
A6: 계약일자 | B6: 2026. 1. 26. | D6: 시작일자 | E6: 2026. 1. 26.
A7: 계약방법 | B7: 수의계약 | D7: 종료일자 | E7: 2026. 2. 13.
A8: 계약유형 | B8: ='2026년 1분기'!B7 -> 용역 | D8: 검수일 | E8: 2026. 2. 2.
A9: 계약상대자 | B9: 업체명 | C9: 성명 | D9: 주소
B10: ='2026년 1분기'!G7 -> 컴앤아이티 | C10: 김영희 | D10: 경상남도 창원시 마산합포구 용마로 77, 503호
A11: 수의계약사유 | B11: 「지방계약법 시행령」 제25조 등 관계법령
A12: 사업장소 | B12: 디피랑

Sheet 4
A2: 연번 | B2: 4
A3: 계약명 | B3: ='2026년 1분기'!D8 -> 케이블카 개폐창문 가스실린더 구입 계약 체결
A4: 예정가격 | B4: 7200000 | D4: 최초계약금액 | E4: 6600000
A5: 낙찰률 | B5: =E4/B4 -> 0.91666667 | D5: 계약금액 | E5: =E4 -> 6600000
A6: 계약일자 | B6: 2026. 1. 27. | D6: 시작일자 | E6: 2026. 1. 27.
A7: 계약방법 | B7: 수의계약 | D7: 종료일자 | E7: 2026. 3. 31.
A8: 계약유형 | B8: ='2026년 1분기'!B8 -> 물품 | D8: 검수일 | E8: 2026. 3. 7.
A9: 계약상대자 | B9: 업체명 | C9: 성명 | D9: 주소
B10: ='2026년 1분기'!G8 -> 대현정공 | C10: 김현철 | D10: 경상남도 김해시 한림면 가산리 647-1
A11: 수의계약사유 | B11: 「지방계약법 시행령」 제25조 등 관계법령
A12: 사업장소 | B12: 통영케이블카

Sheet 5
A2: 연번 | B2: 5
A3: 계약명 | B3: ='2026년 1분기'!D9 -> 케이블카 유압호스 구입 계약 체결
A4: 예정가격 | B4: 3865000 | D4: 최초계약금액 | E4: 3519890
A5: 낙찰률 | B5: =E4/B4 -> 0.91070893 | D5: 계약금액 | E5: =E4 -> 3519890
A6: 계약일자 | B6: 2026. 1. 27. | D6: 시작일자 | E6: 2026. 1. 27.
A7: 계약방법 | B7: 수의계약 | D7: 종료일자 | E7: 2026. 2. 28.
A8: 계약유형 | B8: ='2026년 1분기'!B9 -> 물품 | D8: 검수일 | E8: 2026. 2. 5.
A9: 계약상대자 | B9: 업체명 | C9: 성명 | D9: 주소
B10: ㈜파코하이텍 | C10: 김기봉 | D10: 부산광역시 강서구 미음산단3로 156
A11: 수의계약사유 | B11: 「지방계약법 시행령」 제25조 등 관계법령
A12: 사업장소 | B12: 통영케이블카

Sheet 6
A2: 연번 | B2: 6
A3: 계약명 | B3: ='2026년 1분기'!D10 -> 통영케이블카 승강기 점검보수 용역 계약 체결
A4: 예정가격 | B4: 3960000 | D4: 최초계약금액 | E4: 3960000
A5: 낙찰률 | B5: =E4/B4 -> 1 | D5: 계약금액 | E5: =E4 -> 3960000
A6: 계약일자 | B6: 2026. 1. 27. | D6: 시작일자 | E6: 2026. 1. 1.
A7: 계약방법 | B7: 수의계약 | D7: 종료일자 | E7: 2026. 12. 31.
A8: 계약유형 | B8: ='2026년 1분기'!B10 -> 용역 | D8: 검수일 | E8: 2026. 12. 31.
A9: 계약상대자 | B9: 업체명 | C9: 성명 | D9: 주소
B10: ㈜타워엘리베이터 | C10: 박유하 | D10: 부산광역시 중구 동영로 113-1(영주동)
A11: 수의계약사유 | B11: 「지방계약법 시행령」 제25조 등 관계법령
A12: 사업장소 | B12: 통영케이블카

Sheet 7
A2: 연번 | B2: 7
A3: 계약명 | B3: ='2026년 1분기'!D11 -> 케이블카 수삭륜/안내륜 고무라이너 구입 계약 체결
A4: 예정가격 | B4: 9875000 | D4: 최초계약금액 | E4: ='2026년 1분기'!E11 -> 9537000
A5: 낙찰률 | B5: =E4/B4 -> 0.96577215 | D5: 계약금액 | E5: =E4 -> 9537000
A6: 계약일자 | B6: 2026. 2. 5. | D6: 시작일자 | E6: 2026. 2. 5.
A7: 계약방법 | B7: 수의계약 | D7: 종료일자 | E7: 2026. 3. 31.
A8: 계약유형 | B8: ='2026년 1분기'!B11 -> 물품 | D8: 검수일 | E8: 2026. 3. 11.
A9: 계약상대자 | B9: 업체명 | C9: 성명 | D9: 주소
B10: ='2026년 1분기'!G11 -> 부광고무산업사 | C10: 장병태외 1명 | D10: 경상북도 경산시 압량면 가일길32길 10
A11: 수의계약사유 | B11: 「지방계약법 시행령」 제25조 등 관계법령
A12: 사업장소 | B12: 통영케이블카

Sheet 8
A2: 연번 | B2: 8
A3: 계약명 | B3: ='2026년 1분기'!D12 -> 케이블카 하부역사 대나무 숲 와이어 설치 공사 계약 체결
A4: 예정가격 | B4: 4888900 | D4: 최초계약금액 | E4: ='2026년 1분기'!E12 -> 4400000
A5: 낙찰률 | B5: =E4/B4 -> 0.89999795 | D5: 계약금액 | E5: =E4 -> 4400000
A6: 계약일자 | B6: ='2026년 1분기'!F12 -> 2026. 2. 5. | D6: 시작일자 | E6: 2026. 2. 6.
A7: 계약방법 | B7: 수의계약 | D7: 종료일자 | E7: 2026. 2. 15.
A8: 계약유형 | B8: ='2026년 1분기'!B12 -> 공사 | D8: 검수일 | E8: 2026. 2. 9.
A9: 계약상대자 | B9: 업체명 | C9: 성명 | D9: 주소
B10: ='2026년 1분기'!G12 -> ㈜도담 | C10: 박향주 | D10: 경상남도 통영시 멘데산업길 5, 2층
A11: 수의계약사유 | B11: 「지방계약법 시행령」 제25조 등 관계법령
A12: 사업장소 | B12: 통영케이블카

Sheet 9
A2: 연번 | B2: 9
A3: 계약명 | B3: ='2026년 1분기'!D13 -> 상부역사 스카이워크 지붕 패널 교체공사 계약 체결
A4: 예정가격 | B4: 8478400 | D4: 최초계약금액 | E4: ='2026년 1분기'!E13 -> 7653000
A5: 낙찰률 | B5: =E4/B4 -> 0.90264673 | D5: 계약금액 | E5: =E4 -> 7653000
A6: 계약일자 | B6: ='2026년 1분기'!F13 -> 2026. 3. 5. | D6: 시작일자 | E6: 2026. 3. 10.
A7: 계약방법 | B7: 수의계약 | D7: 종료일자 | E7: 2026. 3. 15.
A8: 계약유형 | B8: ='2026년 1분기'!B13 -> 공사 | D8: 검수일 | E8: 2026. 3. 14.
A9: 계약상대자 | B9: 업체명 | C9: 성명 | D9: 주소
B10: ='2026년 1분기'!G13 -> ㈜우승 | C10: 이경희 | D10: 경상남도 통영시 해평4길 12-1
A11: 수의계약사유 | B11: 「지방계약법 시행령」 제25조 등 관계법령
A12: 사업장소 | B12: 통영케이블카

Sheet 10
A2: 연번 | B2: 10
A3: 계약명 | B3: ='2026년 1분기'!D14 -> 본부 사무실 냉난방기 구입 및 설치 계약 체결
A4: 예정가격 | B4: 3000000 | D4: 최초계약금액 | E4: ='2026년 1분기'!E14 -> 2970000
A5: 낙찰률 | B5: =E4/B4 -> 0.99 | D5: 계약금액 | E5: =E4 -> 2970000
A6: 계약일자 | B6: ='2026년 1분기'!F14 -> 2026. 2. 2. | D6: 시작일자 | E6: 2026. 2. 2.
A7: 계약방법 | B7: 수의계약 | D7: 종료일자 | E7: 2026. 2. 6.
A8: 계약유형 | B8: ='2026년 1분기'!B14 -> 물품 | D8: 검수일 | E8: 2026. 2. 6.
A9: 계약상대자 | B9: 업체명 | C9: 성명 | D9: 주소
B10: ='2026년 1분기'!G14 -> 주영시스템에어컨 | C10: 장석종 | D10: 경상남도 통영시 광도면 죽림안길 20
A11: 수의계약사유 | B11: 「지방계약법 시행령」 제25조 등 관계법령
A12: 사업장소 | B12: 통영관광개발공사

Sheet 11
A2: 연번 | B2: 11
A3: 계약명 | B3: ='2026년 1분기'!D15 -> 어드벤처타워 안전헬멧 구입 계약 체결
A4: 예정가격 | B4: 7499700 | D4: 최초계약금액 | E4: ='2026년 1분기'!E15 -> 7436000
A5: 낙찰률 | B5: =E4/B4 -> 0.99150633 | D5: 계약금액 | E5: =E4 -> 7436000
A6: 계약일자 | B6: ='2026년 1분기'!F15 -> 2026. 2. 6. | D6: 시작일자 | E6: 2026. 2. 6.
A7: 계약방법 | B7: 수의계약 | D7: 종료일자 | E7: 2026. 2. 28.
A8: 계약유형 | B8: ='2026년 1분기'!B15 -> 물품 | D8: 검수일 | E8: 2026. 2. 25.
A9: 계약상대자 | B9: 업체명 | C9: 성명 | D9: 주소
B10: ='2026년 1분기'!G15 -> 버티컬 세븐 코리아 | C10: 김성현 | D10: 경상남도 통영시 데메4길 68, 201호
A11: 수의계약사유 | B11: 「지방계약법 시행령」 제25조 등 관계법령
A12: 사업장소 | B12: 어드벤처타워

Sheet 12
A2: 연번 | B2: 12
A3: 계약명 | B3: ='2026년 1분기'!D16 -> 통영수영장 안내판 등 정비물품 제작‧구입 계약 체결
A4: 예정가격 | B4: 3782000 | D4: 최초계약금액 | E4: ='2026년 1분기'!E16 -> 3360000
A5: 낙찰률 | B5: =E4/B4 -> 0.88841883 | D5: 계약금액 | E5: =E4 -> 3360000
A6: 계약일자 | B6: ='2026년 1분기'!F16 -> 2026. 2. 6. | D6: 시작일자 | E6: 2026. 2. 6.
A7: 계약방법 | B7: 수의계약 | D7: 종료일자 | E7: 2026. 2. 13.
A8: 계약유형 | B8: ='2026년 1분기'!B16 -> 물품 | D8: 검수일 | E8: 2026. 2. 11.
A9: 계약상대자 | B9: 업체명 | C9: 성명 | D9: 주소
B10: ='2026년 1분기'!G16 -> ㈜애플디자인 | C10: 김종경 | D10: 경상남도 통영시 중앙로36, 3층
A11: 수의계약사유 | B11: 「지방계약법 시행령」 제25조 등 관계법령
A12: 사업장소 | B12: 통영수영장

Sheet 13
A2: 연번 | B2: 13
A3: 계약명 | B3: ='2026년 1분기'!D17 -> 상부역사 3층 스카이워크 구조물 도장공사 계약 체결
A4: 예정가격 | B4: 20960000 | D4: 최초계약금액 | E4: ='2026년 1분기'!E17 -> 19300000
A5: 낙찰률 | B5: =E4/B4 -> 0.92080153 | D5: 계약금액 | E5: =E4 -> 19300000
A6: 계약일자 | B6: ='2026년 1분기'!F17 -> 2026. 2. 4. | D6: 시작일자 | E6: 2026. 2. 4.
A7: 계약방법 | B7: 수의계약 | D7: 종료일자 | E7: 2026. 2. 28.
A8: 계약유형 | B8: ='2026년 1분기'!B17 -> 공사 | D8: 검수일 | E8: 2026. 2. 25.
A9: 계약상대자 | B9: 업체명 | C9: 성명 | D9: 주소
B10: ='2026년 1분기'!G17 -> 에이스건설 | C10: 양미옥 | D10: 경상남도 통영시 광도면 노산길 128
A11: 수의계약사유 | B11: 「지방계약법 시행령」 제25조 등 관계법령
A12: 사업장소 | B12: 통영케이블카

Sheet 14
A2: 연번 | B2: 14
A3: 계약명 | B3: ='2026년 1분기'!D18 -> 케이블카 악삭력 측정용 로드셀 구입 계약 체결
A4: 예정가격 | B4: 9900000 | D4: 최초계약금액 | E4: ='2026년 1분기'!E18 -> 9405000
A5: 낙찰률 | B5: =E4/B4 -> 0.95 | D5: 계약금액 | E5: =E4 -> 9405000
A6: 계약일자 | B6: ='2026년 1분기'!F18 -> 2026. 2. 12. | D6: 시작일자 | E6: 2026. 2. 12.
A7: 계약방법 | B7: 수의계약 | D7: 종료일자 | E7: 2026. 3. 31
A8: 계약유형 | B8: ='2026년 1분기'!B18 -> 물품 | D8: 검수일 | E8: 2026. 3. 25.
A9: 계약상대자 | B9: 업체명 | C9: 성명 | D9: 주소
B10: ='2026년 1분기'!G18 -> 씨앤디데크 | C10: 전원근 | D10: 경기도 화성시 동탄영천로 131, 10층 18호
A11: 수의계약사유 | B11: 「지방계약법 시행령」 제25조 등 관계법령
A12: 사업장소 | B12: 통영케이블카

Sheet 15
A2: 연번 | B2: 15
A3: 계약명 | B3: ='2026년 1분기'!D19 -> 2026년 제1차 직원 공개채용 필기시험 대행 용역 계약 체결
A4: 예정가격 | B4: 10395000 | D4: 최초계약금액 | E4: ='2026년 1분기'!E19 -> 10395000
A5: 낙찰률 | B5: =E4/B4 -> 1 | D5: 계약금액 | E5: =E4 -> 10395000
A6: 계약일자 | B6: ='2026년 1분기'!F19 -> 2026. 2. 12. | D6: 시작일자 | E6: 2026. 2. 12.
A7: 계약방법 | B7: 수의계약 | D7: 종료일자 | E7: 2026. 4. 6.
A8: 계약유형 | B8: ='2026년 1분기'!B19 -> 용역 | D8: 검수일 | E8: 2026. 3. 5.
A9: 계약상대자 | B9: 업체명 | C9: 성명 | D9: 주소
B10: ='2026년 1분기'!G19 -> ㈜사람인 | C10: 황현순 | D10: 서울특별시 강서구 공항대로 165, C동 11층
A11: 수의계약사유 | B11: 「지방계약법 시행령」 제25조 등 관계법령
A12: 사업장소 | B12: 통영관광개발공사

Sheet 16
A2: 연번 | B2: 16
A3: 계약명 | B3: ='2026년 1분기'!D20 -> 통영체육청소년센터 수영장 청소 용역 계약 체결
A4: 예정가격 | B4: 3300000 | D4: 최초계약금액 | E4: ='2026년 1분기'!E20 -> 3630000
A5: 낙찰률 | B5: =E4/B4 -> 1.1 | D5: 계약금액 | E5: =E4 -> 3630000
A6: 계약일자 | B6: 2026. 2. 20. | D6: 시작일자 | E6: 2026. 2. 24.
A7: 계약방법 | B7: 수의계약 | D7: 종료일자 | E7: 2026. 2. 28.
A8: 계약유형 | B8: ='2026년 1분기'!B20 -> 용역 | D8: 검수일 | E8: 2026. 2. 28.
A9: 계약상대자 | B9: 업체명 | C9: 성명 | D9: 주소
B10: ='2026년 1분기'!G20 -> ㈜청경 | C10: 정연순 | D10: 경상남도 통영시 용남면 통영해안로 586, 1층
A11: 수의계약사유 | B11: 「지방계약법 시행령」 제25조 등 관계법령
A12: 사업장소 | B12: 통영체육청소년센터

Sheet 17
A2: 연번 | B2: 17
A3: 계약명 | B3: ='2026년 1분기'!D21 -> 케이블카 악삭기 부품 구입 계약 체결
A4: 예정가격 | B4: 2400000 | D4: 최초계약금액 | E4: ='2026년 1분기'!E21 -> 2200000
A5: 낙찰률 | B5: =E4/B4 -> 0.91666667 | D5: 계약금액 | E5: =E4 -> 2200000
A6: 계약일자 | B6: ='2026년 1분기'!F21 -> 2026. 2. 24. | D6: 시작일자 | E6: 2026. 2. 24.
A7: 계약방법 | B7: 수의계약 | D7: 종료일자 | E7: 2026. 3. 31.
A8: 계약유형 | B8: ='2026년 1분기'!B21 -> 물품 | D8: 검수일 | E8: 2026. 3. 30.
A9: 계약상대자 | B9: 업체명 | C9: 성명 | D9: 주소
B10: ='2026년 1분기'!G21 -> 다이넥스부산점 | C10: 서정숙 | D10: 부산광역시 강서구 공항앞길85번길 122-1
A11: 수의계약사유 | B11: 「지방계약법 시행령」 제25조 등 관계법령
A12: 사업장소 | B12: 통영케이블카

Sheet 18
A2: 연번
A3: 계약명 | B3: ='2026년 1분기'!D22 -> 통영체육청소년센터 소방시설 안전관리대행 용역 계약 체결
A4: 예정가격 | B4: 2700000 | D4: 최초계약금액 | E4: =2250000 -> 2250000
A5: 낙찰률 | B5: =E4/B4 -> 0.83333333 | D5: 계약금액 | E5: =E4 -> 2250000
A6: 계약일자 | B6: ='2026년 1분기'!F22 -> 2026. 2. 25. | D6: 시작일자 | E6: 2026. 3. 1.
A7: 계약방법 | B7: 수의계약 | D7: 종료일자 | E7: 2026. 12. 31.
A8: 계약유형 | B8: ='2026년 1분기'!B22 -> 용역 | D8: 검수일 | E8: 2026. 12. 31.
A9: 계약상대자 | B9: 업체명 | C9: 성명 | D9: 주소
B10: ='2026년 1분기'!G22 -> 대우소방공사 | C10: 서청수 | D10: 경상남도 통영시 통영해안로 441
A11: 수의계약사유 | B11: 「지방계약법 시행령」 제25조 등 관계법령
A12: 사업장소 | B12: 통영체육청소년센터

Sheet 19
A2: 연번 | B2: 19
A3: 계약명 | B3: ='2026년 1분기'!D23 -> 케이블카 캐빈 부속 및 구동타이어 구입 계약 체결
A4: 예정가격 | B4: 52915720 | D4: 최초계약금액 | E4: ='2026년 1분기'!E23 -> 48103440
A5: 낙찰률 | B5: =E4/B4 -> 0.90905765 | D5: 계약금액 | E5: =E4 -> 48103440
A6: 계약일자 | B6: 2026. 2. 25. | D6: 시작일자 | E6: 2026. 2. 25.
A7: 계약방법 | B7: 수의계약 | D7: 종료일자 | E7: 2026. 9. 30.
A8: 계약유형 | B8: ='2026년 1분기'!B23 -> 물품 | D8: 검수일 | E8: 2026. 4. 28.
A9: 계약상대자 | B9: 업체명 | C9: 성명 | D9: 주소
B10: ='2026년 1분기'!G23 -> 도펠마이어코리아 | C10: Elias Peterle | D10: 경기도 하남시 미사대로 550, 509호, 510호
A11: 수의계약사유 | B11: 「지방계약법 시행령」 제25조 등 관계법령
A12: 사업장소 | B12: 통영케이블카

Sheet 20
A2: 연번 | B2: 20
A3: 계약명 | B3: ='2026년 1분기'!D24 -> 통영체육청소년센터 개인정보 보호시스템 및 보안용역 계약 체결
A4: 예정가격 | B4: 2286000 | D4: 최초계약금액 | E4: ='2026년 1분기'!E24 -> 1905000
A5: 낙찰률 | B5: =E4/B4 -> 0.83333333 | D5: 계약금액 | E5: =E4 -> 1905000
A6: 계약일자 | B6: ='2026년 1분기'!F24 -> 2026. 2. 25. | D6: 시작일자 | E6: 2026. 3. 1.
A7: 계약방법 | B7: 수의계약 | D7: 종료일자 | E7: 2026. 12. 31.
A8: 계약유형 | B8: ='2026년 1분기'!B24 -> 용역 | D8: 검수일 | E8: 2026. 12. 31.
A9: 계약상대자 | B9: 업체명 | C9: 성명 | D9: 주소
B10: ='2026년 1분기'!G24 -> ㈜에스원 | C10: 남궁범 | D10: 서울특별시 중구 세종대로7길 25
A11: 수의계약사유 | B11: 「지방계약법 시행령」 제25조 등 관계법령
A12: 사업장소 | B12: 통영체육청소년센터

Sheet 21
A2: 연번 | B2: 21
A3: 계약명 | B3: ='2026년 1분기'!D25 -> 디피랑 야외 문화공연용 음향장비 구입 계약 체결
A4: 예정가격 | B4: 3500000 | D4: 최초계약금액 | E4: ='2026년 1분기'!E25 -> 3000000
A5: 낙찰률 | B5: =E4/B4 -> 0.85714286 | D5: 계약금액 | E5: =E4 -> 3000000
A6: 계약일자 | B6: ='2026년 1분기'!F25 -> 2026. 2. 27. | D6: 시작일자 | E6: 2026. 2. 27.
A7: 계약방법 | B7: 수의계약 | D7: 종료일자 | E7: 2026. 3. 31.
A8: 계약유형 | B8: ='2026년 1분기'!B25 -> 물품 | D8: 검수일 | E8: 2026. 3. 6.
A9: 계약상대자 | B9: 업체명 | C9: 성명 | D9: 주소
B10: ='2026년 1분기'!G25 -> 한려음향악기 | C10: 천희숙 | D10: 경상남도 통영시 용남면 통영해안로 580
A11: 수의계약사유 | B11: 「지방계약법 시행령」 제25조 등 관계법령
A12: 사업장소 | B12: 디피랑

Sheet 22
A2: 연번 | B2: 22
A3: 계약명 | B3: ='2026년 1분기'!D26 -> 2026년 통영관광개발공사 단체보장보험 가입 용역 계약 체결
A4: 예정가격 | B4: 40000000 | D4: 최초계약금액 | E4: ='2026년 1분기'!E26 -> 39767250
A5: 낙찰률 | B5: =E4/B4 -> 0.99418125 | D5: 계약금액 | E5: =E4 -> 39767250
A6: 계약일자 | B6: ='2026년 1분기'!F26 -> 2026. 2. 27. | D6: 시작일자 | E6: 2026. 3. 1.
A7: 계약방법 | B7: 수의계약 | D7: 종료일자 | E7: 2027. 2. 28.
A8: 계약유형 | B8: ='2026년 1분기'!B26 -> 용역 | D8: 검수일 | E8: 2027. 2. 28.
A9: 계약상대자 | B9: 업체명 | C9: 성명 | D9: 주소
B10: ='2026년 1분기'!G26 -> 메리츠화재해상보험주식회사 | C10: 김중현 | D10: 서울특별시 강남구 강남대로 382, 1층
A11: 수의계약사유 | B11: 「지방계약법 시행령」 제25조 등 관계법령
A12: 사업장소 | B12: 수산과학관

Sheet 23
A2: 연번
A3: 계약명 | B3: ='2026년 1분기'!D27 -> 케이블카 하부 2축 기어박스 구입 계약 체결
A4: 예정가격 | B4: 7400000 | D4: 최초계약금액 | E4: ='2026년 1분기'!E27 -> 6900000
A5: 낙찰률 | B5: =E4/B4 -> 0.93243243 | D5: 계약금액 | E5: =E4 -> 6900000
A6: 계약일자 | B6: ='2026년 1분기'!F27 -> 2026. 3. 6. | D6: 시작일자 | E6: 2026. 3. 6.
A7: 계약방법 | B7: 수의계약 | D7: 종료일자 | E7: 2026. 6. 30.
A8: 계약유형 | B8: ='2026년 1분기'!B27 -> 물품 | D8: 검수일 | E8: 2026. 4. 26.
A9: 계약상대자 | B9: 업체명 | C9: 성명 | D9: 주소
B10: ='2026년 1분기'!G27 -> 주영테크 | C10: 김은숙 | D10: 경상남도 창원시 의창구 북면 운무로783번길 16
A11: 수의계약사유 | B11: 「지방계약법 시행령」 제25조 등 관계법령
A12: 사업장소 | B12: 통영케이블카

Sheet 24
A2: 연번 | B2: 24
A3: 계약명 | B3: ='2026년 1분기'!D28 -> 케이블카 주행륜 구입 계약 체결
A4: 예정가격 | B4: 9800000 | D4: 최초계약금액 | E4: ='2026년 1분기'!E28 -> 9570000
A5: 낙찰률 | B5: =E4/B4 -> 0.97653061 | D5: 계약금액 | E5: =E4 -> 9570000
A6: 계약일자 | B6: ='2026년 1분기'!F28 -> 2026. 3. 6. | D6: 시작일자 | E6: 2026. 3. 6.
A7: 계약방법 | B7: 수의계약 | D7: 종료일자 | E7: 2026. 3. 31.
A8: 계약유형 | B8: ='2026년 1분기'!B28 -> 물품 | D8: 검수일 | E8: 2026. 3. 27.
A9: 계약상대자 | B9: 업체명 | C9: 성명 | D9: 주소
B10: ='2026년 1분기'!G28 -> 쌍림비앤피 | C10: 김정환 | D10: 경상남도 양산시 동면 금오6길, 37, 1층 102호
A11: 수의계약사유 | B11: 「지방계약법 시행령」 제25조 등 관계법령
A12: 사업장소 | B12: 통영케이블카

Sheet 25
A2: 연번 | B2: 25
A3: 계약명 | B3: ='2026년 1분기'!D29 -> 통영체육청소년센터 방역소독 용역 계약 체결
A4: 예정가격 | B4: 2400000 | D4: 최초계약금액 | E4: ='2026년 1분기'!E29 -> 1500000
A5: 낙찰률 | B5: =E4/B4 -> 0.625 | D5: 계약금액 | E5: =E4 -> 1500000
A6: 계약일자 | B6: ='2026년 1분기'!F29 -> 2026. 3. 17. | D6: 시작일자 | E6: 2026. 3. 17.
A7: 계약방법 | B7: 수의계약 | D7: 종료일자 | E7: 2026. 12. 31.
A8: 계약유형 | B8: ='2026년 1분기'!B29 -> 용역 | D8: 검수일 | E8: 2026. 12. 31.
A9: 계약상대자 | B9: 업체명 | C9: 성명 | D9: 주소
B10: ='2026년 1분기'!G29 -> 방구방역 | C10: 제해길 | D10: 경상남도 통영시 미나리길31, 1층
A11: 수의계약사유 | B11: 「지방계약법 시행령」 제25조 등 관계법령
A12: 사업장소 | B12: 통영체육청소년센터

Sheet 26
A2: 연번 | B2: 26
A3: 계약명 | B3: ='2026년 1분기'!D30 -> 통영체육청소년센터 헬스기구 유지관리 용역 계약 체결
A4: 예정가격 | B4: 1800000 | D4: 최초계약금액 | E4: ='2026년 1분기'!E30 -> 1485000
A5: 낙찰률 | B5: =E4/B4 -> 0.825 | D5: 계약금액 | E5: =E4 -> 1485000
A6: 계약일자 | B6: ='2026년 1분기'!F30 -> 2026. 3. 17. | D6: 시작일자 | E6: 2026. 4. 1.
A7: 계약방법 | B7: 수의계약 | D7: 종료일자 | E7: 2026. 12. 31.
A8: 계약유형 | B8: ='2026년 1분기'!B30 -> 용역 | D8: 검수일 | E8: 2026. 12. 31.
A9: 계약상대자 | B9: 업체명 | C9: 성명 | D9: 주소
B10: ='2026년 1분기'!G30 -> 짐케어랩스 | C10: 이상민 | D10: 경상남도 창원시 의창구 평산로 33, 9층 909호
A11: 수의계약사유 | B11: 「지방계약법 시행령」 제25조 등 관계법령
A12: 사업장소 | B12: 통영체육청소년센터

Sheet 27
A2: 연번 | B2: 27
A3: 계약명 | B3: ='2026년 1분기'!D31 -> 디피랑 무전기 구입 계약 체결
A4: 예정가격 | B4: 4800000 | D4: 최초계약금액 | E4: ='2026년 1분기'!E31 -> 4200000
A5: 낙찰률 | B5: =E4/B4 -> 0.875 | D5: 계약금액 | E5: =E4 -> 4200000
A6: 계약일자 | B6: ='2026년 1분기'!F31 -> 2026. 3. 19. | D6: 시작일자 | E6: 2026. 3. 19.
A7: 계약방법 | B7: 수의계약 | D7: 종료일자 | E7: 2026. 4. 30.
A8: 계약유형 | B8: ='2026년 1분기'!B31 -> 물품 | D8: 검수일 | E8: 2026. 3. 26.
A9: 계약상대자 | B9: 업체명 | C9: 성명 | D9: 주소
B10: ='2026년 1분기'!G31 -> 국제유무선 | C10: 김평호 | D10: 부산광역시 사상구 괘감로 37, 28동 127호
A11: 수의계약사유 | B11: 「지방계약법 시행령」 제25조 등 관계법령
A12: 사업장소 | B12: 디피랑

Sheet 28
A2: 연번 | B2: 28
A3: 계약명 | B3: ='2026년 1분기'!D32 -> 통영체육청소년센터 승강기 유지관리 용역 계약 체결
A4: 예정가격 | B4: 2430000 | D4: 최초계약금액 | E4: ='2026년 1분기'!E32 -> 2430000
A5: 낙찰률 | B5: =E4/B4 -> 1 | D5: 계약금액 | E5: =E4 -> 2430000
A6: 계약일자 | B6: ='2026년 1분기'!F32 -> 2026. 3. 20. | D6: 시작일자 | E6: 2026. 4. 1.
A7: 계약방법 | B7: 수의계약 | D7: 종료일자 | E7: 2026. 12. 31.
A8: 계약유형 | B8: ='2026년 1분기'!B32 -> 용역 | D8: 검수일 | E8: 2026. 12. 31.
A9: 계약상대자 | B9: 업체명 | C9: 성명 | D9: 주소
B10: ='2026년 1분기'!G32 -> ㈜엘지엘리베이터서비스 | C10: 배삼순 | D10: 경상남도 거제시 고현로 55-1
A11: 수의계약사유 | B11: 「지방계약법 시행령」 제25조 등 관계법령
A12: 사업장소 | B12: 통영체육청소년센터

Sheet 29
A2: 연번 | B2: 29
A3: 계약명 | B3: ='2026년 1분기'!D33 -> 케이블카 안내륜 구입 계약 체결
A4: 예정가격 | B4: 9780000 | D4: 최초계약금액 | E4: ='2026년 1분기'!E33 -> 9372000
A5: 낙찰률 | B5: =E4/B4 -> 0.95828221 | D5: 계약금액 | E5: =E4 -> 9372000
A6: 계약일자 | B6: ='2026년 1분기'!F33 -> 2026. 3. 20. | D6: 시작일자 | E6: 2026. 3. 20.
A7: 계약방법 | B7: 수의계약 | D7: 종료일자 | E7: 2026. 6. 30.
A8: 계약유형 | B8: ='2026년 1분기'!B33 -> 물품 | D8: 검수일 | E8: 2026. 5. 20.
A9: 계약상대자 | B9: 업체명 | C9: 성명 | D9: 주소
B10: ='2026년 1분기'!G33 -> 쌍림비앤피 | C10: 김정환 | D10: 경상남도 양산시 동면 금오6길, 37
A11: 수의계약사유 | B11: 「지방계약법 시행령」 제25조 등 관계법령
A12: 사업장소 | B12: 통영케이블카

Sheet 30
A2: 연번 | B2: 30
A3: 계약명 | B3: ='2026년 1분기'!D34 -> 디피랑 춘추계 근무복 구입 계약 체결
A4: 예정가격 | B4: 1980000 | D4: 최초계약금액 | E4: ='2026년 1분기'!E34 -> 1749000
A5: 낙찰률 | B5: =E4/B4 -> 0.88333333 | D5: 계약금액 | E5: =E4 -> 1749000
A6: 계약일자 | B6: ='2026년 1분기'!F34 -> 2026. 3. 31. | D6: 시작일자 | E6: 2026. 3. 31.
A7: 계약방법 | B7: 수의계약 | D7: 종료일자 | E7: 2026. 4. 30.
A8: 계약유형 | B8: ='2026년 1분기'!B34 -> 물품 | D8: 검수일 | E8: 2026. 4. 3.
A9: 계약상대자 | B9: 업체명 | C9: 성명 | D9: 주소
B10: ='2026년 1분기'!G34 -> ㈜신영컴퍼니 | C10: 김영대, 고신혁 | D10: 경기도 시흥시 옥구천동로 62, 2층
A11: 수의계약사유 | B11: 「지방계약법 시행령」 제25조 등 관계법령
A12: 사업장소 | B12: 디피랑
