Workbook

Sheet 2024년도
A1: 2024년 수의계약현황
A3: ■ 계약총괄
A4: 연번 | B4: 구분 | C4: 부서명 | D4: 계약명 | E4: 계약금액 | F4: 계약일 | G4: 계약상대자 | H4: 비고 | I4: 증빙번호
A5: 1 | B5: 물품 | C5: 케이블카팀 | D5: 케이블카 상,하부 제어반 예비품 구입 계약 체결 | E5: 9359900 | F5: 2024.01.15. | G5: ㈜성공기전
A6: 2 | B6: 용역 | C6: 경영지원팀 | D6: 2024년 공사 그룹웨어 유지보수 용역 계약 체결 | E6: 9636000 | F6: 2024.01.29. | G6: ㈜더존비즈온
A7: 3 | B7: 물품 | C7: 케이블카팀 | D7: 케이블카 하부스테이션 마이터기어 구입 계약 체결 | E7: 9000000 | F7: 2024.01.30. | G7: 주영테크 | I7: 60 | J7: 01/15
A8: 4 | B8: 물품 | C8: 케이블카팀 | D8: 케이블카 수삭륜 및 안내륜 고무라이너 구입 계약 체결 | E8: 8529400 | F8: 2024.01.30. | G8: 부광고무산업사 | I8: 201 | J8: 01/31
A9: 5 | B9: 물품 | C9: 케이블카팀 | D9: 케이블카 구동 타이어 구입 계약 체결 | E9: 8892950 | F9: 2024.01.30. | G9: 주식회사 신창코퍼레이션 | I9: 221 | J9: 01/31
A10: 6 | B10: 물품 | C10: 케이블카팀 | D10: 케이블카 스페이싱 모터 인버터 컨트롤 보드 구입 계약 체결 | E10: 4455000 | F10: 2024.02.02. | G10: 서진오토메이션
A11: 7 | B11: 물품 | C11: 문화시설팀 | D11: 디피랑 빔 프로젝터 수리 계약 체결 | E11: 3324020 | F11: 2024.02.23. | G11: 컴앤아이티 | I11: 819
A12: 8 | B12: 물품 | C12: 케이블카팀 | D12: 케이블카 상부 전기설비 ACB(기중차단기) 구입 계약 체결 | E12: 4972000 | F12: 2024.02.26. | G12: 광림전기공사 | I12: 830
A13: 9 | B13: 물품 | C13: 케이블카팀 | D13: 케이블카 상부 비상발전기 제어판 구입 계약 체결 | E13: 2255000 | F13: 2024.02.26. | G13: 파워텍에너지 주식회사 | I13: 927
A14: 10 | B14: 용역 | C14: 케이블카팀 | D14: 욕지섬모노레일 랙기어, 피니언기어 및 주행롤러 베어링 구조·피로해석 용역 계약 체결 | E14: 4317115 | F14: 2024.02.26. | G14: 가천대학교 산학협력단 | I14: 929
A15: 11 | B15: 용역 | C15: 케이블카팀 | D15: 욕지섬 모노레일 구조안전성 검토 용역 계약 체결 | E15: 19456000 | F15: 2024.03.04. | G15: ㈜대농구조안전연구소 | I15: 1491
A16: 12 | B16: 물품 | C16: 문화시설팀 | D16: 디피랑 스피커 구입 계약 체결 | E16: 12100000 | F16: 2024.03.12. | G16: 소리나무 | I16: 2017
A17: 13 | B17: 물품 | C17: 케이블카팀 | D17: 케이블카 베어링 구입 계약 체결 | E17: 4634300 | F17: 2024.03.12. | G17: 신륭기공㈜ | I17: 2247
A18: 14 | B18: 물품 | C18: 케이블카팀 | D18: 케이블카 메인 인버터(B호기) 냉각팬 구입 계약 체결 | E18: 2640000 | F18: 2024.03.18. | G18: 서진오토메이션 | I18: 2372
A19: 15 | B19: 물품 | C19: 케이블카팀 | D19: 케이블카 상부 스테이션 동력 전달 기어박스 구입 계약 체결 | E19: 9400000 | F19: 2024.03.19. | G19: 지제이테크 | I19: 2374
A20: 16 | B20: 물품 | C20: 케이블카팀 | D20: 케이블카 리니어모터 구입 계약 체결 | E20: 7590000 | F20: 2024.03.25. | G20: ㈜케이엘에스씨 | I20: 2375
A21: 17 | B21: 용역 | C21: 기획마케팅팀 | D21: ISO 45001 안전보건경영시스템 인증 컨설팅 용역 계약 체결 | E21: 7700000 | F21: 2024.04.01. | G21: 다빛파트너즈 | I21: 2759
A22: 18 | B22: 물품 | C22: 문화시설팀 | D22: 디피랑 LED BAR 조명 구입 계약 체결 | E22: 15125000 | F22: 2024.04.08. | G22: ㈜트라디아
A23: 19 | B23: 물품 | C23: 케이블카팀 | D23: 케이블카 개폐창문 가스실린더 구입 | E23: ='19'!E5 -> 6600000 | F23: ='19'!B6 -> 2024.04.15. | G23: ='19'!B10 -> 대현정공
A24: 20 | B24: 물품 | C24: 케이블카팀 | D24: 케이블카 악삭기 구입 | E24: ='20'!E5 -> 302209600 | F24: ='20'!B6 -> 2024.04.16. | G24: ='20'!B10 -> 주식회사 신창코퍼레이션
A25: 21 | B25: 물품 | C25: 문화시설팀 | D25: 디피랑 직원 춘·추계 근무복 구입 | E25: ='21'!E5 -> 2889900 | F25: ='21'!B6 -> 2024.04.17. | G25: ='21'!B10 -> TNF 거제점
A26: 22 | B26: 물품 | C26: 문화시설팀 | D26: 디피랑 빔 프로젝터 1차 수리 | E26: ='22'!E5 -> 3356580 | F26: ='22'!B6 -> 2024.04.19. | G26: ='22'!B10 -> 컴앤아이티
A27: 23 | B27: 물품 | C27: 케이블카팀 | D27: 케이블카 유니버셜 조인트 구입 | E27: ='23'!E5 -> 8017300 | F27: ='23'!B6 -> 2024.04.19. | G27: ='23'!B10 -> 주식회사 신창코퍼레이션
A28: 24 | B28: 물품 | C28: 케이블카팀 | D28: 통영어드벤처타워 연속빌레이(SSB) 구입 | E28: ='24'!E5 -> 20250000 | F28: ='24'!B6 -> 2024.04.22. | G28: ='24'!B10 -> 어드벤처 주식회사
A29: 25 | B29: 물품 | C29: 케이블카팀 | D29: 케이블카 안내륜 구입 | E29: ='25'!E5 -> 8470000 | F29: ='25'!B6 -> 2024.05.02. | G29: ='25'!B10 -> 쌍림비앤피
A30: 26 | B30: 물품 | C30: 케이블카팀 | D30: 케이블카 풍향풍속계 구입 | E30: ='26'!E5 -> 4400000 | F30: ='26'!B6 -> 2024.05.02. | G30: ='26'!B10 -> ㈜영전시스템
A31: 27 | B31: 물품 | C31: 문화시설팀 | D31: 디피랑 팩레이저 조명 구입 | E31: ='27'!E5 -> 13750000 | F31: ='27'!B6 -> 2024.05.10. | G31: ='27'!B10 -> 제이에스앤
A32: 28 | B32: 물품 | C32: 케이블카팀 | D32: 케이블카 악삭력 측정용 로드셀 구입 | E32: ='28'!E5 -> 9680000 | F32: ='28'!B6 -> 2024.05.08. | G32: ='28'!B10 -> 씨앤디테크
A33: 29 | B33: 물품 | C33: 문화시설팀 | D33: 디피랑 산업용 선풍기 구입 | E33: ='29'!E5 -> 2085000 | F33: ='29'!B6 -> 2024.05.17 | G33: ='29'!B10 -> 주식회사 상상그램
A34: 30 | B34: 물품 | C34: 케이블카팀 | D34: 케이블카 악삭기 스냅링 | E34: ='30'!E5 -> 3630000 | F34: ='30'!B6 -> 2024.05.21. | G34: ='30'!B10 -> 주식회사 신창코퍼레이션
A35: 31 | B35: 물품 | C35: 케이블카팀 | D35: 케이블카 지삭 방청 장비 구입 | E35: ='31'!E5 -> 5885000 | F35: ='31'!B6 -> 2024.05.21. | G35: ='31'!B10 -> 주식회사 벡토루브
A36: 32 | B36: 물품 | C36: 문화시설팀 | D36: 디피랑 빔 프로젝터 2차 수리 | E36: ='32'!E5 -> 4051560 | F36: ='32'!B6 -> 2024.05.30. | G36: ='32'!B10 -> 컴앤아이티
A37: 33 | B37: 물품 | C37: 케이블카팀 | D37: 케이블카 악삭기 오퍼레이팅 롤러 및 스러스트 와셔 구입 | E37: ='33'!E5 -> 5170000 | F37: ='33'!B6 -> 2024.06.03. | G37: ='33'!B10 -> 쌍림비앤피
A38: 34 | B38: 용역 | C38: 경영지원팀 | D38: 2024년 공사 위험성평가 용역 계약 체결 | E38: ='34'!E5 -> 4950000 | F38: ='34'!B6 -> 2024.06.18 | G38: ='34'!B10 -> (사)대한산업안전협회경남서부지회
A39: 35 | B39: 용역 | C39: 기획마케팅팀 | D39: 인권경영시스템 도입 인증 용역 계약 | E39: ='35'!E5 -> 6050000 | F39: ='35'!B6 -> 2024.06.17. | G39: ='35'!B10 -> ㈜한국경영인증원
A40: 36 | B40: 물품 | C40: 케이블카팀 | D40: 케이블카 악삭기 주름고무 구입 | E40: ='36'!E5 -> 4290000 | F40: ='36'!B6 -> 2024.06.12. | G40: ='36'!B10 -> 쌍림비앤피
A41: 37 | B41: 물품 | C41: 케이블카팀 | D41: 케이블카 캐리지 메인 프레임 구입 | E41: ='37'!E5 -> 5940000 | F41: ='37'!B6 -> 2024.06.13. | G41: ='37'!B10 -> 나산기계 주식회사
A42: 38 | B42: 물품 | C42: 케이블카팀 | D42: 케이블카 캐빈 도어브라켓 구입 | E42: ='38'!E5 -> 6656320 | F42: ='38'!B6 -> 2024.06.17. | G42: ='38'!B10 -> 주식회사 신창코퍼레이션
A43: 39 | B43: 물품 | C43: 문화시설팀 | D43: 디피랑 팔찌 입장권 구입 | E43: ='39'!E5 -> 3300000 | F43: ='39'!B6 -> 2024.06.20. | G43: ='39'!B10 -> 제이텍 스크린
A44: 40 | B44: 용역 | C44: 경영지원팀 | D44: 2024회계연도 결산감사 용역 | E44: ='40'!E5 -> 17100000 | F44: ='40'!B6 -> 2024.06.21. | G44: ='40'!B10 -> 윤호진세무회계사무소
A45: 41 | B45: 물품 | C45: 문화시설팀 | D45: 디피랑 하계 근무복 구입 | E45: ='41'!E5 -> 1611000 | F45: ='41'!B6 -> 2024.06.21. | G45: ='41'!B10 -> 네파 서울 신당점
A46: 42 | B46: 공사 | C46: 케이블카팀 | D46: 케이블카 상부역사 PIT층 도장공사 | E46: ='42'!E5 -> 20800000 | F46: ='42'!B6 -> 2024.06.24. | G46: ='42'!B10 -> 진성개발
A47: 43 | B47: 물품 | C47: 케이블카팀 | D47: 케이블카 주행륜 핀 구입 | E47: ='43'!E5 -> 3000000 | F47: ='43'!B6 -> 2024.06.26. | G47: ='43'!B10 -> 지제이테크
A48: 44 | B48: 용역 | C48: 케이블카팀 | D48: 욕지섬 모노레일 하부역사 증축 구조 안전성 검토 용역 | E48: ='44'!E5 -> 3000000 | F48: ='44'!B6 -> 2024.06.26. | G48: ='44'!B10 -> 건축사사무소 자유건축
A49: 45 | B49: 물품 | C49: 케이블카팀 | D49: 케이블카 이중화 인버터(B호기) 9년차 부품 구입 | E49: ='45'!E5 -> 8800000 | F49: ='45'!B6 -> 2024.06.26. | G49: ='45'!B10 -> 서진오토메이션

Sheet 1
A2: 연번 | B2: 1
A3: 계약명 | B3: 케이블카 상,하부 제어반 예비품 구입 계약 체결
A4: 예정가격 | B4: 9900000 | D4: 최초계약금액 | E4: 9359900
A5: 낙찰률 | B5: =E4/B4 -> 0.94544444 | D5: 계약금액 | E5: 9359900
A6: 계약일자 | B6: 2024.01.15. | D6: 시작일자 | E6: 2024.01.15.
A7: 계약방법 | B7: 수의계약 | D7: 종료일자 | E7: 2024.03.31.
A8: 계약유형 | B8: 물품 | D8: 검수일 | E8: 2024.03.27.
A9: 계약상대자 | B9: 업체명 | C9: 성명 | D9: 주소
B10: 주식회사 성공기전 | C10: 이상철 | D10: 인천 남둥구 선수촌공원로 1, D동 509호
A11: 수의계약사유 | B11: 「지방계약법 시행령」 제30조 제1항 제2호
A12: 사업장소 | B12: 통영케이블카

Sheet 2
A2: 연번 | B2: 2
A3: 계약명 | B3: 2024년 공사 그룹웨어 유지보수 용역 계약 체결
A4: 예정가격 | B4: 9636000 | D4: 최초계약금액 | E4: 9636000
A5: 낙찰률 | B5: =E4/B4 -> 1 | D5: 계약금액 | E5: 9636000
A6: 계약일자 | B6: 2024.01.29. | D6: 시작일자 | E6: 2024.02.01.
A7: 계약방법 | B7: 수의계약 | D7: 종료일자 | E7: 2025.01.31.
A8: 계약유형 | B8: 물품 | D8: 검수일 | E8: 2024.01.31.
A9: 계약상대자 | B9: 업체명 | C9: 성명 | D9: 주소
B10: ㈜더존비즈온 | C10: 김용우 | D10: 강원 춘천시 남산면 버들1길 130
A11: 수의계약사유 | B11: 「지방계약법 시행령」 제30조 제1항 제1호
A12: 사업장소 | B12: 통영관광개발공사

Sheet 3
A2: 연번 | B2: 3
A3: 계약명 | B3: 케이블카 하부스테이션 마이터기어 구입 계약 체결
A4: 예정가격 | B4: 9900000 | D4: 최초계약금액 | E4: 9000000
A5: 낙찰률 | B5: =E4/B4 -> 0.90909091 | D5: 계약금액 | E5: 9000000
A6: 계약일자 | B6: 2024.01.30. | D6: 시작일자 | E6: 2024.01.30.
A7: 계약방법 | B7: 수의계약 | D7: 종료일자 | E7: 2024.04.30.
A8: 계약유형 | B8: 물품 | D8: 검수일 | E8: 2024.02.20.
A9: 계약상대자 | B9: 업체명 | C9: 성명 | D9: 주소
B10: 주영테크 | C10: 김은숙 | D10: 경상남도 창원시 의창구 북면 운무로 783번길 16
A11: 수의계약사유 | B11: 「지방계약법 시행령」 제30조 제1항 제2호
A12: 사업장소 | B12: 통영케이블카

Sheet 4
A2: 연번 | B2: 4
A3: 계약명 | B3: 케이블카 수삭륜 및 안내륜 고무라이너 구입
A4: 예정가격 | B4: 9720000 | D4: 최초계약금액 | E4: 8529400
A5: 낙찰률 | B5: =E4/B4 -> 0.87751029 | D5: 계약금액 | E5: 8529400
A6: 계약일자 | B6: 2024.01.30. | D6: 시작일자 | E6: 2024.01.30.
A7: 계약방법 | B7: 수의계약 | D7: 종료일자 | E7: 2024.04.30.
A8: 계약유형 | B8: 물품 | D8: 검수일 | E8: 2024.02.17.
A9: 계약상대자 | B9: 업체명 | C9: 성명 | D9: 주소
B10: 부광고무산업사 | C10: 장병태 외 1명 | D10: 경상북도 경산시 압량면 가일길32길 10
A11: 수의계약사유 | B11: 「지방계약법 시행령」 제30조 제1항 제2호
A12: 사업장소 | B12: 통영케이블카

Sheet 5
A2: 연번 | B2: 5
A3: 계약명 | B3: 케이블카 구동 타이어 구입 계약 체결
A4: 예정가격 | B4: 9395000 | D4: 최초계약금액 | E4: 8892950
A5: 낙찰률 | B5: =E4/B4 -> 0.946562 | D5: 계약금액 | E5: 8892950
A6: 계약일자 | B6: 2024.01.30. | D6: 시작일자 | E6: 2024.01.30.
A7: 계약방법 | B7: 수의계약 | D7: 종료일자 | E7: 2024.02.29.
A8: 계약유형 | B8: 물품 | D8: 검수일 | E8: 2024.02.08.
A9: 계약상대자 | B9: 업체명 | C9: 성명 | D9: 주소
B10: 주식회사 신창코퍼레이션 | C10: 이륜걸 | D10: 서울특별시 강남구 논현로149길 69, 402호
A11: 수의계약사유 | B11: 「지방계약법 시행령」 제30조 제1항 제1호
A12: 사업장소 | B12: 통영케이블카

Sheet 6
A2: 연번 | B2: 6
A3: 계약명 | B3: 케이블카 스페이싱 모터 인버터 컨트롤 보드 구입 계약 체결
A4: 예정가격 | B4: 4950000 | D4: 최초계약금액 | E4: 4455000
A5: 낙찰률 | B5: =E4/B4 -> 0.9 | D5: 계약금액 | E5: 4455000
A6: 계약일자 | B6: 2024.02.02. | D6: 시작일자 | E6: 2024.02.02.
A7: 계약방법 | B7: 수의계약 | D7: 종료일자 | E7: 2024.02.29.
A8: 계약유형 | B8: 물품 | D8: 검수일 | E8: 2024.02.13.
A9: 계약상대자 | B9: 업체명 | C9: 성명 | D9: 주소
B10: 서진오토메이션 | C10: 김선구 | D10: 충청남도 천안시 서북구 백석공단1로 10, M동 427호
A11: 수의계약사유 | B11: 「지방계약법 시행령」 제30조 제1항 제2호
A12: 사업장소 | B12: 통영케이블카

Sheet 7
A2: 연번 | B2: 7
A3: 계약명 | B3: 디피랑 빔 프로젝터 수리 계약 체결
A4: 예정가격 | B4: 4000000 | D4: 최초계약금액 | E4: 3324020
A5: 낙찰률 | B5: =E4/B4 -> 0.831005 | D5: 계약금액 | E5: 3324020
A6: 계약일자 | B6: 2024.02.23. | D6: 시작일자 | E6: 2024.02.23.
A7: 계약방법 | B7: 수의계약 | D7: 종료일자 | E7: 2024.03.08.
A8: 계약유형 | B8: 물품 | D8: 검수일 | E8: 2024.02.28.
A9: 계약상대자 | B9: 업체명 | C9: 성명 | D9: 주소
B10: 컴앤아이티 | C10: 김영희 | D10: 경상남도 창원시 마산합포구 용마로 77, 502호
A11: 수의계약사유 | B11: 「지방계약법 시행령」 제30조 제1항 제2호
A12: 사업장소 | B12: 디피랑

Sheet 8
A2: 연번 | B2: 8
A3: 계약명 | B3: 케이블카 상부 전기설비 ACB(기중차단기) 구입 계약 체결
A4: 예정가격 | B4: 5500000 | D4: 최초계약금액 | E4: 4972000
A5: 낙찰률 | B5: =E4/B4 -> 0.904 | D5: 계약금액 | E5: 4972000
A6: 계약일자 | B6: 2024.02.26. | D6: 시작일자 | E6: 2024.02.26.
A7: 계약방법 | B7: 수의계약 | D7: 종료일자 | E7: 2024.03.11.
A8: 계약유형 | B8: 물품 | D8: 검수일 | E8: 2024.02.29.
A9: 계약상대자 | B9: 업체명 | C9: 성명 | D9: 주소
B10: 광림전기공사 | C10: 마현철 | D10: 경상남도 통영시 용남면 장문로 425
A11: 수의계약사유 | B11: 「지방계약법 시행령」 제30조 제1항 제2호
A12: 사업장소 | B12: 통영케이블카

Sheet 9
A2: 연번 | B2: 9
A3: 계약명 | B3: 케이블카 상부 비상발전기 제어판 구입 계약 체결
A4: 예정가격 | B4: 2500000 | D4: 최초계약금액 | E4: 2255000
A5: 낙찰률 | B5: =E4/B4 -> 0.902 | D5: 계약금액 | E5: 2255000
A6: 계약일자 | B6: 2024.02.26. | D6: 시작일자 | E6: 2024.02.26.
A7: 계약방법 | B7: 수의계약 | D7: 종료일자 | E7: 2024.03.11.
A8: 계약유형 | B8: 물품 | D8: 검수일 | E8: 2024.03.05.
A9: 계약상대자 | B9: 업체명 | C9: 성명 | D9: 주소
B10: 파워텍에너지 주식회사 | C10: 이순도 | D10: 부산광역시 강서구 공항앞길 108, 2층 1호
A11: 수의계약사유 | B11: 「지방계약법 시행령」 제30조 제1항 제2호
A12: 사업장소 | B12: 통영케이블카

Sheet 10
A2: 연번 | B2: 10
A3: 계약명 | B3: 욕지섬모노레일 랙기어, 피니언기어 및 주행롤러 베어링 구조·피로해석 용역 계약 체결
A4: 예정가격 | B4: 4900000 | D4: 최초계약금액 | E4: 4317115
A5: 낙찰률 | B5: =E4/B4 -> 0.88104388 | D5: 계약금액 | E5: 4317115
A6: 계약일자 | B6: 2024.02.26. | D6: 시작일자 | E6: 2024.03.29.
A7: 계약방법 | B7: 수의계약 | D7: 종료일자 | E7: 2024.03.29.
A8: 계약유형 | B8: 용역 | D8: 검수일 | E8: 2024.03.29.
A9: 계약상대자 | B9: 업체명 | C9: 성명 | D9: 주소
B10: 가천대학교 산학협력단 | C10: 송윤재 | D10: 경기도 성남시 수정구 성남대로 1342
A11: 수의계약사유 | B11: 「지방계약법 시행령」 제30조 제1항 제2호
A12: 사업장소 | B12: 욕지섬 모노레일

Sheet 11
A2: 연번 | B2: 11
A3: 계약명 | B3: 욕지섬 모노레일 구조안전성 검토 용역 계약 체결
A4: 예정가격 | B4: 21800000 | D4: 최초계약금액 | E4: 19456000
A5: 낙찰률 | B5: =E4/B4 -> 0.89247706 | D5: 계약금액 | E5: 19456000
A6: 계약일자 | B6: 2024.03.04. | D6: 시작일자 | E6: 2024.03.04.
A7: 계약방법 | B7: 수의계약 | D7: 종료일자 | E7: 2024.05.02.
A8: 계약유형 | B8: 용역 | D8: 검수일 | E8: 2024.05.02.
A9: 계약상대자 | B9: 업체명 | C9: 성명 | D9: 주소
B10: ㈜대농구조안전연구소 | C10: 정철호 | D10: 부산광역시 동래구 온천천로 399번길 14, 5층
A11: 수의계약사유 | B11: 「지방계약법 시행령」 제30조 제1항 제2호
A12: 사업장소 | B12: 욕지섬 모노레일

Sheet 12
A2: 연번 | B2: 12
A3: 계약명 | B3: 디피랑 스피커 구입 계약 체결
A4: 예정가격 | B4: 13000000 | D4: 최초계약금액 | E4: 12100000
A5: 낙찰률 | B5: =E4/B4 -> 0.93076923 | D5: 계약금액 | E5: 12100000
A6: 계약일자 | B6: 2024.03.12. | D6: 시작일자 | E6: 2024.03.12.
A7: 계약방법 | B7: 수의계약 | D7: 종료일자 | E7: 2024.04.15.
A8: 계약유형 | B8: 물품 | D8: 검수일 | E8: 2024.03.19.
A9: 계약상대자 | B9: 업체명 | C9: 성명 | D9: 주소
B10: 소리나무 | C10: 심도성 | D10: 부산광역시 부산진구 가야공원로14번길 13, 1,2층
A11: 수의계약사유 | B11: 「지방계약법 시행령」 제30조 제1항 제2호
A12: 사업장소 | B12: 디피랑

Sheet 13
A2: 연번 | B2: 13
A3: 계약명 | B3: 케이블카 베어링 구입 계약 체결
A4: 예정가격 | B4: 4950000 | D4: 최초계약금액 | E4: 4634300
A5: 낙찰률 | B5: =E4/B4 -> 0.93622222 | D5: 계약금액 | E5: 4634300
A6: 계약일자 | B6: 2024.03.12. | D6: 시작일자 | E6: 2024.03.12.
A7: 계약방법 | B7: 수의계약 | D7: 종료일자 | E7: 2024.03.26.
A8: 계약유형 | B8: 물품 | D8: 검수일 | E8: 2024.03.15.
A9: 계약상대자 | B9: 업체명 | C9: 성명 | D9: 주소
B10: 신륭기공㈜ | C10: 김재홍 | D10: 서울특별시 영등포구 영등포로 109
A11: 수의계약사유 | B11: 「지방계약법 시행령」 제30조 제1항 제2호
A12: 사업장소 | B12: 통영케이블카

Sheet 14
A2: 연번 | B2: 14
A3: 계약명 | B3: 케이블카 메인 인버터(B호기) 냉각팬 구입 계약 체결
A4: 예정가격 | B4: 3000000 | D4: 최초계약금액 | E4: 2640000
A5: 낙찰률 | B5: =E4/B4 -> 0.88 | D5: 계약금액 | E5: 2640000
A6: 계약일자 | B6: 2024.03.18. | D6: 시작일자 | E6: 2024.04.18.
A7: 계약방법 | B7: 수의계약 | D7: 종료일자 | E7: 2024.04.18.
A8: 계약유형 | B8: 물품 | D8: 검수일 | E8: 2024.04.02.
A9: 계약상대자 | B9: 업체명 | C9: 성명 | D9: 주소
B10: 서진오토메이션 | C10: 김선구 | D10: 충청남도 천안시 서북구 백석공단1로 10, M동 427호
A11: 수의계약사유 | B11: 「지방계약법 시행령」 제30조 제1항 제2호
A12: 사업장소 | B12: 통영케이블카

Sheet 15
A2: 연번 | B2: 15
A3: 계약명 | B3: 케이블카 상부 스테이션 동력 전달 기어박스 구입 계약 체결
A4: 예정가격 | B4: 9900000 | D4: 최초계약금액 | E4: 9400000
A5: 낙찰률 | B5: =E4/B4 -> 0.94949495 | D5: 계약금액 | E5: 9400000
A6: 계약일자 | B6: 2024.03.19. | D6: 시작일자 | E6: 2024.03.19.
A7: 계약방법 | B7: 수의계약 | D7: 종료일자 | E7: 2024.06.30.
A8: 계약유형 | B8: 물품 | D8: 검수일 | E8: 2024.04.23.
A9: 계약상대자 | B9: 업체명 | C9: 성명 | D9: 주소
B10: 지제이테크 | C10: 임규묵 | D10: 인천광역시 남동구 온청로 4-7, B동 330호
A11: 수의계약사유 | B11: 「지방계약법 시행령」 제30조 제1항 제2호
A12: 사업장소 | B12: 통영케이블카

Sheet 16
A2: 연번 | B2: 16
A3: 계약명 | B3: 케이블카 리니어모터 구입 계약 체결
A4: 예정가격 | B4: 7800000 | D4: 최초계약금액 | E4: 7590000
A5: 낙찰률 | B5: =E4/B4 -> 0.97307692 | D5: 계약금액 | E5: 7590000
A6: 계약일자 | B6: 2024.03.25. | D6: 시작일자 | E6: 2024.03.25.
A7: 계약방법 | B7: 수의계약 | D7: 종료일자 | E7: 2024.05.31.
A8: 계약유형 | B8: 물품 | D8: 검수일 | E8: 2024.05.10.
A9: 계약상대자 | B9: 업체명 | C9: 성명 | D9: 주소
B10: ㈜케이엘에스씨 | C10: 이현우 | D10: 경기도 군포시 엘에스로 172, 303호
A11: 수의계약사유 | B11: 「지방계약법 시행령」 제30조 제1항 제2호
A12: 사업장소 | B12: 통영케이블카

Sheet 17
A2: 연번 | B2: 17
A3: 계약명 | B3: ISO 45001 안전보건경영시스템 인증 컨설팅 용역 계약 체결
A4: 예정가격 | B4: 10000000 | D4: 최초계약금액 | E4: 7700000
A5: 낙찰률 | B5: =E4/B4 -> 0.77 | D5: 계약금액 | E5: 7700000
A6: 계약일자 | B6: 2024.04.01. | D6: 시작일자 | E6: 2024.04.01.
A7: 계약방법 | B7: 수의계약 | D7: 종료일자 | E7: 2024.07.31.
A8: 계약유형 | B8: 용역 | D8: 검수일
A9: 계약상대자 | B9: 업체명 | C9: 성명 | D9: 주소
B10: 다빛파트너즈 | C10: 이승권 | D10: 경기도 성남시 수정구 위례동로 135, 801-38호
A11: 수의계약사유 | B11: 「지방계약법 시행령」 제30조 제1항 제2호
A12: 사업장소 | B12: 통영관광개발공사

Sheet 18
A2: 연번 | B2: 18
A3: 계약명 | B3: 디피랑 LED BAR 조명 구입 계약 체결
A4: 예정가격 | B4: 17050000 | D4: 최초계약금액 | E4: 15125000
A5: 낙찰률 | B5: =E4/B4 -> 0.88709677 | D5: 계약금액 | E5: 15125000
A6: 계약일자 | B6: 2024.04.08. | D6: 시작일자 | E6: 2024.04.08.
A7: 계약방법 | B7: 수의계약 | D7: 종료일자 | E7: 2024.06.07.
A8: 계약유형 | B8: 물품 | D8: 검수일 | E8: 2024.06.05.
A9: 계약상대자 | B9: 업체명 | C9: 성명 | D9: 주소
B10: ㈜트라디아 | C10: 이창현 | D10: 경기도 김포시 양촌읍 황금로 117, 이젠테크노존동 5층 511호
A11: 수의계약사유 | B11: 「지방계약법 시행령」 제30조 제1항 제2호
A12: 사업장소 | B12: 디피랑

Sheet 19
A2: 연번 | B2: 19
A3: 계약명 | B3: 케이블카 개폐창문 가스실린더 구입
A4: 예정가격 | B4: 7400000 | D4: 최초계약금액 | E4: 6600000
A5: 낙찰률 | B5: =E4/B4 -> 0.89189189 | D5: 계약금액 | E5: 6600000
A6: 계약일자 | B6: 2024.04.15. | D6: 시작일자 | E6: 2024.04.15.
A7: 계약방법 | B7: 수의계약 | D7: 종료일자 | E7: 2024.07.31.
A8: 계약유형 | B8: 물품 | D8: 검수일 | E8: 2024.05.28.
A9: 계약상대자 | B9: 업체명 | C9: 성명 | D9: 주소
B10: 대현정공 | C10: 김현철 | D10: 경남 김해시 한림면 간산로 36-12
A11: 수의계약사유 | B11: 「지방계약법 시행령」 제30조 제1항 제2호
A12: 사업장소 | B12: 통영케이블카

Sheet 20
A2: 연번 | B2: 20
A3: 계약명 | B3: 케이블카 악삭기 구입
A4: 예정가격 | B4: 329000000 | D4: 최초계약금액 | E4: 302209600
A5: 낙찰률 | B5: =E4/B4 -> 0.91857021 | D5: 계약금액 | E5: 302209600
A6: 계약일자 | B6: 2024.04.16. | D6: 시작일자 | E6: 2024.04.16.
A7: 계약방법 | B7: 수의계약 | D7: 종료일자 | E7: 2024.12.26.
A8: 계약유형 | B8: 물품 | D8: 검수일
A9: 계약상대자 | B9: 업체명 | C9: 성명 | D9: 주소
B10: 주식회사 신창코퍼레이션 | C10: 이륜걸 | D10: 서울특별시 강남구 논현로149길 69, 402호
A11: 수의계약사유 | B11: 「지방계약법 시행령」 제30조 제1항 제1호
A12: 사업장소 | B12: 통영케이블카

Sheet 21
A2: 연번 | B2: 21
A3: 계약명 | B3: 디피랑 직원 춘추계 근무복 구입
A4: 예정가격 | B4: 3042000 | D4: 최초계약금액 | E4: 2889900
A5: 낙찰률 | B5: =E4/B4 -> 0.95 | D5: 계약금액 | E5: 2889900
A6: 계약일자 | B6: 2024.04.17. | D6: 시작일자 | E6: 2024.04.17.
A7: 계약방법 | B7: 수의계약 | D7: 종료일자 | E7: 2024.05.16.
A8: 계약유형 | B8: 물품 | D8: 검수일 | E8: 2024.04.23
A9: 계약상대자 | B9: 업체명 | C9: 성명 | D9: 주소
B10: TNF 거제점 | C10: 김성희 | D10: 경남 거제시 서문로 52
A11: 수의계약사유 | B11: 「지방계약법 시행령」 제30조 제1항 제2호
A12: 사업장소 | B12: 디피랑

Sheet 22
A2: 연번 | B2: 22
A3: 계약명 | B3: 디피랑 빔 프로젝터 1차 수리
A4: 예정가격 | B4: 3800000 | D4: 최초계약금액 | E4: 3356580
A5: 낙찰률 | B5: =E4/B4 -> 0.88331053 | D5: 계약금액 | E5: 3356580
A6: 계약일자 | B6: 2024.04.19. | D6: 시작일자 | E6: 2024.04.19.
A7: 계약방법 | B7: 수의계약 | D7: 종료일자 | E7: 2024.05.03.
A8: 계약유형 | B8: 물품 | D8: 검수일 | E8: 2024.04.23.
A9: 계약상대자 | B9: 업체명 | C9: 성명 | D9: 주소
B10: 컴앤아이티 | C10: 김영희 | D10: 경상남도 창원시 마산합포구 용마로 77, 502호
A11: 수의계약사유 | B11: 「지방계약법 시행령」 제30조 제1항 제2호
A12: 사업장소 | B12: 디피랑

Sheet 23
A2: 연번 | B2: 23
A3: 계약명 | B3: 케이블카 유니버셜 조인트 구입
A4: 예정가격 | B4: 9900000 | D4: 최초계약금액 | E4: 8017300
A5: 낙찰률 | B5: =E4/B4 -> 0.80982828 | D5: 계약금액 | E5: 8017300
A6: 계약일자 | B6: 2024.04.19. | D6: 시작일자 | E6: 2024.04.19.
A7: 계약방법 | B7: 수의계약 | D7: 종료일자 | E7: 2024.07.31.
A8: 계약유형 | B8: 물품 | D8: 검수일 | E8: 2024.05.12.
A9: 계약상대자 | B9: 업체명 | C9: 성명 | D9: 주소
B10: 주식회사 신창코퍼레이션 | C10: 이륜걸 | D10: 서울특별시 강남구 논현로149길 69, 402호
A11: 수의계약사유 | B11: 「지방계약법 시행령」 제25조 제1항 제4호 아목
A12: 사업장소 | B12: 통영케이블카

Sheet 24
A2: 연번 | B2: 24
A3: 계약명 | B3: 통영어드벤처타워 연속빌레이(SSB) 구입
A4: 예정가격 | B4: 21780000 | D4: 최초계약금액 | E4: 20250000
A5: 낙찰률 | B5: =E4/B4 -> 0.92975207 | D5: 계약금액 | E5: 20250000
A6: 계약일자 | B6: 2024.04.22. | D6: 시작일자 | E6: 2024.04.22.
A7: 계약방법 | B7: 수의계약 | D7: 종료일자 | E7: 2024.06.21.
A8: 계약유형 | B8: 물품 | D8: 검수일 | E8: 2024.06.14.
A9: 계약상대자 | B9: 업체명 | C9: 성명 | D9: 주소
B10: 어드벤처 주식회사 | C10: 길승환 | D10: 경기 하남시 초광산단서로 4, 지하1층
A11: 수의계약사유 | B11: 「지방계약법 시행령」 제30조 제1항 제2호
A12: 사업장소 | B12: 통영케이블카

Sheet 25
A2: 연번 | B2: 25
A3: 계약명 | B3: 케이블카 안내륜 구입
A4: 예정가격 | B4: 9800000 | D4: 최초계약금액 | E4: 8470000
A5: 낙찰률 | B5: =E4/B4 -> 0.86428571 | D5: 계약금액 | E5: 8470000
A6: 계약일자 | B6: 2024.05.02. | D6: 시작일자 | E6: 2024.05.02.
A7: 계약방법 | B7: 수의계약 | D7: 종료일자 | E7: 2024.05.31.
A8: 계약유형 | B8: 물품 | D8: 검수일 | E8: 2024.05.27.
A9: 계약상대자 | B9: 업체명 | C9: 성명 | D9: 주소
B10: 쌍림비앤피 | C10: 김정환 | D10: 경남 양산시 동면 금오6길 37, 1층 102호
A11: 수의계약사유 | B11: 「지방계약법 시행령」 제30조 제1항 제2호
A12: 사업장소 | B12: 통영케이블카

Sheet 26
A2: 연번 | B2: 26
A3: 계약명 | B3: 케이블카 풍향·풍속계 구입
A4: 예정가격 | B4: 4800000 | D4: 최초계약금액 | E4: 4400000
A5: 낙찰률 | B5: =E4/B4 -> 0.91666667 | D5: 계약금액 | E5: 4400000
A6: 계약일자 | B6: 2024.05.02. | D6: 시작일자 | E6: 2024.05.02.
A7: 계약방법 | B7: 수의계약 | D7: 종료일자 | E7: 2024.06.30.
A8: 계약유형 | B8: 물품 | D8: 검수일 | E8: 2024.05.24.
A9: 계약상대자 | B9: 업체명 | C9: 성명 | D9: 주소
B10: ㈜영전시스템 | C10: 김효정 | D10: 경기 부천시 원미구 옥산로 210
A11: 수의계약사유 | B11: 「지방계약법 시행령」 제30조 제1항 제2호
A12: 사업장소 | B12: 통영케이블카

Sheet 27
A2: 연번 | B2: 27
A3: 계약명 | B3: 디피랑 팩레이저 조명 구입
A4: 예정가격 | B4: 15125000 | D4: 최초계약금액 | E4: 13750000
A5: 낙찰률 | B5: =E4/B4 -> 0.90909091 | D5: 계약금액 | E5: 13750000
A6: 계약일자 | B6: 2024.05.10. | D6: 시작일자 | E6: 2024.05.10.
A7: 계약방법 | B7: 수의계약 | D7: 종료일자 | E7: 2024.07.31.
A8: 계약유형 | B8: 물품 | D8: 검수일 | E8: 2024.06.28.
A9: 계약상대자 | B9: 업체명 | C9: 성명 | D9: 주소
B10: 제이에스앤 | C10: 김지수 | D10: 경남 양산시 어실로 270
A11: 수의계약사유 | B11: 「지방계약법 시행령」 제30조 제1항 제2호
A12: 사업장소 | B12: 디피랑

Sheet 28
A2: 연번 | B2: 28
A3: 계약명 | B3: 케이블카 악삭력 측정용 로드셀 구입
A4: 예정가격 | B4: 9800000 | D4: 최초계약금액 | E4: 9680000
A5: 낙찰률 | B5: =E4/B4 -> 0.9877551 | D5: 계약금액 | E5: 9680000
A6: 계약일자 | B6: 2024.05.08. | D6: 시작일자 | E6: 2024.05.08.
A7: 계약방법 | B7: 수의계약 | D7: 종료일자 | E7: 2024.07.31.
A8: 계약유형 | B8: 물품 | D8: 검수일 | E8: 2024.05.20.
A9: 계약상대자 | B9: 업체명 | C9: 성명 | D9: 주소
B10: 씨앤디테크 | C10: 전원근 | D10: 경기 화성시 동탄영천로 131, 10층 18호
A11: 수의계약사유 | B11: 「지방계약법 시행령」 제30조 제1항 제2호
A12: 사업장소 | B12: 통영케이블카

Sheet 29
A2: 연번 | B2: 29
A3: 계약명 | B3: 디피랑 산업용 선풍기 구입
A4: 예정가격 | B4: 2400000 | D4: 최초계약금액 | E4: 2085000
A5: 낙찰률 | B5: =E4/B4 -> 0.86875 | D5: 계약금액 | E5: 2085000
A6: 계약일자 | B6: 2024.05.17 | D6: 시작일자 | E6: 2024.05.17.
A7: 계약방법 | B7: 수의계약 | D7: 종료일자 | E7: 2024.05.31.
A8: 계약유형 | B8: 물품 | D8: 검수일 | E8: 2024.05.23.
A9: 계약상대자 | B9: 업체명 | C9: 성명 | D9: 주소
B10: 주식회사 상상그램 | C10: 심성훈 | D10: 인천 남동구 남동대로 353, 3층 341
A11: 수의계약사유 | B11: 「지방계약법 시행령」 제30조 제1항 제2호
A12: 사업장소 | B12: 디피랑

Sheet 30
A2: 연번 | B2: 30
A3: 계약명 | B3: 케이블카 악삭기 스냅링
A4: 예정가격 | B4: 4029000 | D4: 최초계약금액 | E4: 3630000
A5: 낙찰률 | B5: =E4/B4 -> 0.90096798 | D5: 계약금액 | E5: 3630000
A6: 계약일자 | B6: 2024.05.21. | D6: 시작일자 | E6: 2024.05.21.
A7: 계약방법 | B7: 수의계약 | D7: 종료일자 | E7: 2024.08.31.
A8: 계약유형 | B8: 물품 | D8: 검수일
A9: 계약상대자 | B9: 업체명 | C9: 성명 | D9: 주소
B10: 주식회사 신창코퍼레이션 | C10: 이륜걸 | D10: 서울특별시 강남구 논현로149길 69, 402호
A11: 수의계약사유 | B11: 「지방계약법 시행령」 제25조 제1항 제4호 아목
A12: 사업장소 | B12: 통영케이블카

Sheet 31
A2: 연번 | B2: 31
A3: 계약명 | B3: 케이블카 지삭 방청 장비 구입
A4: 예정가격 | B4: 6400000 | D4: 최초계약금액 | E4: 5885000
A5: 낙찰률 | B5: =E4/B4 -> 0.91953125 | D5: 계약금액 | E5: 5885000
A6: 계약일자 | B6: 2024.05.21. | D6: 시작일자 | E6: 2024.05.21.
A7: 계약방법 | B7: 수의계약 | D7: 종료일자 | E7: 2024.06.30.
A8: 계약유형 | B8: 물품 | D8: 검수일 | E8: 2024.06.24.
A9: 계약상대자 | B9: 업체명 | C9: 성명 | D9: 주소
B10: 주식회사 벡토루브 | C10: 강희천 | D10: 인천 연수구 송도미래로 30, B동 3층 305호
A11: 수의계약사유 | B11: 「지방계약법 시행령」 제30조 제1항 제2호
A12: 사업장소 | B12: 통영케이블카

Sheet 32
A2: 연번 | B2: 32
A3: 계약명 | B3: 디피랑 빔 프로젝터 2차 수리
A4: 예정가격 | B4: 4400000 | D4: 최초계약금액 | E4: 4051560
A5: 낙찰률 | B5: =E4/B4 -> 0.92080909 | D5: 계약금액 | E5: 4051560
A6: 계약일자 | B6: 2024.05.30. | D6: 시작일자 | E6: 2024.05.30.
A7: 계약방법 | B7: 수의계약 | D7: 종료일자 | E7: 2024.06.14.
A8: 계약유형 | B8: 물품 | D8: 검수일 | E8: 2024.06.05.
A9: 계약상대자 | B9: 업체명 | C9: 성명 | D9: 주소
B10: 컴앤아이티 | C10: 김영희 | D10: 경상남도 창원시 마산합포구 용마로 77, 502호
A11: 수의계약사유 | B11: 「지방계약법 시행령」 제30조 제1항 제2호
A12: 사업장소 | B12: 디피랑

Sheet 33
A2: 연번 | B2: 33
A3: 계약명 | B3: 케이블카 악삭기 오퍼레이팅 롤러 및 스러스트 와셔 구입
A4: 예정가격 | B4: 5950000 | D4: 최초계약금액 | E4: 5170000
A5: 낙찰률 | B5: =E4/B4 -> 0.86890756 | D5: 계약금액 | E5: 5170000
A6: 계약일자 | B6: 2024.06.03. | D6: 시작일자 | E6: 2024.06.03.
A7: 계약방법 | B7: 수의계약 | D7: 종료일자 | E7: 2024.08.31.
A8: 계약유형 | B8: 물품 | D8: 검수일
A9: 계약상대자 | B9: 업체명 | C9: 성명 | D9: 주소
B10: 쌍림비앤피 | C10: 김정환 | D10: 경남 양산시 동면 금오6길 37, 1층 102호
A11: 수의계약사유 | B11: 「지방계약법 시행령」 제30조 제1항 제2호
A12: 사업장소 | B12: 통영케이블카

Sheet 34
A2: 연번 | B2: 34
A3: 계약명 | B3: 2024년 공사 위험성평가 용역 계약 체결
A4: 예정가격 | B4: 5000000 | D4: 최초계약금액 | E4: 4950000
A5: 낙찰률 | B5: =E4/B4 -> 0.99 | D5: 계약금액 | E5: 4950000
A6: 계약일자 | B6: 2024.06.18 | D6: 시작일자 | E6: 2024.06.18
A7: 계약방법 | B7: 수의계약 | D7: 종료일자 | E7: 2024.09.20.
A8: 계약유형 | B8: 물품 | D8: 검수일
A9: 계약상대자 | B9: 업체명 | C9: 성명 | D9: 주소
B10: (사)대한산업안전협회경남서부지회 | C10: 김종인 | D10: 경남 진주시 동진로 111, 12층 1202호
A11: 수의계약사유 | B11: 「지방계약법 시행령」 제30조 제1항 제2호
A12: 사업장소

Sheet 35
A2: 연번 | B2: 35
A3: 계약명 | B3: 인권경영시스템 도입 인증 용역
A4: 예정가격 | B4: 6200000 | D4: 최초계약금액 | E4: 6050000
A5: 낙찰률 | B5: =E4/B4 -> 0.97580645 | D5: 계약금액 | E5: 6050000
A6: 계약일자 | B6: 2024.06.17. | D6: 시작일자 | E6: 2024.06.17.
A7: 계약방법 | B7: 수의계약 | D7: 종료일자 | E7: 2024.10.31.
A8: 계약유형 | B8: 용역 | D8: 검수일
A9: 계약상대자 | B9: 업체명 | C9: 성명 | D9: 주소
B10: ㈜한국경영인증원 | C10: 황은주 | D10: 서울 영등포구 경인로 775, 1동 12층 1204호
A11: 수의계약사유 | B11: 「지방계약법 시행령」 제30조 제1항 제2호
A12: 사업장소 | B12: 통영관광개발공사

Sheet 36
A2: 연번 | B2: 36
A3: 계약명 | B3: 케이블카 악삭기 주름고무 구입
A4: 예정가격 | B4: 4740000 | D4: 최초계약금액 | E4: 4290000
A5: 낙찰률 | B5: =E4/B4 -> 0.90506329 | D5: 계약금액 | E5: 4290000
A6: 계약일자 | B6: 2024.06.12. | D6: 시작일자 | E6: 2024.06.12.
A7: 계약방법 | B7: 수의계약 | D7: 종료일자 | E7: 2024.07.31.
A8: 계약유형 | B8: 물품 | D8: 검수일
A9: 계약상대자 | B9: 업체명 | C9: 성명 | D9: 주소
B10: 쌍림비앤피 | C10: 김정환 | D10: 경남 양산시 동면 금오6길 37, 1층 102호
A11: 수의계약사유 | B11: 「지방계약법 시행령」 제30조 제1항 제2호
A12: 사업장소 | B12: 통영케이블카

Sheet 37
A2: 연번 | B2: 37
A3: 계약명 | B3: 케이블카 캐리지 메인 프레임 구입
A4: 예정가격 | B4: 7500000 | D4: 최초계약금액 | E4: 5940000
A5: 낙찰률 | B5: =E4/B4 -> 0.792 | D5: 계약금액 | E5: 5940000
A6: 계약일자 | B6: 2024.06.13. | D6: 시작일자 | E6: 2024.06.13.
A7: 계약방법 | B7: 수의계약 | D7: 종료일자 | E7: 2024.10.31.
A8: 계약유형 | B8: 물품 | D8: 검수일
A9: 계약상대자 | B9: 업체명 | C9: 성명 | D9: 주소
B10: 나산기계 주식회사 | C10: 유병화 | D10: 인천 남동구 청능대로448번길 111
A11: 수의계약사유 | B11: 「지방계약법 시행령」 제30조 제1항 제2호
A12: 사업장소 | B12: 통영케이블카

Sheet 38
A2: 연번 | B2: 38
A3: 계약명 | B3: 케이블카 캐빈 도어브라켓 구입
A4: 예정가격 | B4: 7440000 | D4: 최초계약금액 | E4: 6656320
A5: 낙찰률 | B5: =E4/B4 -> 0.89466667 | D5: 계약금액 | E5: 6656320
A6: 계약일자 | B6: 2024.06.17. | D6: 시작일자 | E6: 2024.06.17.
A7: 계약방법 | B7: 수의계약 | D7: 종료일자 | E7: 2024.09.30.
A8: 계약유형 | B8: 물품 | D8: 검수일
A9: 계약상대자 | B9: 업체명 | C9: 성명 | D9: 주소
B10: 주식회사 신창코퍼레이션 | C10: 이륜걸 | D10: 서울특별시 강남구 논현로149길 69, 402호
A11: 수의계약사유 | B11: 「지방계약법 시행령」 제25조 제1항 제4호 아목
A12: 사업장소 | B12: 통영케이블카

Sheet 39
A2: 연번 | B2: 39
A3: 계약명 | B3: 디피랑 팔찌 입장권 구입
A4: 예정가격 | B4: 3900000 | D4: 최초계약금액 | E4: 3300000
A5: 낙찰률 | B5: =E4/B4 -> 0.84615385 | D5: 계약금액 | E5: 3300000
A6: 계약일자 | B6: 2024.06.20. | D6: 시작일자 | E6: 2024.06.20.
A7: 계약방법 | B7: 수의계약 | D7: 종료일자 | E7: 2024.07.31.
A8: 계약유형 | B8: 물품 | D8: 검수일
A9: 계약상대자 | B9: 업체명 | C9: 성명 | D9: 주소
B10: 제이텍 스크린 | C10: 곽혜주 외 1명 | D10: 경기 부천시 부천로 323, 6층 605, 606호
A11: 수의계약사유 | B11: 「지방계약법 시행령」 제30조 제1항 제2호
A12: 사업장소 | B12: 디피랑

Sheet 40
A2: 연번 | B2: 40
A3: 계약명 | B3: 2024회계연도 결산감사 용역
A4: 예정가격 | B4: 18000000 | D4: 최초계약금액 | E4: 17100000
A5: 낙찰률 | B5: =E4/B4 -> 0.95 | D5: 계약금액 | E5: 17100000
A6: 계약일자 | B6: 2024.06.21. | D6: 시작일자 | E6: 2024.06.21.
A7: 계약방법 | B7: 수의계약 | D7: 종료일자 | E7: 2025.06.20.
A8: 계약유형 | B8: 용역 | D8: 검수일
A9: 계약상대자 | B9: 업체명 | C9: 성명 | D9: 주소
B10: 윤호진세무회계사무소 | C10: 윤호진 | D10: 경남 거제시 거제중앙로 1933
A11: 수의계약사유 | B11: 「지방계약법」 제66조
A12: 사업장소 | B12: 통영관광개발공사

Sheet 41
A2: 연번 | B2: 41
A3: 계약명 | B3: 디피랑 하계 근무복 구입
A4: 예정가격 | B4: 1800000 | D4: 최초계약금액 | E4: 1611000
A5: 낙찰률 | B5: =E4/B4 -> 0.895 | D5: 계약금액 | E5: 1611000
A6: 계약일자 | B6: 2024.06.21. | D6: 시작일자 | E6: 2024.06.21.
A7: 계약방법 | B7: 수의계약 | D7: 종료일자 | E7: 2024.07.20.
A8: 계약유형 | B8: 물품 | D8: 검수일
A9: 계약상대자 | B9: 업체명 | C9: 성명 | D9: 주소
B10: 네파 서울 신당점 | C10: 이철규 외 1명 | D10: 서울 중구 퇴계로 426-3, 1층
A11: 수의계약사유 | B11: 「지방계약법 시행령」 제30조 제1항 제2호
A12: 사업장소 | B12: 디피랑

Sheet 42
A2: 연번 | B2: 42
A3: 계약명 | B3: 케이블카 상부역사 PIT층 도장공사
A4: 예정가격 | B4: 21800000 | D4: 최초계약금액 | E4: 20800000
A5: 낙찰률 | B5: =E4/B4 -> 0.95412844 | D5: 계약금액 | E5: 20800000
A6: 계약일자 | B6: 2024.06.24. | D6: 시작일자 | E6: 2024.06.24.
A7: 계약방법 | B7: 수의계약 | D7: 종료일자 | E7: 2024.07.22.
A8: 계약유형 | B8: 공사 | D8: 검수일
A9: 계약상대자 | B9: 업체명 | C9: 성명 | D9: 주소
B10: 진성개발 | C10: 성동진 | D10: 경남 통영시 광도면 노산2길 76
A11: 수의계약사유 | B11: 「지방계약법 시행령」 제30조 제1항 제2호
A12: 사업장소 | B12: 통영케이블카

Sheet 43
A2: 연번 | B2: 43
A3: 계약명 | B3: 케이블카 주행륜 핀 구입
A4: 예정가격 | B4: 3600000 | D4: 최초계약금액 | E4: 3000000
A5: 낙찰률 | B5: =E4/B4 -> 0.83333333 | D5: 계약금액 | E5: 3000000
A6: 계약일자 | B6: 2024.06.26. | D6: 시작일자 | E6: 2024.06.26.
A7: 계약방법 | B7: 수의계약 | D7: 종료일자 | E7: 2024.09.30.
A8: 계약유형 | B8: 물품 | D8: 검수일
A9: 계약상대자 | B9: 업체명 | C9: 성명 | D9: 주소
B10: 지제이테크 | C10: 임규묵 | D10: 인천광역시 남동구 온청로 4-7, B동 330호
A11: 수의계약사유 | B11: 「지방계약법 시행령」 제30조 제1항 제2호
A12: 사업장소 | B12: 통영케이블카

Sheet 44
A2: 연번 | B2: 44
A3: 계약명 | B3: 욕지섬 모노레일 하부역사 증축 구조 안전성 검토 용역
A4: 예정가격 | B4: 3000000 | D4: 최초계약금액 | E4: 3000000
A5: 낙찰률 | B5: =E4/B4 -> 1 | D5: 계약금액 | E5: 3000000
A6: 계약일자 | B6: 2024.06.26. | D6: 시작일자 | E6: 2024.06.26.
A7: 계약방법 | B7: 수의계약 | D7: 종료일자 | E7: 2024.08.24.
A8: 계약유형 | B8: 용역 | D8: 검수일
A9: 계약상대자 | B9: 업체명 | C9: 성명 | D9: 주소
B10: 건축사사무소 자유건축 | C10: 이석재 | D10: 경남 통영시 안개3길 65
A11: 수의계약사유 | B11: 「지방계약법 시행령」 제30조 제1항 제2호
A12: 사업장소 | B12: 욕지섬 모노레일

Sheet 45
A2: 연번 | B2: 45
A3: 계약명 | B3: 케이블카 이중화 인버터(B호기) 9년차 부품 구입
A4: 예정가격 | B4: 9680000 | D4: 최초계약금액 | E4: 8800000
A5: 낙찰률 | B5: =E4/B4 -> 0.90909091 | D5: 계약금액 | E5: 8800000
A6: 계약일자 | B6: 2024.06.26. | D6: 시작일자 | E6: 2024.06.26.
A7: 계약방법 | B7: 수의계약 | D7: 종료일자 | E7: 2024.09.10.
A8: 계약유형 | B8: 물품 | D8: 검수일
A9: 계약상대자 | B9: 업체명 | C9: 성명 | D9: 주소
B10: 서진오토메이션 | C10: 김선구 | D10: 충남 천안시 서북구 백석공단1골 10, M동 427호
A11: 수의계약사유 | B11: 「지방계약법 시행령」 제30조 제1항 제2호
A12: 사업장소 | B12: 통영케이블카

Sheet 양식
A2: 연번
A3: 계약명
A4: 예정가격 | D4: 최초계약금액
A5: 낙찰률 | B5: =E4/B4 -> #DIV/0! | D5: 계약금액
A6: 계약일자 | D6: 시작일자
A7: 계약방법 | D7: 종료일자
A8: 계약유형 | D8: 검수일
A9: 계약상대자 | B9: 업체명 | C9: 성명 | D9: 주소
A11: 수의계약사유 | B11: 「지방계약법 시행령」 제30조 제1항 제2호
A12: 사업장소
