Workbook

Sheet 2026년 1분기
A1: 2026년 2분기 수의계약현황
A3: ■ 계약총괄
A4: 연번 | B4: 구분 | C4: 부서명 | D4: 계약명 | E4: 계약금액 | F4: 계약일 | G4: 계약상대자 | H4: 비고 | I4: 증빙번호
A5: 1 | B5: 물품 | C5: 관광사업부 | D5: 관광사업부 신규 직원용 캐비닛 구입 계약 체결 | E5: 2255000 | F5: 2026. 4. 1. | G5: ㈜호승건설
A6: 2 | B6: 용역 | C6: 관광사업부 | D6: 케이블카 캐빈 시트지 교체 계약 체결 | E6: 18370000 | F6: 2026. 4. 3. | G6: ㈜호승건설
A7: 3 | B7: 물품 | C7: 관광사업부 | D7: 케이블카 상부 3축 기어박스 구입 계약 체결 | E7: 8250000 | F7: 2026. 4. 6. | G7: 지제이테크
A8: 4 | B8: 물품 | C8: 관광사업부 | D8: 케이블카 주행륜 축 구입 계약 체결 | E8: 8360000 | F8: 2026. 4. 6. | G8: 제이케이미크론 주식회사
A9: 5 | B9: 용역 | C9: 체육시설부 | D9: 통영체육청소년센터 방재실 청소 용역 계약 체결 | E9: 2255000 | F9: 2026. 4. 2. | G9: ㈜청경
A10: 6 | B10: 용역 | C10: 경영지원부 | D10: 2026년 제1차 직원 채용(재공고) 필기시험 대행 용역 계약 체결 | E10: 8525000 | F10: 2026. 4. 2. | G10: ㈜사람인
A11: 7 | B11: 용역 | C11: 관광사업부 | D11: 케이블카 선하지 입목 벌채 계약 체결 | E11: 4300000 | F11: 2026. 4. 17. | G11: ㈜광운
A12: 8 | B12: 용역 | C12: 경영지원부 | D12: 통영케이블카 하부역사 홍보판매장(2개소) 인터넷선 설치 용역 계약 체결 | E12: 1465200 | F12: 2026. 4. 24. | G12: 한산전기
A13: 9 | B13: 용역 | C13: 기획혁신실 | D13: 2026년 5월(어린이 날) 이벤트 용역 계약 체결 | E13: 4850000 | F13: 2026. 4. 24. | G13: 브랜디
A14: 10 | B14: 물품 | C14: 문화시설부 | D14: 디피랑 엡손렌즈 구입 계약 체결 | E14: 1890000 | F14: 2026. 4. 27. | G14: ㈜프로젝터매니아
A15: 11 | B15: 용역 | C15: 문화시설부 | D15: 디피랑 비밀공방 서버 컴퓨터 수리 계약 체결 | E15: 9367600 | F15: 2026. 5. 6. | G15: 샤트컴
A16: 12 | B16: 물품 | C16: 문화시설부 | D16: 디피랑 영상 송수신기 구입 계약 체결 | E16: 11880000 | F16: 2026. 5. 11. | G16: ㈜아이닉스
... A28: 24 | B28: 용역 | C28: 문화시설부 | D28: 디피랑 비밀공방 서버 점검 계약 체결 | E28: 2750000 | F28: 2026. 6. 29. | G28: 주식회사 닷밀

Sheet 1
A2: 연번 | B2: 1
A3: 계약명 | B3: ='2026년 1분기'!D5 -> 관광사업부 신규 직원용 캐비닛 구입 계약 체결
A4: 예정가격 | B4: 2255000 | D4: 최초계약금액 | E4: ='2026년 1분기'!E5 -> 2255000
A5: 낙찰률 | B5: =E4/B4 -> 1 | D5: 계약금액 | E5: =E4 -> 2255000
A6: 계약일자 | B6: ='2026년 1분기'!F5 -> 2026. 4. 1. | D6: 시작일자 | E6: 2026. 4. 2.
A7: 계약방법 | B7: 수의계약 | D7: 종료일자 | E7: 2026. 4. 10.
A8: 계약유형 | B8: ='2026년 1분기'!B5 -> 물품 | D8: 검수일 | E8: 2026. 4. 3.
A9: 계약상대자 | B9: 업체명 | C9: 성명 | D9: 주소
B10: ='2026년 1분기'!G5 -> ㈜호승건설 | C10: 조영리 | D10: 경상남도 통영시 용남면 남해안대로 573, 가동 지하 1층
A11: 수의계약사유 | B11: 「지방계약법 시행령」 제25조 등 관계법령
A12: 사업장소 | B12: 통영케이블카

Sheet 2
A2: 연번 | B2: 2
A3: 계약명 | B3: ='2026년 1분기'!D6 -> 케이블카 캐빈 시트지 교체 계약 체결
A4: 예정가격 | B4: 19690000 | D4: 최초계약금액 | E4: ='2026년 1분기'!E6 -> 18370000
A5: 낙찰률 | B5: =E4/B4 -> 0.93296089 | D5: 계약금액 | E5: =E4 -> 18370000
A6: 계약일자 | B6: ='2026년 1분기'!F6 -> 2026. 4. 3. | D6: 시작일자 | E6: 2026. 4. 6.
A7: 계약방법 | B7: 수의계약 | D7: 종료일자 | E7: 2026. 4. 28.
A8: 계약유형 | B8: ='2026년 1분기'!B6 -> 용역 | D8: 검수일 | E8: 2026. 4. 22.
A9: 계약상대자 | B9: 업체명 | C9: 성명 | D9: 주소
B10: ㈜호승건설 | C10: 조영리 | D10: 경상남도 통영시 용남면 남해안대로 573, 가동 지하 1층
A11: 수의계약사유 | B11: 「지방계약법 시행령」 제25조 등 관계법령
A12: 사업장소 | B12: 통영케이블카

Sheet 3
A2: 연번 | B2: 3
A3: 계약명 | B3: ='2026년 1분기'!D7 -> 케이블카 상부 3축 기어박스 구입 계약 체결
A4: 예정가격 | B4: 9300000 | D4: 최초계약금액 | E4: ='2026년 1분기'!E7 -> 8250000
A5: 낙찰률 | B5: =E4/B4 -> 0.88709677 | D5: 계약금액 | E5: =E4 -> 8250000
A6: 계약일자 | B6: ='2026년 1분기'!F7 -> 2026. 4. 6. | D6: 시작일자 | E6: 2026. 4. 6.
A7: 계약방법 | B7: 수의계약 | D7: 종료일자 | E7: 2026. 6. 30.
A8: 계약유형 | B8: ='2026년 1분기'!B7 -> 물품 | D8: 검수일 | E8: 2026. 6. 19.
A9: 계약상대자 | B9: 업체명 | C9: 성명 | D9: 주소
B10: ='2026년 1분기'!G7 -> 지제이테크 | C10: 임규묵 | D10: 인천광역시 남동구 은청로 4-7, B동 3층 330호
A11: 수의계약사유 | B11: 「지방계약법 시행령」 제25조 등 관계법령
A12: 사업장소 | B12: 통영케이블카

Sheet 4
A2: 연번 | B2: 4
A3: 계약명 | B3: ='2026년 1분기'!D8 -> 케이블카 주행륜 축 구입 계약 체결
A4: 예정가격 | B4: 9800000 | D4: 최초계약금액 | E4: ='2026년 1분기'!E8 -> 8360000
A5: 낙찰률 | B5: =E4/B4 -> 0.85306122 | D5: 계약금액 | E5: =E4 -> 8360000
A6: 계약일자 | B6: ='2026년 1분기'!F8 -> 2026. 4. 6. | D6: 시작일자 | E6: 2026. 4. 6.
A7: 계약방법 | B7: 수의계약 | D7: 종료일자 | E7: 2026. 6. 30.
A8: 계약유형 | B8: ='2026년 1분기'!B8 -> 물품 | D8: 검수일 | E8: 2026. 6. 23.
A9: 계약상대자 | B9: 업체명 | C9: 성명 | D9: 주소
B10: ='2026년 1분기'!G8 -> 제이케이미크론 주식회사 | C10: 김광민 | D10: 경상남도 양산시 산막공단남13길 42(호계동)
A11: 수의계약사유 | B11: 「지방계약법 시행령」 제25조 등 관계법령
A12: 사업장소 | B12: 통영케이블카

Sheet 5
A2: 연번 | B2: 5
A3: 계약명 | B3: ='2026년 1분기'!D9 -> 통영체육청소년센터 방재실 청소 용역 계약 체결
A4: 예정가격 | B4: 2255000 | D4: 최초계약금액 | E4: ='2026년 1분기'!E9 -> 2255000
A5: 낙찰률 | B5: =E4/B4 -> 1 | D5: 계약금액 | E5: =E4 -> 2255000
A6: 계약일자 | B6: ='2026년 1분기'!F9 -> 2026. 4. 2. | D6: 시작일자 | E6: 2026. 4. 6.
A7: 계약방법 | B7: 수의계약 | D7: 종료일자 | E7: 2026. 4. 15.
A8: 계약유형 | B8: ='2026년 1분기'!B9 -> 용역 | D8: 검수일 | E8: 2026. 4. 6.
A9: 계약상대자 | B9: 업체명 | C9: 성명 | D9: 주소
B10: ㈜청경 | C10: 정연순 | D10: 경상남도 통영시 용남면 통영해안로 586, 1층
A11: 수의계약사유 | B11: 「지방계약법 시행령」 제25조 등 관계법령
A12: 사업장소 | B12: 통영체육청소년센터

Sheet 6
A2: 연번 | B2: 6
A3: 계약명 | B3: ='2026년 1분기'!D10 -> 2026년 제1차 직원 채용(재공고) 필기시험 대행 용역 계약 체결
A4: 예정가격 | B4: 8525000 | D4: 최초계약금액 | E4: 8525000
A5: 낙찰률 | B5: =E4/B4 -> 1 | D5: 계약금액 | E5: =E4 -> 8525000
A6: 계약일자 | B6: ='2026년 1분기'!F10 -> 2026. 4. 2. | D6: 시작일자 | E6: 2026. 4. 2.
A7: 계약방법 | B7: 수의계약 | D7: 종료일자 | E7: 2026. 6. 7.
A8: 계약유형 | B8: ='2026년 1분기'!B10 -> 용역 | D8: 검수일 | E8: 2026. 5. 6.
A9: 계약상대자 | B9: 업체명 | C9: 성명 | D9: 주소
B10: ㈜사람인 | C10: 황현순 | D10: 서울특별시 강서구 공항대로 165, 원그로브 C동 11층
A11: 수의계약사유 | B11: 「지방계약법 시행령」 제25조 등 관계법령
A12: 사업장소 | B12: 통영관광개발공사

Sheet 7
A2: 연번 | B2: 7
A3: 계약명 | B3: ='2026년 1분기'!D11 -> 케이블카 선하지 입목 벌채 계약 체결
A4: 예정가격 | B4: 4750000 | D4: 최초계약금액 | E4: ='2026년 1분기'!E11 -> 4300000
A5: 낙찰률 | B5: =E4/B4 -> 0.90526316 | D5: 계약금액 | E5: =E4 -> 4300000
A6: 계약일자 | B6: ='2026년 1분기'!F11 -> 2026. 4. 17. | D6: 시작일자 | E6: 2026. 4. 24.
A7: 계약방법 | B7: 수의계약 | D7: 종료일자 | E7: 2026. 4. 30.
A8: 계약유형 | B8: ='2026년 1분기'!B11 -> 용역 | D8: 검수일 | E8: 2026. 4. 28.
A9: 계약상대자 | B9: 업체명 | C9: 성명 | D9: 주소
B10: ='2026년 1분기'!G11 -> ㈜광운 | C10: 윤석보 | D10: 경상남도 통영시 광도면 죽림4로 37-46
A11: 수의계약사유 | B11: 「지방계약법 시행령」 제25조 등 관계법령
A12: 사업장소 | B12: 통영케이블카

Sheet 8
A2: 연번 | B2: 8
A3: 계약명 | B3: ='2026년 1분기'!D12 -> 통영케이블카 하부역사 홍보판매장(2개소) 인터넷선 설치 용역 계약 체결
A4: 예정가격 | B4: 2200000 | D4: 최초계약금액 | E4: ='2026년 1분기'!E12 -> 1465200
A5: 낙찰률 | B5: =E4/B4 -> 0.666 | D5: 계약금액 | E5: =E4 -> 1465200
A6: 계약일자 | B6: ='2026년 1분기'!F12 -> 2026. 4. 24. | D6: 시작일자 | E6: 2026. 4. 27.
A7: 계약방법 | B7: 수의계약 | D7: 종료일자 | E7: 2026. 4. 30.
A8: 계약유형 | B8: ='2026년 1분기'!B12 -> 용역 | D8: 검수일 | E8: 2026. 4. 28.
A9: 계약상대자 | B9: 업체명 | C9: 성명 | D9: 주소
B10: ='2026년 1분기'!G12 -> 한산전기 | C10: 이봉관 | D10: 경상남도 통영시 통영해안로 502(무전동)
A11: 수의계약사유 | B11: 「지방계약법 시행령」 제25조 등 관계법령
A12: 사업장소 | B12: 통영케이블카

Sheet 9
A2: 연번 | B2: 9
A3: 계약명 | B3: ='2026년 1분기'!D13 -> 2026년 5월(어린이 날) 이벤트 용역 계약 체결
A4: 예정가격 | B4: 4960000 | D4: 최초계약금액 | E4: ='2026년 1분기'!E13 -> 4850000
A5: 낙찰률 | B5: =E4/B4 -> 0.97782258 | D5: 계약금액 | E5: =E4 -> 4850000
A6: 계약일자 | B6: ='2026년 1분기'!F13 -> 2026. 4. 24. | D6: 시작일자 | E6: 2026. 5. 5.
A7: 계약방법 | B7: 수의계약 | D7: 종료일자 | E7: 2026. 5. 5.
A8: 계약유형 | B8: ='2026년 1분기'!B13 -> 용역 | D8: 검수일 | E8: 2026. 5. 5.
A9: 계약상대자 | B9: 업체명 | C9: 성명 | D9: 주소
B10: ='2026년 1분기'!G13 -> 브랜디 | C10: 강혜정 | D10: 경상남도 토영ㅇ시 광도면 죽림2로 86-50, 2층
A11: 수의계약사유 | B11: 「지방계약법 시행령」 제25조 등 관계법령
A12: 사업장소 | B12: 통영케이블카

Sheet 10
A2: 연번 | B2: 10
A3: 계약명 | B3: ='2026년 1분기'!D14 -> 디피랑 엡손렌즈 구입 계약 체결
A4: 예정가격 | B4: 2200000 | D4: 최초계약금액 | E4: ='2026년 1분기'!E14 -> 1890000
A5: 낙찰률 | B5: =E4/B4 -> 0.85909091 | D5: 계약금액 | E5: =E4 -> 1890000
A6: 계약일자 | B6: ='2026년 1분기'!F14 -> 2026. 4. 27. | D6: 시작일자 | E6: 2026. 4. 27.
A7: 계약방법 | B7: 수의계약 | D7: 종료일자 | E7: 2026. 5. 31.
A8: 계약유형 | B8: ='2026년 1분기'!B14 -> 물품 | D8: 검수일 | E8: 2026. 4. 30.
A9: 계약상대자 | B9: 업체명 | C9: 성명 | D9: 주소
B10: ='2026년 1분기'!G14 -> ㈜프로젝터매니아 | C10: 정석호 | D10: 서울특별시 영등포구 양평동5가 106-1 코오롱 디지털타워 511~512호
A11: 수의계약사유 | B11: 「지방계약법 시행령」 제25조 등 관계법령
A12: 사업장소 | B12: 디피랑

Sheet 11
A2: 연번 | B2: 11
A3: 계약명 | B3: ='2026년 1분기'!D15 -> 디피랑 비밀공방 서버 컴퓨터 수리 계약 체결
A4: 예정가격 | B4: 9900000 | D4: 최초계약금액 | E4: ='2026년 1분기'!E15 -> 9367600
A5: 낙찰률 | B5: =E4/B4 -> 0.94622222 | D5: 계약금액 | E5: =E4 -> 9367600
A6: 계약일자 | B6: ='2026년 1분기'!F15 -> 2026. 5. 6. | D6: 시작일자 | E6: 2026. 5. 6.
A7: 계약방법 | B7: 수의계약 | D7: 종료일자 | E7: 2026. 5. 31.
A8: 계약유형 | B8: ='2026년 1분기'!B15 -> 용역 | D8: 검수일 | E8: 2026. 5. 9.
A9: 계약상대자 | B9: 업체명 | C9: 성명 | D9: 주소
B10: ='2026년 1분기'!G15 -> 샤트컴 | C10: 김만수 | D10: 서울특별시 용산구 새창로 181, 21동 3층 103호
A11: 수의계약사유 | B11: 「지방계약법 시행령」 제25조 등 관계법령
A12: 사업장소 | B12: 디피랑

Sheet 12
A2: 연번 | B2: 12
A3: 계약명 | B3: ='2026년 1분기'!D16 -> 디피랑 영상 송수신기 구입 계약 체결
A4: 예정가격 | B4: 13860000 | D4: 최초계약금액 | E4: ='2026년 1분기'!E16 -> 11880000
A5: 낙찰률 | B5: =E4/B4 -> 0.85714286 | D5: 계약금액 | E5: =E4 -> 11880000
A6: 계약일자 | B6: ='2026년 1분기'!F16 -> 2026. 5. 11. | D6: 시작일자 | E6: 2026. 5. 11.
A7: 계약방법 | B7: 수의계약 | D7: 종료일자 | E7: 2026. 6. 30.
A8: 계약유형 | B8: ='2026년 1분기'!B16 -> 물품 | D8: 검수일 | E8: 2026. 5. 14.
A9: 계약상대자 | B9: 업체명 | C9: 성명 | D9: 주소
B10: ='2026년 1분기'!G16 -> ㈜아이닉스 | C10: 김종철, 김혜성 | D10: 경기도 광명시 일직로 43, 비동 10층 1012. 1013호
A11: 수의계약사유 | B11: 「지방계약법 시행령」 제25조 등 관계법령
A12: 사업장소 | B12: 디피랑

Sheet 13
A2: 연번 | B2: 13
A3: 계약명 | B3: ='2026년 1분기'!D17 -> 통영케이블카 2층 청사 대회의실 유리벽면 교체 공사 계약 체결
A4: 예정가격 | B4: 13500000 | D4: 최초계약금액 | E4: ='2026년 1분기'!E17 -> 12200000
A5: 낙찰률 | B5: =E4/B4 -> 0.9037037 | D5: 계약금액 | E5: =E4 -> 12200000
A6: 계약일자 | B6: ='2026년 1분기'!F17 -> 2026. 5. 13. | D6: 시작일자 | E6: 2026. 5. 13.
A7: 계약방법 | B7: 수의계약 | D7: 종료일자 | E7: 2026. 6. 1.
A8: 계약유형 | B8: ='2026년 1분기'!B17 -> 공사 | D8: 검수일 | E8: 2026. 5. 20.
A9: 계약상대자 | B9: 업체명 | C9: 성명 | D9: 주소
B10: ='2026년 1분기'!G17 -> ㈜설악창호 | C10: 한철규 | D10: 경상남도 통영시 도산면 남해안대로 1437
A11: 수의계약사유 | B11: 「지방계약법 시행령」 제25조 등 관계법령
A12: 사업장소 | B12: 통영관광개발공사

Sheet 14
A2: 연번 | B2: 14
A3: 계약명 | B3: ='2026년 1분기'!D18 -> 2026년 근골격계 유해요인조사 용역 계약 체결
A4: 예정가격 | B4: 3700000 | D4: 최초계약금액 | E4: ='2026년 1분기'!E18 -> 3700000
A5: 낙찰률 | B5: =E4/B4 -> 1 | D5: 계약금액 | E5: =E4 -> 3700000
A6: 계약일자 | B6: ='2026년 1분기'!F18 -> 2026. 5. 14. | D6: 시작일자 | E6: 2026. 5. 21.
A7: 계약방법 | B7: 수의계약 | D7: 종료일자 | E7: 2026. 6. 30.
A8: 계약유형 | B8: ='2026년 1분기'!B15 -> 용역 | D8: 검수일 | E8: 2026. 6. 16.
A9: 계약상대자 | B9: 업체명 | C9: 성명 | D9: 주소
B10: ='2026년 1분기'!G18 -> 대한산업보건협회 | C10: 이승철 | D10: 경상남도 창원시 마산회원구 자유무역2길 38
A11: 수의계약사유 | B11: 「지방계약법 시행령」 제25조 등 관계법령
A12: 사업장소 | B12: 통영관광개발공사

Sheet 15
A2: 연번 | B2: 15
A3: 계약명 | B3: ='2026년 1분기'!D19 -> 통영체육청소년센터 폐쇄회로텔레비젼(CCTV) 설치 계약 체결
A4: 예정가격 | B4: 198000 | D4: 최초계약금액 | E4: ='2026년 1분기'!E19 -> 198000
A5: 낙찰률 | B5: =E4/B4 -> 1 | D5: 계약금액 | E5: =E4 -> 198000
A6: 계약일자 | B6: ='2026년 1분기'!F19 -> 2026. 6. 1. | D6: 시작일자 | E6: 2026. 6. 1.
A7: 계약방법 | B7: 수의계약 | D7: 종료일자 | E7: 2026. 12. 31.
A8: 계약유형 | B8: ='2026년 1분기'!B19 -> 물품 | D8: 검수일 | E8: 2026. 12. 31.
A9: 계약상대자 | B9: 업체명 | C9: 성명 | D9: 주소
B10: ='2026년 1분기'!G19 -> ㈜에스원 | C10: 정해린 | D10: 서울특별시 중구 세종대로7길 25
A11: 수의계약사유 | B11: 「지방계약법 시행령」 제25조 등 관계법령
A12: 사업장소 | B12: 통영체육청소년센터

Sheet 16
A2: 연번 | B2: 16
A3: 계약명 | B3: ='2026년 1분기'!D20 -> 케이블카 상부역사 안전발판 교체 공사 실시설계 용역 계약 체결
A4: 예정가격 | B4: 5690000 | D4: 최초계약금액 | E4: ='2026년 1분기'!E20 -> 5690000
A5: 낙찰률 | B5: =E4/B4 -> 1 | D5: 계약금액 | E5: =E4 -> 5690000
A6: 계약일자 | B6: ='2026년 1분기'!F20 -> 2026. 6. 1. | D6: 시작일자 | E6: 2026. 6. 1.
A7: 계약방법 | B7: 수의계약 | D7: 종료일자 | E7: 2026. 7. 10.
A8: 계약유형 | B8: ='2026년 1분기'!B20 -> 용역 | D8: 검수일 | E8: 2026. 7. 3.
A9: 계약상대자 | B9: 업체명 | C9: 성명 | D9: 주소
B10: ='2026년 1분기'!G20 -> 자유건축 이재석 건축사사무소 | C10: 이재석 | D10: 경상남도 통영시 안개3길 65. 201호
A11: 수의계약사유 | B11: 「지방계약법 시행령」 제25조 등 관계법령
A12: 사업장소 | B12: 통영케이블카

Sheet 17
A2: 연번 | B2: 17
A3: 계약명 | B3: ='2026년 1분기'!D21 -> 통영체육청소년센터 수영장 안전감시대 구입 계약 체결
A4: 예정가격 | B4: 1930000 | D4: 최초계약금액 | E4: ='2026년 1분기'!E21 -> 1930000
A5: 낙찰률 | B5: =E4/B4 -> 1 | D5: 계약금액 | E5: =E4 -> 1930000
A6: 계약일자 | B6: ='2026년 1분기'!F21 -> 2026. 6. 5. | D6: 시작일자 | E6: 2026. 6. 5.
A7: 계약방법 | B7: 수의계약 | D7: 종료일자 | E7: 2026. 6. 30.
A8: 계약유형 | B8: ='2026년 1분기'!B21 -> 물품 | D8: 검수일 | E8: 2026. 6. 21.
A9: 계약상대자 | B9: 업체명 | C9: 성명 | D9: 주소
B10: ='2026년 1분기'!G21 -> 태양스포츠 | C10: 김민철 | D10: 경기도 성남시 분당구 대왕판교로 644번길 65
A11: 수의계약사유 | B11: 「지방계약법 시행령」 제25조 등 관계법령
A12: 사업장소 | B12: 통영체육청소년센터

Sheet 18
A2: 연번 | B2: 18
A3: 계약명 | B3: ='2026년 1분기'!D22 -> 디피랑 출구 관람 환경 개선을 위한 도장공사 계약 체결
A4: 예정가격 | B4: 2200000 | D4: 최초계약금액 | E4: ='2026년 1분기'!E22 -> 1925000
A5: 낙찰률 | B5: =E4/B4 -> 0.875 | D5: 계약금액 | E5: =E4 -> 1925000
A6: 계약일자 | B6: ='2026년 1분기'!F22 -> 2026. 6. 5. | D6: 시작일자 | E6: 2026. 6. 8.
A7: 계약방법 | B7: 수의계약 | D7: 종료일자 | E7: 2026. 6. 30.
A8: 계약유형 | B8: ='2026년 1분기'!B22 -> 공사 | D8: 검수일 | E8: 2026. 6. 8.
A9: 계약상대자 | B9: 업체명 | C9: 성명 | D9: 주소
B10: ='2026년 1분기'!G22 -> 에이스건설 | C10: 양미옥 | D10: 경상남도 통영시 광도면 노산길 128
A11: 수의계약사유 | B11: 「지방계약법 시행령」 제25조 등 관계법령
A12: 사업장소 | B12: 디피랑

Sheet 19
A2: 연번 | B2: 19
A3: 계약명 | B3: ='2026년 1분기'!D23 -> 디피랑 4K HDMI 광연장기 구입 계약 체결
A4: 예정가격 | B4: 2500000 | D4: 최초계약금액 | E4: ='2026년 1분기'!E23 -> 2090000
A5: 낙찰률 | B5: =E4/B4 -> 0.836 | D5: 계약금액 | E5: =E4 -> 2090000
A6: 계약일자 | B6: ='2026년 1분기'!F23 -> 2026. 6. 8. | D6: 시작일자 | E6: 2026. 6. 8.
A7: 계약방법 | B7: 수의계약 | D7: 종료일자 | E7: 2026. 6. 30.
A8: 계약유형 | B8: ='2026년 1분기'!B23 -> 물품 | D8: 검수일 | E8: 2026. 6. 15.
A9: 계약상대자 | B9: 업체명 | C9: 성명 | D9: 주소
B10: ='2026년 1분기'!G23 -> ㈜제이씨앤더블유 | C10: 우종률 | D10: 경기도 부천시 원미구 길주로411번길 20, 921호(춘의동, 춘의디아크원)
A11: 수의계약사유 | B11: 「지방계약법 시행령」 제25조 등 관계법령
A12: 사업장소 | B12: 디피랑

Sheet 20
A2: 연번 | B2: 20
A3: 계약명 | B3: ='2026년 1분기'!D24 -> 통영케이블카 소방용수 급수시설 배관공사 계약 체결
A4: 예정가격 | B4: 3500000 | D4: 최초계약금액 | E4: ='2026년 1분기'!E24 -> 3300000
A5: 낙찰률 | B5: =E4/B4 -> 0.94285714 | D5: 계약금액 | E5: =E4 -> 3300000
A6: 계약일자 | B6: ='2026년 1분기'!F24 -> 2026. 6. 15. | D6: 시작일자 | E6: 2026. 6. 16.
A7: 계약방법 | B7: 수의계약 | D7: 종료일자 | E7: 2026. 6. 30.
A8: 계약유형 | B8: ='2026년 1분기'!B24 -> 공사 | D8: 검수일 | E8: 2026. 6. 25.
A9: 계약상대자 | B9: 업체명 | C9: 성명 | D9: 주소
B10: ='2026년 1분기'!G24 -> ㈜민건 | C10: 이지숙 | D10: 경상남도 통영시 도산면 법송1길 77
A11: 수의계약사유 | B11: 「지방계약법 시행령」 제25조 등 관계법령
A12: 사업장소 | B12: 통영케이블카

Sheet 21
A2: 연번 | B2: 21
A3: 계약명 | B3: ='2026년 1분기'!D25 -> 수산과학관 대형수조 냉각기 구입 계약 체결
A4: 예정가격 | B4: 1500000 | D4: 최초계약금액 | E4: ='2026년 1분기'!E25 -> 1200000
A5: 낙찰률 | B5: =E4/B4 -> 0.8 | D5: 계약금액 | E5: =E4 -> 1200000
A6: 계약일자 | B6: ='2026년 1분기'!F25 -> 2026. 6. 15. | D6: 시작일자 | E6: 2026. 6. 15.
A7: 계약방법 | B7: 수의계약 | D7: 종료일자 | E7: 2026. 6. 30.
A8: 계약유형 | B8: ='2026년 1분기'!B25 -> 물품 | D8: 검수일 | E8: 2026. 6. 15.
A9: 계약상대자 | B9: 업체명 | C9: 성명 | D9: 주소
B10: ='2026년 1분기'!G25 -> 유일냉동공조 | C10: 손세민 | D10: 경상남도 통영시 광도면 남해안대로 953
A11: 수의계약사유 | B11: 「지방계약법 시행령」 제25조 등 관계법령
A12: 사업장소 | B12: 수산과학관

Sheet 22
A2: 연번 | B2: 22
A3: 계약명 | B3: ='2026년 1분기'!D26 -> 통영케이블카 부채 제작 계약 체결
A4: 예정가격 | B4: 9982000 | D4: 최초계약금액 | E4: ='2026년 1분기'!E26 -> 9950000
A5: 낙찰률 | B5: =E4/B4 -> 0.99679423 | D5: 계약금액 | E5: =E4 -> 9950000
A6: 계약일자 | B6: ='2026년 1분기'!F26 -> 2026. 6. 17. | D6: 시작일자 | E6: 2026. 6. 17.
A7: 계약방법 | B7: 수의계약 | D7: 종료일자 | E7: 2026. 7. 10.
A8: 계약유형 | B8: ='2026년 1분기'!B26 -> 물품 | D8: 검수일 | E8: 2026. 7. 8.
A9: 계약상대자 | B9: 업체명 | C9: 성명 | D9: 주소
B10: ='2026년 1분기'!G26 -> 럭시플로라 에듀 유한책임회사 | C10: 신미옥 | D10: 서울특별시 영등포구 영등포로 150
A11: 수의계약사유 | B11: 「지방계약법 시행령」 제25조 등 관계법령
A12: 사업장소 | B12: 통영케이블카

Sheet 23
A2: 연번 | B2: 23
A3: 계약명 | B3: ='2026년 1분기'!D27 -> 어드벤처타워 연속빌레이(SSB) 구입 계약 체결
A4: 예정가격 | B4: 21978000 | D4: 최초계약금액 | E4: ='2026년 1분기'!E27 -> 19560000
A5: 낙찰률 | B5: =E4/B4 -> 0.88998089 | D5: 계약금액 | E5: =E4 -> 19560000
A6: 계약일자 | B6: ='2026년 1분기'!F27 -> 2026. 6. 18. | D6: 시작일자 | E6: 2026. 6. 18.
A7: 계약방법 | B7: 수의계약 | D7: 종료일자 | E7: 2026. 6. 30.
A8: 계약유형 | B8: ='2026년 1분기'!B27 -> 물품 | D8: 검수일 | E8: 2026. 6. 23.
A9: 계약상대자 | B9: 업체명 | C9: 성명 | D9: 주소
B10: ='2026년 1분기'!G27 -> 어드벤처 주식회사 | C10: 길승환 | D10: 경기도 하남시 초광산단서로 4 지하1층
A11: 수의계약사유 | B11: 「지방계약법 시행령」 제25조 등 관계법령
A12: 사업장소 | B12: 어드벤처타워

Sheet 24
A2: 연번 | B2: 24
A3: 계약명 | B3: ='2026년 1분기'!D28 -> 디피랑 비밀공방 서버 점검 계약 체결
A4: 예정가격 | B4: 3200000 | D4: 최초계약금액 | E4: ='2026년 1분기'!E28 -> 2750000
A5: 낙찰률 | B5: =E4/B4 -> 0.859375 | D5: 계약금액 | E5: =E4 -> 2750000
A6: 계약일자 | B6: ='2026년 1분기'!F28 -> 2026. 6. 29. | D6: 시작일자 | E6: 2026. 7. 9.
A7: 계약방법 | B7: 수의계약 | D7: 종료일자 | E7: 2026. 7. 31.
A8: 계약유형 | B8: ='2026년 1분기'!B28 -> 용역 | D8: 검수일 | E8: 2026. 7. 10.
A9: 계약상대자 | B9: 업체명 | C9: 성명 | D9: 주소
B10: ='2026년 1분기'!G28 -> 주식회사 닷밀 | C10: 정해운 | D10: 서울특별시 마포구 동교로41길 41(연남동, 41빌딩)
A11: 수의계약사유 | B11: 「지방계약법 시행령」 제25조 등 관계법령
A12: 사업장소 | B12: 디피랑
