Workbook

Sheet 2025년도
A1: 2025년 4분기 수의계약현황
A3: ■ 계약총괄
A4: 연번 | B4: 구분 | C4: 부서명 | D4: 계약명 | E4: 계약금액 | F4: 계약일 | G4: 계약상대자 | H4: 비고 | I4: 증빙번호
A5: 1 | B5: 물품 | C5: 기획혁신실 | D5: 케이블카 음향장비 구입 계약 체결 | E5: 3000000 | F5: 2025. 10. 10. | G5: 한려음향악기
A6: 2 | B6: 용역 | C6: 문화시설부 | D6: 디피랑 빔 프로젝터 5차 수리 계약 체결 | E6: 5510649 | F6: 2025. 10. 2. | G6: 컴앤아이티
A7: 3 | B7: 용역 | C7: 기획혁신실 | D7: 케이블카 10월 감성 이벤트 용역 계약 체결 | E7: 4900000 | F7: 2025. 10. 27. | G7: 인마케팅
A8: 4 | B8: 용역 | C8: 기획혁신실 | D8: 공사 중장기 경영전략 수립 용역 계약 체결 | E8: 20000000 | F8: 2025. 10. 27. | G8: 주식회사 지브이컨설팅
A9: 5 | B9: 물품 | C9: 경영지원부 | D9: 농수산물 홍보판매장 어닝 원단 구입 계약 체결 | E9: 2706000 | F9: 2025. 11. 4. | G9: 진주싼타마을
A10: 6 | B10: 공사 | C10: 관광사업부 | D10: 케이블카 상부역사 승강기 시트지 교체 계약 체결 | E10: 1485000 | F10: 2025. 11. 4. | G10: ㈜타워엘리베이터
A11: 7 | B11: 용역 | C11: 관광사업부 | D11: 케이블카 상부역사 건물 외벽 세척 계약 체결 | E11: 2750000 | F11: 2025. 11. 12. | G11: 버티컬세븐코리아
A12: 8 | B12: 용역 | C12: 체육시설부 | D12: 실내야구연습장 전기설비 전기안전관리대행 용역 계약 체결 | E12: 2160000 | F12: 2025. 11. 20. | G12: ㈜한빛전기안전관리
A13: 9 | B13: 용역 | C13: 체육시설부 | D13: 통영체육청소년센터 전기설비 안전관리대행 용역 계약 체결 | E13: 6600000 | F13: 2025. 12. 01. | G13: 한려전기안전관리㈜
A14: 10 | B14: 물품 | C14: 관광사업부 | D14: 케이블카 풍향·풍속계 구입 계약 체결 | E14: 5500000 | F14: 2025. 12. 01. | G14: ㈜영전시스템
A15: 11 | B15: 물품 | C15: 관광사업부 | D15: 케이블카 상부역사 운전실 창호 교체 계약 체결 | E15: 4125000 | F15: 2025. 12. 8. | G15: ㈜호승건설
A16: 12 | B16: 용역 | C16: 경영지원부 | D16: 2025년 제2차 직원 공개채용 필기시험 대행 용역 계약 체결 | E16: 12980000 | F16: 2025. 11. 19. | G16: ㈜사람인
... A34: 30 | B34: 용역 | C34: 체육시설부 | D34: 통영수영장 소방시설 안전관리대행 용역 계약 체결 | E34: 2160000 | F34: 2025. 12. 31 | G34: 대우소방공사

Sheet 1
A2: 연번 | B2: 1
A3: 계약명 | B3: ='2025년도'!D5 -> 케이블카 음향장비 구입 계약 체결
A4: 예정가격 | B4: 3500000 | D4: 최초계약금액 | E4: ='2025년도'!E5 -> 3000000
A5: 낙찰률 | B5: =E4/B4 -> 0.85714286 | D5: 계약금액 | E5: =E4 -> 3000000
A6: 계약일자 | B6: 45940 | D6: 시작일자 | E6: 45940
A7: 계약방법 | B7: 수의계약 | D7: 종료일자 | E7: 45961
A8: 계약유형 | B8: ='2025년도'!B5 -> 물품 | D8: 검수일 | E8: 45950
A9: 계약상대자 | B9: 업체명 | C9: 성명 | D9: 주소
B10: ='2025년도'!G5 -> 한려음향악기 | C10: 천희숙 | D10: 경남 통영시 용남면 통영해안로 580
A11: 수의계약사유 | B11: 「지방계약법 시행령」 제25조 등 관계법령
A12: 사업장소 | B12: 통영관광개발공사

Sheet 2
A2: 연번 | B2: 2
A3: 계약명 | B3: ='2025년도'!D6 -> 디피랑 빔 프로젝터 5차 수리 계약 체결
A4: 예정가격 | B4: 6000000 | D4: 최초계약금액 | E4: ='2025년도'!E6 -> 5510649
A5: 낙찰률 | B5: =E4/B4 -> 0.9184415 | D5: 계약금액 | E5: ='2025년도'!E6 -> 5510649
A6: 계약일자 | B6: 45932 | D6: 시작일자 | E6: 45932
A7: 계약방법 | B7: 수의계약 | D7: 종료일자 | E7: 45991
A8: 계약유형 | B8: ='2025년도'!B6 -> 용역 | D8: 검수일 | E8: 45960
A9: 계약상대자 | B9: 업체명 | C9: 성명 | D9: 주소
B10: ='2025년도'!G6 -> 컴앤아이티 | C10: 김영희 | D10: 경상남도 창원시 마산합포구 용마로 77, 503호(산호동, 다이노스빌딩)
A11: 수의계약사유 | B11: 「지방계약법 시행령」 제25조 등 관계법령
A12: 사업장소 | B12: 디피랑

Sheet 3
A2: 연번 | B2: 3
A3: 계약명 | B3: ='2025년도'!D7 -> 케이블카 10월 감성 이벤트 용역 계약 체결
A4: 예정가격 | B4: 4952000 | D4: 최초계약금액 | E4: ='2025년도'!E7 -> 4900000
A5: 낙찰률 | B5: =E4/B4 -> 0.98949919 | D5: 계약금액 | E5: =E4 -> 4900000
A6: 계약일자 | B6: 45957 | D6: 시작일자 | E6: 45957
A7: 계약방법 | B7: 수의계약 | D7: 종료일자 | E7: 45961
A8: 계약유형 | B8: ='2025년도'!B7 -> 용역 | D8: 검수일 | E8: 45961
A9: 계약상대자 | B9: 업체명 | C9: 성명 | D9: 주소
B10: ='2025년도'!G7 -> 인마케팅 | C10: 강혜정 | D10: 경남 통영시 광도면 죽림2로 86-50 2층
A11: 수의계약사유 | B11: 「지방계약법 시행령」 제25조 등 관계법령
A12: 사업장소 | B12: 통영관광개발공사

Sheet 4
A2: 연번 | B2: 4
A3: 계약명 | B3: ='2025년도'!D8 -> 공사 중장기 경영전략 수립 용역 계약 체결
A4: 예정가격 | B4: 20000000 | D4: 최초계약금액 | E4: ='2025년도'!E8 -> 20000000
A5: 낙찰률 | B5: =E4/B4 -> 1 | D5: 계약금액 | E5: =E4 -> 20000000
A6: 계약일자 | B6: 45957 | D6: 시작일자 | E6: 45957
A7: 계약방법 | B7: 수의계약 | D7: 종료일자 | E7: 46048
A8: 계약유형 | B8: ='2025년도'!B8 -> 용역 | D8: 검수일 | E8: 46048
A9: 계약상대자 | B9: 업체명 | C9: 성명 | D9: 주소
B10: ='2025년도'!G8 -> 주식회사 지브이컨설팅 | C10: 이가영 | D10: 부산광역시 부산진구 중앙대로 922, 405호
A11: 수의계약사유 | B11: 「지방계약법 시행령」 제25조 등 관계법령
A12: 사업장소 | B12: 통영관광개발공사

Sheet 5
A2: 연번 | B2: 5
A3: 계약명 | B3: ='2025년도'!D9 -> 농수산물 홍보판매장 어닝 원단 구입 계약 체결
A4: 예정가격 | B4: 2976600 | D4: 최초계약금액 | E4: ='2025년도'!E9 -> 2706000
A5: 낙찰률 | B5: =E4/B4 -> 0.90909091 | D5: 계약금액 | E5: =E4 -> 2706000
A6: 계약일자 | B6: 45965 | D6: 시작일자 | E6: 45965
A7: 계약방법 | B7: 수의계약 | D7: 종료일자 | E7: 45978
A8: 계약유형 | B8: ='2025년도'!B9 -> 물품 | D8: 검수일 | E8: 45966
A9: 계약상대자 | B9: 업체명 | C9: 성명 | D9: 주소
B10: ='2025년도'!G9 -> 진주싼타마을 | C10: 손봉기 | D10: 경상남도 진주시 강남동 95
A11: 수의계약사유 | B11: 「지방계약법 시행령」 제25조 등 관계법령
A12: 사업장소 | B12: 통영관광개발공사

Sheet 6
A2: 연번 | B2: 6
A3: 계약명 | B3: ='2025년도'!D10 -> 케이블카 상부역사 승강기 시트지 교체 계약 체결
A4: 예정가격 | B4: 1485000 | D4: 최초계약금액 | E4: ='2025년도'!E10 -> 1485000
A5: 낙찰률 | B5: =E4/B4 -> 1 | D5: 계약금액 | E5: =E4 -> 1485000
A6: 계약일자 | B6: 45965 | D6: 시작일자 | E6: 45965
A7: 계약방법 | B7: 수의계약 | D7: 종료일자 | E7: 45973
A8: 계약유형 | B8: ='2025년도'!B10 -> 공사 | D8: 검수일 | E8: 45967
A9: 계약상대자 | B9: 업체명 | C9: 성명 | D9: 주소
B10: ='2025년도'!G10 -> ㈜타워엘리베이터 | C10: 박유하 | D10: 부산시 중구 동영로 113-1(영주동)
A11: 수의계약사유 | B11: 「지방계약법 시행령」 제25조 등 관계법령
A12: 사업장소 | B12: 통영케이블카

Sheet 7
A2: 연번 | B2: 7
A3: 계약명 | B3: ='2025년도'!D11 -> 케이블카 상부역사 건물 외벽 세척 계약 체결
A4: 예정가격 | B4: 2800000 | D4: 최초계약금액 | E4: ='2025년도'!E11 -> 2750000
A5: 낙찰률 | B5: =E4/B4 -> 0.98214286 | D5: 계약금액 | E5: =E4 -> 2750000
A6: 계약일자 | B6: 45973 | D6: 시작일자 | E6: 45973
A7: 계약방법 | B7: 수의계약 | D7: 종료일자 | E7: 45991
A8: 계약유형 | B8: ='2025년도'!B11 -> 용역 | D8: 검수일 | E8: 45978
A9: 계약상대자 | B9: 업체명 | C9: 성명 | D9: 주소
B10: ='2025년도'!G11 -> 버티컬세븐코리아 | C10: 김성현 | D10: 경상남도 통영시 데메4길 68, 201호(도남동, 성원상가)
A11: 수의계약사유 | B11: 「지방계약법 시행령」 제25조 등 관계법령
A12: 사업장소 | B12: 통영케이블카

Sheet 8
A2: 연번 | B2: 8
A3: 계약명 | B3: ='2025년도'!D12 -> 실내야구연습장 전기설비 전기안전관리대행 용역 계약 체결
A4: 예정가격 | B4: 2160000 | D4: 최초계약금액 | E4: ='2025년도'!E12 -> 2160000
A5: 낙찰률 | B5: =E4/B4 -> 1 | D5: 계약금액 | E5: =E4 -> 2160000
A6: 계약일자 | B6: 45981 | D6: 시작일자 | E6: 45985
A7: 계약방법 | B7: 수의계약 | D7: 종료일자 | E7: 46349
A8: 계약유형 | B8: ='2025년도'!B12 -> 용역 | D8: 검수일 | E8: 46387
A9: 계약상대자 | B9: 업체명 | C9: 성명 | D9: 주소
B10: ='2025년도'!G12 -> ㈜한빛전기안전관리 | C10: 주종식 외 1명 | D10: 경상남도 통영시 용남면 신죽3길 30
A11: 수의계약사유 | B11: 「지방계약법 시행령」 제25조 등 관계법령
A12: 사업장소 | B12: 산양스포츠파크

Sheet 9
A2: 연번 | B2: 9
A3: 계약명 | B3: ='2025년도'!D13 -> 통영체육청소년센터 전기설비 안전관리대행 용역 계약 체결
A4: 예정가격 | B4: 6600000 | D4: 최초계약금액 | E4: ='2025년도'!E13 -> 6600000
A5: 낙찰률 | B5: =E4/B4 -> 1 | D5: 계약금액 | E5: =E4 -> 6600000
A6: 계약일자 | B6: 45992 | D6: 시작일자 | E6: 45992
A7: 계약방법 | B7: 수의계약 | D7: 종료일자 | E7: 46356
A8: 계약유형 | B8: ='2025년도'!B13 -> 용역 | D8: 검수일 | E8: 46356
A9: 계약상대자 | B9: 업체명 | C9: 성명 | D9: 주소
B10: ='2025년도'!G13 -> 한려전기안전관리㈜ | C10: 김대철, 박순갑 | D10: 경상남도 통영시 해송정4길9-11, 301호
A11: 수의계약사유 | B11: 「지방계약법 시행령」 제25조 등 관계법령
A12: 사업장소 | B12: 통영체육청소년센터

Sheet 10
A2: 연번 | B2: 10
A3: 계약명 | B3: ='2025년도'!D14 -> 케이블카 풍향·풍속계 구입 계약 체결
A4: 예정가격 | B4: 5720000 | D4: 최초계약금액 | E4: ='2025년도'!E14 -> 5500000
A5: 낙찰률 | B5: =E4/B4 -> 0.96153846 | D5: 계약금액 | E5: =E4 -> 5500000
A6: 계약일자 | B6: 45992 | D6: 시작일자 | E6: 45992
A7: 계약방법 | B7: 수의계약 | D7: 종료일자 | E7: 46006
A8: 계약유형 | B8: ='2025년도'!B14 -> 물품 | D8: 검수일 | E8: 46002
A9: 계약상대자 | B9: 업체명 | C9: 성명 | D9: 주소
B10: ='2025년도'!G14 -> ㈜영전시스템 | C10: 김효정 | D10: 경기도 부천시 옥산로 210(도당동)
A11: 수의계약사유 | B11: 「지방계약법 시행령」 제25조 등 관계법령
A12: 사업장소 | B12: 통영케이블카

Sheet 11
A2: 연번 | B2: 11
A3: 계약명 | B3: ='2025년도'!D15 -> 케이블카 상부역사 운전실 창호 교체 계약 체결
A4: 예정가격 | B4: 4600000 | D4: 최초계약금액 | E4: ='2025년도'!E15 -> 4125000
A5: 낙찰률 | B5: =E4/B4 -> 0.89673913 | D5: 계약금액 | E5: =E4 -> 4125000
A6: 계약일자 | B6: 45999 | D6: 시작일자 | E6: 45999
A7: 계약방법 | B7: 수의계약 | D7: 종료일자 | E7: 46015
A8: 계약유형 | B8: ='2025년도'!B15 -> 물품 | D8: 검수일 | E8: 46001
A9: 계약상대자 | B9: 업체명 | C9: 성명 | D9: 주소
B10: ='2025년도'!G15 -> ㈜호승건설 | C10: 조영리 | D10: 통영시 용남면 남해안대로 573 가동 지하1층
A11: 수의계약사유 | B11: 「지방계약법 시행령」 제25조 등 관계법령
A12: 사업장소 | B12: 통영케이블카

Sheet 12
A2: 연번 | B2: 12
A3: 계약명 | B3: ='2025년도'!D16 -> 2025년 제2차 직원 공개채용 필기시험 대행 용역 계약 체결
A4: 예정가격 | B4: 12980000 | D4: 최초계약금액 | E4: ='2025년도'!E16 -> 12980000
A5: 낙찰률 | B5: =E4/B4 -> 1 | D5: 계약금액 | E5: =E4 -> 12980000
A6: 계약일자 | B6: 45980 | D6: 시작일자 | E6: 45980
A7: 계약방법 | B7: 수의계약 | D7: 종료일자 | E7: 46041
A8: 계약유형 | B8: ='2025년도'!B16 -> 용역 | D8: 검수일 | E8: 46002
A9: 계약상대자 | B9: 업체명 | C9: 성명 | D9: 주소
B10: ='2025년도'!G16 -> ㈜사람인 | C10: 황현순 | D10: 서울특별시 강서구 공항대로 165, C동 11층(마곡동, 원그로브)
A11: 수의계약사유 | B11: 「지방계약법 시행령」 제25조 등 관계법령
A12: 사업장소 | B12: 통영관광개발공사

Sheet 13
A2: 연번 | B2: 13
A3: 계약명 | B3: ='2025년도'!D17 -> 케이블카 신년 일출 행사 대비 조명 보수 계약 체결
A4: 예정가격 | B4: 1617000 | D4: 최초계약금액 | E4: ='2025년도'!E17 -> 1617000
A5: 낙찰률 | B5: =E4/B4 -> 1 | D5: 계약금액 | E5: =E4 -> 1617000
A6: 계약일자 | B6: 46003 | D6: 시작일자 | E6: 46006
A7: 계약방법 | B7: 수의계약 | D7: 종료일자 | E7: 46022
A8: 계약유형 | B8: ='2025년도'!B17 -> 용역 | D8: 검수일 | E8: 46013
A9: 계약상대자 | B9: 업체명 | C9: 성명 | D9: 주소
B10: ='2025년도'!G17 -> 광림전기공사 | C10: 권재훈 | D10: 경상남도 통영시 멘데산업길 5, 2층 202호
A11: 수의계약사유 | B11: 「지방계약법 시행령」 제25조 등 관계법령
A12: 사업장소 | B12: 통영케이블카

Sheet 14
A2: 연번 | B2: 14
A3: 계약명 | B3: ='2025년도'!D18 -> 국민체육센터 방역소독 서비스 용역 계약 체결
A4: 예정가격 | B4: 1800000 | D4: 최초계약금액 | E4: ='2025년도'!E18 -> 1800000
A5: 낙찰률 | B5: =E4/B4 -> 1 | D5: 계약금액 | E5: =E4 -> 1800000
A6: 계약일자 | B6: 46013 | D6: 시작일자 | E6: 46023
A7: 계약방법 | B7: 수의계약 | D7: 종료일자 | E7: 46387
A8: 계약유형 | B8: ='2025년도'!B18 -> 용역 | D8: 검수일 | E8: 46387
A9: 계약상대자 | B9: 업체명 | C9: 성명 | D9: 주소
B10: ='2025년도'!G18 -> 방구방역 | C10: 제해길 | D10: 경상남도 통영시 미나리길31, 1층
A11: 수의계약사유 | B11: 「지방계약법 시행령」 제25조 등 관계법령
A12: 사업장소 | B12: 국민체육센터

Sheet 15
A2: 연번 | B2: 15
A3: 계약명 | B3: ='2025년도'!D19 -> 케이블카 유압부품 구입 계약 체결
A4: 예정가격 | B4: 12166880 | D4: 최초계약금액 | E4: ='2025년도'!E19 -> 10911670
A5: 낙찰률 | B5: =E4/B4 -> 0.89683386 | D5: 계약금액 | E5: =E4 -> 10911670
A6: 계약일자 | B6: 46014 | D6: 시작일자 | E6: 46014
A7: 계약방법 | B7: 수의계약 | D7: 종료일자 | E7: 46112
A8: 계약유형 | B8: ='2025년도'!B19 -> 물품 | D8: 검수일 | E8: 46112
A9: 계약상대자 | B9: 업체명 | C9: 성명 | D9: 주소
B10: ='2025년도'!G19 -> 도펠마이어코리아 | C10: 엘리아스페텔레(Elias Peterle) | D10: 경기도 하남시 미사대로 550, 509호, 510호(덕풍동, 현대지식산업센터한강미사)
A11: 수의계약사유 | B11: 「지방계약법 시행령」 제25조 등 관계법령
A12: 사업장소 | B12: 통영케이블카

Sheet 16
A2: 연번 | B2: 16
A3: 계약명 | B3: ='2025년도'!D20 -> 국민체육센터 승강기 유지관리 용역 계약 체결
A4: 예정가격 | B4: 1188000 | D4: 최초계약금액 | E4: ='2025년도'!E20 -> 1188000
A5: 낙찰률 | B5: =E4/B4 -> 1 | D5: 계약금액 | E5: =E4 -> 1188000
A6: 계약일자 | B6: 46014 | D6: 시작일자 | E6: 46023
A7: 계약방법 | B7: 수의계약 | D7: 종료일자 | E7: 46387
A8: 계약유형 | B8: ='2025년도'!B20 -> 용역 | D8: 검수일 | E8: 46387
A9: 계약상대자 | B9: 업체명 | C9: 성명 | D9: 주소
B10: ='2025년도'!G20 -> ㈜엘지엘리베이터서비스 | C10: 배삼순 | D10: 경상남도 거제시 고현로 55-1
A11: 수의계약사유 | B11: 「지방계약법 시행령」 제25조 등 관계법령
A12: 사업장소 | B12: 국민체육센터

Sheet 17
A2: 연번 | B2: 17
A3: 계약명 | B3: ='2025년도'!D21 -> 평림생활체육공원 전기설비 전기안전관리대행 용역 계약 체결
A4: 예정가격 | B4: 1116000 | D4: 최초계약금액 | E4: ='2025년도'!E21 -> 1116000
A5: 낙찰률 | B5: =E4/B4 -> 1 | D5: 계약금액 | E5: =E4 -> 1116000
A6: 계약일자 | B6: 46014 | D6: 시작일자 | E6: 46023
A7: 계약방법 | B7: 수의계약 | D7: 종료일자 | E7: 46387
A8: 계약유형 | B8: ='2025년도'!B21 -> 용역 | D8: 검수일 | E8: 46387
A9: 계약상대자 | B9: 업체명 | C9: 성명 | D9: 주소
B10: ='2025년도'!G21 -> 한려전기안전관리㈜ | C10: 김대철, 박순갑 | D10: 경상남도 통영시 해송정4길9-11, 301호
A11: 수의계약사유 | B11: 「지방계약법 시행령」 제25조 등 관계법령
A12: 사업장소 | B12: 평림생활체육공원

Sheet 18
A2: 연번 | B2: 18
A3: 계약명 | B3: ='2025년도'!D22 -> 디피랑 안내부스 구입 계약 체결
A4: 예정가격 | B4: 4500000 | D4: 최초계약금액 | E4: ='2025년도'!E22 -> 3850000
A5: 낙찰률 | B5: =E4/B4 -> 0.85555556 | D5: 계약금액 | E5: =E4 -> 3850000
A6: 계약일자 | B6: 46017 | D6: 시작일자 | E6: 46017
A7: 계약방법 | B7: 수의계약 | D7: 종료일자 | E7: 46022
A8: 계약유형 | B8: ='2025년도'!B22 -> 물품 | D8: 검수일 | E8: 46020
A9: 계약상대자 | B9: 업체명 | C9: 성명
B10: ='2025년도'!G22 -> 유한회사 세일테크 | C10: 김유미 | D10: 경기도 김포시 대곶면 대곶북로 223-39
A11: 수의계약사유 | B11: 「지방계약법 시행령」 제25조 등 관계법령
A12: 사업장소 | B12: 디피랑

Sheet 19
A2: 연번 | B2: 19
A3: 계약명 | B3: ='2025년도'!D23 -> 용남생활체육공원 전기설비 전기안전관리대행 용역 계약 체결
A4: 예정가격 | B4: 2287200 | D4: 최초계약금액 | E4: ='2025년도'!E23 -> 2287200
A5: 낙찰률 | B5: =E4/B4 -> 1 | D5: 계약금액 | E5: =E4 -> 2287200
A6: 계약일자 | B6: 46021 | D6: 시작일자 | E6: 46023
A7: 계약방법 | B7: 수의계약 | D7: 종료일자 | E7: 46387
A8: 계약유형 | B8: ='2025년도'!B23 -> 용역 | D8: 검수일 | E8: 46387
A9: 계약상대자 | B9: 업체명 | C9: 성명
B10: ='2025년도'!G23 -> ㈜한빛전기안전관리 | C10: 주종식, 정승철 | D10: 경상남도 통영시 용남면 신죽3길 30
A11: 수의계약사유 | B11: 「지방계약법 시행령」 제25조 등 관계법령
A12: 사업장소 | B12: 용남생활체육공원

Sheet 20
A2: 연번 | B2: 20
A3: 계약명 | B3: ='2025년도'!D24 -> 산양스포츠파크 전기설비 전기안전관리대행 용역 계약 체결
A4: 예정가격 | B4: 13349520 | D4: 최초계약금액 | E4: ='2025년도'!E24 -> 13349520
A5: 낙찰률 | B5: =E4/B4 -> 1 | D5: 계약금액 | E5: =E4 -> 13349520
A6: 계약일자 | B6: 46021 | D6: 시작일자 | E6: 46023
A7: 계약방법 | B7: 수의계약 | D7: 종료일자 | E7: 46387
A8: 계약유형 | B8: ='2025년도'!B24 -> 용역 | D8: 검수일 | E8: 46387
A9: 계약상대자 | B9: 업체명 | C9: 성명
B10: ='2025년도'!G24 -> ㈜한빛전기안전관리 | C10: 주종식, 정승철 | D10: 경상남도 통영시 용남면 신죽3길 30
A11: 수의계약사유 | B11: 「지방계약법 시행령」 제25조 등 관계법령
A12: 사업장소 | B12: 산양스포츠파크

Sheet 21
A2: 연번 | B2: 21
A3: 계약명 | B3: ='2025년도'!D25 -> 수산과학관 자가용 전기설비 안전관리대행 용역 계약 체결
A4: 예정가격 | B4: 8280000 | D4: 최초계약금액 | E4: ='2025년도'!E25 -> 8280000
A5: 낙찰률 | B5: =E4/B4 -> 1 | D5: 계약금액 | E5: =E4 -> 8280000
A6: 계약일자 | B6: 46021 | D6: 시작일자 | E6: 46023
A7: 계약방법 | B7: 수의계약 | D7: 종료일자 | E7: 46387
A8: 계약유형 | B8: ='2025년도'!B25 -> 용역 | D8: 검수일 | E8: 46387
A9: 계약상대자 | B9: 업체명 | C9: 성명
B10: ='2025년도'!G25 -> 한려전기안전관리㈜ | C10: 김대철, 박순갑 | D10: 경상남도 통영시 해송정4길9-11, 301호
A11: 수의계약사유 | B11: 「지방계약법 시행령」 제25조 등 관계법령
A12: 사업장소 | B12: 수산과학관

Sheet 22
A2: 연번 | B2: 22
A3: 계약명 | B3: ='2025년도'!D26 -> 수산과학관 오수처리시설 위탁관리 용역 계약 체결
A4: 예정가격 | B4: 5400000 | D4: 최초계약금액 | E4: ='2025년도'!E26 -> 5400000
A5: 낙찰률 | B5: =E4/B4 -> 1 | D5: 계약금액 | E5: =E4 -> 5400000
A6: 계약일자 | B6: 46021 | D6: 시작일자 | E6: 46023
A7: 계약방법 | B7: 수의계약 | D7: 종료일자 | E7: 46387
A8: 계약유형 | B8: ='2025년도'!B26 -> 용역 | D8: 검수일 | E8: 46387
A9: 계약상대자 | B9: 업체명 | C9: 성명
B10: ='2025년도'!G26 -> 남해환경 | C10: 조평익 | D10: 경상남도 통영시 장좌로 99(동호동)
A11: 수의계약사유 | B11: 「지방계약법 시행령」 제25조 등 관계법령
A12: 사업장소 | B12: 수산과학관

Sheet 23
A2: 연번 | B2: 23
A3: 계약명 | B3: ='2025년도'!D27 -> 케이블카 하부역사 휠체어리프트 부품 교체 계약 체결
A4: 예정가격 | B4: 1650000 | D4: 최초계약금액 | E4: ='2025년도'!E27 -> 1650000
A5: 낙찰률 | B5: =E4/B4 -> 1 | D5: 계약금액 | E5: =E4 -> 1650000
A6: 계약일자 | B6: 46007 | D6: 시작일자 | E6: 46007
A7: 계약방법 | B7: 수의계약 | D7: 종료일자 | E7: 46007
A8: 계약유형 | B8: ='2025년도'!B27 -> 공사 | D8: 검수일 | E8: 46007
A9: 계약상대자 | B9: 업체명 | C9: 성명
B10: ='2025년도'!G27 -> ㈜타워엘리베이터 | C10: 박유하 | D10: 부산시 중구 동영로 113-1(영주동)
A11: 수의계약사유 | B11: 「지방계약법 시행령」 제25조 등 관계법령
A12: 사업장소 | B12: 통영케이블카

Sheet 24
A2: 연번 | B2: 24
A3: 계약명 | B3: ='2025년도'!D28 -> 수산과학관 승강기 유지관리 용역 계약 체결
A4: 예정가격 | B4: 1800000 | D4: 최초계약금액 | E4: ='2025년도'!E28 -> 1800000
A5: 낙찰률 | B5: =E4/B4 -> 1 | D5: 계약금액 | E5: =E4 -> 1800000
A6: 계약일자 | B6: 46021 | D6: 시작일자 | E6: 46023
A7: 계약방법 | B7: 수의계약 | D7: 종료일자 | E7: 46387
A8: 계약유형 | B8: ='2025년도'!B28 -> 용역 | D8: 검수일 | E8: 46387
A9: 계약상대자 | B9: 업체명 | C9: 성명
B10: ='2025년도'!G28 -> ㈜타워엘리베이터 | C10: 박유하 | D10: 부산시 중구 동영로 113-1(영주동)
A11: 수의계약사유 | B11: 「지방계약법 시행령」 제25조 등 관계법령
A12: 사업장소 | B12: 수산과학관

Sheet 25
A2: 연번 | B2: 25
A3: 계약명 | B3: ='2025년도'!D29 -> 수산과학관 해충방제 서비스 용역 계약 체결
A4: 예정가격 | B4: 4440000 | D4: 최초계약금액 | E4: ='2025년도'!E29 -> 4440000
A5: 낙찰률 | B5: =E4/B4 -> 1 | D5: 계약금액 | E5: =E4 -> 4440000
A6: 계약일자 | B6: 46022 | D6: 시작일자 | E6: 46023
A7: 계약방법 | B7: 수의계약 | D7: 종료일자 | E7: 46387
A8: 계약유형 | B8: ='2025년도'!B29 -> 용역 | D8: 검수일 | E8: 46387
A9: 계약상대자 | B9: 업체명 | C9: 성명
B10: ='2025년도'!G29 -> 방구방역 | C10: 제해길 | D10: 경상남도 통영시 미나리길31, 1층
A11: 수의계약사유 | B11: 「지방계약법 시행령」 제25조 등 관계법령
A12: 사업장소 | B12: 수산과학관

Sheet 26
A2: 연번 | B2: 26
A3: 계약명 | B3: ='2025년도'!D30 -> 2026년 공사 SNS 운영관리 대행 용역 계약 체결
A4: 예정가격 | B4: 28000000 | D4: 최초계약금액 | E4: ='2025년도'!E30 -> 26000000
A5: 낙찰률 | B5: =E4/B4 -> 0.92857143 | D5: 계약금액 | E5: =E4 -> 26000000
A6: 계약일자 | B6: 46022 | D6: 시작일자 | E6: 46023
A7: 계약방법 | B7: 수의계약 | D7: 종료일자 | E7: 46387
A8: 계약유형 | B8: ='2025년도'!B30 -> 용역 | D8: 검수일 | E8: 46387
A9: 계약상대자 | B9: 업체명 | C9: 성명
B10: ='2025년도'!G30 -> 브랜디 | C10: 강혜정 | D10: 경상남도 통영시 광도면 죽림2로 86-50, 2층
A11: 수의계약사유 | B11: 「지방계약법 시행령」 제25조 등 관계법령
A12: 사업장소 | B12: 통영관광개발공사

Sheet 27
A2: 연번 | B2: 27
A3: 계약명 | B3: ='2025년도'!D31 -> 국민체육센터 무인경비시스템 및 산양수영장 정보보안서비스 용역 계약 체결
A4: 예정가격 | B4: 4848000 | D4: 최초계약금액 | E4: ='2025년도'!E31 -> 4848000
A5: 낙찰률 | B5: =E4/B4 -> 1 | D5: 계약금액 | E5: =E4 -> 4848000
A6: 계약일자 | B6: 46022 | D6: 시작일자 | E6: 46023
A7: 계약방법 | B7: 수의계약 | D7: 종료일자 | E7: 46387
A8: 계약유형 | B8: ='2025년도'!B31 -> 용역 | D8: 검수일 | E8: 46387
A9: 계약상대자 | B9: 업체명 | C9: 성명
B10: ='2025년도'!G31 -> ㈜에스원 | C10: 남궁범 | D10: 서울특별시 중구 세종대로7길 25(순화동, 삼성생명에스원 빌딩)
A11: 수의계약사유 | B11: 「지방계약법 시행령」 제25조 등 관계법령
A12: 사업장소 | B12: 국민체육센터

Sheet 28
A2: 연번 | B2: 28
A3: 계약명 | B3: ='2025년도'!D32 -> 통영수영장 전기설비 전기안전관리대행 용역 계약 체결
A4: 예정가격 | B4: 1432200 | D4: 최초계약금액 | E4: ='2025년도'!E32 -> 1432200
A5: 낙찰률 | B5: =E4/B4 -> 1 | D5: 계약금액 | E5: =E4 -> 1432200
A6: 계약일자 | B6: 46022 | D6: 시작일자 | E6: 46023
A7: 계약방법 | B7: 수의계약 | D7: 종료일자 | E7: 46387
A8: 계약유형 | B8: ='2025년도'!B32 -> 용역 | D8: 검수일 | E8: 46387
A9: 계약상대자 | B9: 업체명 | C9: 성명
B10: ='2025년도'!G32 -> ㈜한빛전기안전관리 | C10: 김유미 | D10: 경기도 김포시 대곶면 대곶북로 223-39
A11: 수의계약사유 | B11: 「지방계약법 시행령」 제25조 등 관계법령
A12: 사업장소 | B12: 통영수영장

Sheet 29
A2: 연번 | B2: 29
A3: 계약명 | B3: ='2025년도'!D33 -> 통영수영장 방역소독 서비스 용역 계약 체결
A4: 예정가격 | B4: 1680000 | D4: 최초계약금액 | E4: ='2025년도'!E33 -> 1680000
A5: 낙찰률 | B5: =E4/B4 -> 1 | D5: 계약금액 | E5: =E4 -> 1680000
A6: 계약일자 | B6: 46022 | D6: 시작일자 | E6: 46023
A7: 계약방법 | B7: 수의계약 | D7: 종료일자 | E7: 46387
A8: 계약유형 | B8: ='2025년도'!B33 -> 용역 | D8: 검수일 | E8: 46387
A9: 계약상대자 | B9: 업체명 | C9: 성명
B10: ='2025년도'!G33 -> 방구방역 | C10: 제해길 | D10: 경상남도 통영시 미나리길31, 1층
A11: 수의계약사유 | B11: 「지방계약법 시행령」 제25조 등 관계법령
A12: 사업장소 | B12: 통영수영장

Sheet 30
A2: 연번 | B2: 30
A3: 계약명 | B3: ='2025년도'!D34 -> 통영수영장 소방시설 안전관리대행 용역 계약 체결
A4: 예정가격 | B4: 2160000 | D4: 최초계약금액 | E4: ='2025년도'!E34 -> 2160000
A5: 낙찰률 | B5: =E4/B4 -> 1 | D5: 계약금액 | E5: =E4 -> 2160000
A6: 계약일자 | B6: 46022 | D6: 시작일자 | E6: 46023
A7: 계약방법 | B7: 수의계약 | D7: 종료일자 | E7: 46387
A8: 계약유형 | B8: ='2025년도'!B34 -> 용역 | D8: 검수일 | E8: 46387
A9: 계약상대자 | B9: 업체명 | C9: 성명
B10: ='2025년도'!G34 -> 대우소방공사 | C10: 서청수 | D10: 경상남도 통영시 통영해안로 441
A11: 수의계약사유 | B11: 「지방계약법 시행령」 제25조 등 관계법령
A12: 사업장소 | B12: 통영수영장
