Workbook

Sheet 2025년도
A1: 2025년 3분기 수의계약현황
A3: ■ 계약총괄
A4: 연번 | B4: 구분 | C4: 부서명 | D4: 계약명 | E4: 계약금액 | F4: 계약일 | G4: 계약상대자 | H4: 비고 | I4: 증빙번호
A5: 1 | B5: 물품 | C5: 기획혁신실 | D5: 통영케이블카 부채 제작 | E5: 8690000 | F5: 2025.07.11 | G5: 기프트인포 주식회사
A6: 2 | B6: 공사 | C6: 관광사업부 | D6: 통영케이블카 상부역사 구동활차 베어링 교체 공사 | E6: 89333000 | F6: 2025.07.15 | G6: 아이언앤디㈜
A7: 3 | B7: 물품 | C7: 문화시설부 | D7: 디피랑 하계 근무복 구입 | E7: 1603800 | F7: 2025.07.21 | G7: 티엔에프(TNF) 통영점
A8: 4 | B8: 물품 | C8: 관광사업부 | D8: 케이블카 상부 구동활차 키 및 차량용 도어링크 구입 | E8: 2057000 | F8: 2025.08.06 | G8: 지제이테크
A9: 5 | B9: 물품 | C9: 문화시설부 | D9: 디피랑 팩레이저 조명 구입 | E9: 5500000 | F9: 2025.08.06 | G9: 제이에스앤
A10: 6 | B10: 공사 | C10: 관광사업부 | D10: 욕지섬모노레일 피뢰기 및 접지선 교체 | E10: 3361220 | F10: 2025.08.18 | G10: 주식회사 굿모닝전기
A11: 7 | B11: 물품 | C11: 문화시설부 | D11: 디피랑 팔찌 입장권 구입 | E11: 3300000 | F11: 2025.08.21 | G11: 제이텍 스크린
A12: 8 | B12: 물품 | C12: 문화시설부 | D12: 디피랑 4K HDMI 광연장기 구입 | E12: 4180000 | F12: 2025.08.26 | G12: ㈜제이씨앤더블유
A13: 9 | B13: 용역 | C13: 관광사업부 | D13: 욕지섬모노레일 손해배상소송 감정보고서 기술분석 용역 | E13: 8600000 | F13: 2025.08.29 | G13: 인제대학교산학협력단
A14: 10 | B14: 공사 | C14: 관광사업부 | D14: 케이블카 하부역사 지붕 보수 공사 | E14: 10530000 | F14: 2025.09.10 | G14: (주)우승
A15: 11 | B15: 공사 | C15: 관광사업부 | D15: 케이블카 중간지주 리프트 방호울 교체 공사 | E15: 4982400 | F15: 2025.09.10 | G15: 주식회사 도담
A16: 12 | B16: 물품 | C16: 관광사업부 | D16: 상부역사 야외용 원목 테이블 교체 | E16: 2376000 | F16: 2025.09.11 | G16: 서준디자인
... A22: 18 | B22: 물품 | C22: 관광사업부 | D22: 케이블카 차량 관련 부품 2축 기어캡 구입 | E22: 2601500 | F22: 2025.09.26 | G22: 나산기계 주식회사

Sheet 1
A2: 연번 | B2: 1
A3: 계약명 | B3: ='2025년도'!D5 -> 통영케이블카 부채 제작
A4: 예정가격 | B4: 9900000 | D4: 최초계약금액 | E4: ='2025년도'!E5 -> 8690000
A5: 낙찰률 | B5: =E4/B4 -> 0.87777778 | D5: 계약금액 | E5: =E4 -> 8690000
A6: 계약일자 | B6: 45849 | D6: 시작일자 | E6: 45849
A7: 계약방법 | B7: 수의계약 | D7: 종료일자 | E7: 45869
A8: 계약유형 | B8: ='2025년도'!B5 -> 물품 | D8: 검수일 | E8: 45854
A9: 계약상대자 | B9: 업체명 | C9: 성명 | D9: 주소
B10: ='2025년도'!G5 -> 기프트인포 주식회사 | C10: 김논산, 김형택 | D10: 서울특별시 중구 퇴계로45길 22-24(충무로5가) 대박빌딩 6,7,8층
A11: 수의계약사유 | B11: 「지방계약법 시행령」 제25조 등 관계법령
A12: 사업장소 | B12: 기획혁신실

Sheet 2
A2: 연번 | B2: 2
A3: 계약명 | B3: ='2025년도'!D6 -> 통영케이블카 상부역사 구동활차 베어링 교체 공사
A4: 예정가격 | B4: 90256000 | D4: 최초계약금액 | E4: ='2025년도'!E6 -> 89333000
A5: 낙찰률 | B5: =E4/B4 -> 0.98977353 | D5: 계약금액 | E5: ='2025년도'!E6 -> 89333000
A6: 계약일자 | B6: 45853 | D6: 시작일자 | E6: 45853
A7: 계약방법 | B7: 수의계약 | D7: 종료일자 | E7: 45929
A8: 계약유형 | B8: ='2025년도'!B6 -> 공사 | D8: 검수일 | E8: 45929
A9: 계약상대자 | B9: 업체명 | C9: 성명 | D9: 주소
B10: ='2025년도'!G6 -> 아이언앤디㈜ | C10: 김헌일 | D10: 서울특별시양천구오목로50길35,동양빌딩5층
A11: 수의계약사유 | B11: 「지방계약법 시행령」 제25조 등 관계법령
A12: 사업장소 | B12: 통영케이블카

Sheet 3
A2: 연번 | B2: 3
A3: 계약명 | B3: ='2025년도'!D7 -> 디피랑 하계 근무복 구입
A4: 예정가격 | B4: 1980000 | D4: 최초계약금액 | E4: 1603800
A5: 낙찰률 | B5: =E4/B4 -> 0.81 | D5: 계약금액 | E5: 1603800
A6: 계약일자 | B6: 45859 | D6: 시작일자 | E6: 45859
A7: 계약방법 | B7: 수의계약 | D7: 종료일자 | E7: 45869
A8: 계약유형 | B8: ='2025년도'!B7 -> 물품 | D8: 검수일 | E8: 45860
A9: 계약상대자 | B9: 업체명 | C9: 성명 | D9: 주소
B10: ='2025년도'!G7 -> 티엔에프(TNF) 통영점 | C10: 임계임 | D10: 경상남도 통영시 중앙로 321, 101호
A11: 수의계약사유 | B11: 「지방계약법 시행령」 제25조 등 관계법령
A12: 사업장소 | B12: 디피랑

Sheet 4
A2: 연번 | B2: 4
A3: 계약명 | B3: ='2025년도'!D8 -> 케이블카 상부 구동활차 키 및 차량용 도어링크 구입
A4: 예정가격 | B4: 2100000 | D4: 최초계약금액 | E4: ='2025년도'!E8 -> 2057000
A5: 낙찰률 | B5: =E4/B4 -> 0.97952381 | D5: 계약금액 | E5: =E4 -> 2057000
A6: 계약일자 | B6: 45875 | D6: 시작일자 | E6: 45875
A7: 계약방법 | B7: 수의계약 | D7: 종료일자 | E7: 45900
A8: 계약유형 | B8: ='2025년도'!B8 -> 물품 | D8: 검수일 | E8: 45883
A9: 계약상대자 | B9: 업체명 | C9: 성명 | D9: 주소
B10: ='2025년도'!G8 -> 지제이테크 | C10: 임규목 | D10: 인천광역시 남동구 은청로 4-7 B동 3충 330호
A11: 수의계약사유 | B11: 「지방계약법 시행령」 제25조 등 관계법령
A12: 사업장소 | B12: 통영케이블카

Sheet 5
A2: 연번 | B2: 5
A3: 계약명 | B3: ='2025년도'!D9 -> 디피랑 팩레이저 조명 구입
A4: 예정가격 | B4: 6300000 | D4: 최초계약금액 | E4: ='2025년도'!E9 -> 5500000
A5: 낙찰률 | B5: =E4/B4 -> 0.87301587 | D5: 계약금액 | E5: ='2025년도'!E9 -> 5500000
A6: 계약일자 | B6: 45875 | D6: 시작일자 | E6: 45875
A7: 계약방법 | B7: 수의계약 | D7: 종료일자 | E7: 45930
A8: 계약유형 | B8: ='2025년도'!B9 -> 물품 | D8: 검수일 | E8: 45890
A9: 계약상대자 | B9: 업체명 | C9: 성명 | D9: 주소
B10: ='2025년도'!G9 -> 제이에스앤 | C10: 김지수 | D10: 경상남도 양산시 어실로 270(어곡동)
A11: 수의계약사유 | B11: 「지방계약법 시행령」 제25조 등 관계법령
A12: 사업장소 | B12: 디피랑

Sheet 6
A2: 연번 | B2: 6
A3: 계약명 | B3: ='2025년도'!D10 -> 욕지섬모노레일 피뢰기 및 접지선 교체
A4: 예정가격 | B4: 3800000 | D4: 최초계약금액 | E4: ='2025년도'!E10 -> 3361220
A5: 낙찰률 | B5: =E4/B4 -> 0.88453158 | D5: 계약금액 | E5: =E4 -> 3361220
A6: 계약일자 | B6: 45887 | D6: 시작일자 | E6: 45897
A7: 계약방법 | B7: 수의계약 | D7: 종료일자 | E7: 45917
A8: 계약유형 | B8: ='2025년도'!B10 -> 공사 | D8: 검수일 | E8: 45908
A9: 계약상대자 | B9: 업체명 | C9: 성명 | D9: 주소
B10: ='2025년도'!G10 -> 주식회사 굿모닝전기 | C10: 박성순 | D10: 경상남도 통영시 미나리길 46, 101호(무전동)
A11: 수의계약사유 | B11: 「지방계약법 시행령」 제25조 등 관계법령
A12: 사업장소 | B12: 통영욕지섬모노레일

Sheet 7
A2: 연번 | B2: 7
A3: 계약명 | B3: ='2025년도'!D11 -> 디피랑 팔찌 입장권 구입
A4: 예정가격 | B4: 3900000 | D4: 최초계약금액 | E4: ='2025년도'!E11 -> 3300000
A5: 낙찰률 | B5: =E4/B4 -> 0.84615385 | D5: 계약금액 | E5: =E4 -> 3300000
A6: 계약일자 | B6: 45890 | D6: 시작일자 | E6: 45890
A7: 계약방법 | B7: 수의계약 | D7: 종료일자 | E7: 45930
A8: 계약유형 | B8: ='2025년도'!B11 -> 물품 | D8: 검수일 | E8: 45894
A9: 계약상대자 | B9: 업체명 | C9: 성명 | D9: 주소
B10: ='2025년도'!G11 -> 제이텍 스크린 | C10: 곽혜주 | D10: 경기도 부천시 원미구 부천로 323, 6 층 605,606호
A11: 수의계약사유 | B11: 「지방계약법 시행령」 제25조 등 관계법령
A12: 사업장소 | B12: 디피랑

Sheet 8
A2: 연번 | B2: 8
A3: 계약명 | B3: ='2025년도'!D12 -> 디피랑 4K HDMI 광연장기 구입
A4: 예정가격 | B4: 4800000 | D4: 최초계약금액 | E4: ='2025년도'!E12 -> 4180000
A5: 낙찰률 | B5: =E4/B4 -> 0.87083333 | D5: 계약금액 | E5: =E4 -> 4180000
A6: 계약일자 | B6: 45895 | D6: 시작일자 | E6: 45895
A7: 계약방법 | B7: 수의계약 | D7: 종료일자 | E7: 45961
A8: 계약유형 | B8: ='2025년도'!C12 -> 문화시설부 | D8: 검수일 | E8: 45912
A9: 계약상대자 | B9: 업체명 | C9: 성명 | D9: 주소
B10: ='2025년도'!G12 -> ㈜제이씨앤더블유 | C10: 우종률 | D10: 경기도 부천시 길주로411번길 20, 춘의 디아크원 921호
A11: 수의계약사유 | B11: 「지방계약법 시행령」 제25조 등 관계법령
A12: 사업장소 | B12: 디피랑

Sheet 9
A2: 연번 | B2: 9
A3: 계약명 | B3: ='2025년도'!D13 -> 욕지섬모노레일 손해배상소송 감정보고서 기술분석 용역
A4: 예정가격 | B4: 9550000 | D4: 최초계약금액 | E4: ='2025년도'!E13 -> 8600000
A5: 낙찰률 | B5: =E4/B4 -> 0.90052356 | D5: 계약금액 | E5: =E4 -> 8600000
A6: 계약일자 | B6: 45898 | D6: 시작일자 | E6: 45901
A7: 계약방법 | B7: 수의계약 | D7: 종료일자 | E7: 45950
A8: 계약유형 | B8: ='2025년도'!B13 -> 용역 | D8: 검수일 | E8: 45950
A9: 계약상대자 | B9: 업체명 | C9: 성명 | D9: 주소
B10: ='2025년도'!G13 -> 인제대학교산학협력단 | C10: 손근용 | D10: 경상남도 김해시 인제로 197(어방동)
A11: 수의계약사유 | B11: 「지방계약법 시행령」 제25조 등 관계법령
A12: 사업장소 | B12: 통영관광개발공사

Sheet 10
A2: 연번 | B2: 10
A3: 계약명 | B3: ='2025년도'!D14 -> 케이블카 하부역사 지붕 보수 공사
A4: 예정가격 | B4: 10530000 | D4: 최초계약금액 | E4: 10500000
A5: 낙찰률 | B5: =E4/B4 -> 0.997151 | D5: 계약금액 | E5: =E4 -> 10500000
A6: 계약일자 | B6: 45910 | D6: 시작일자 | E6: 45915
A7: 계약방법 | B7: 수의계약 | D7: 종료일자 | E7: 45930
A8: 계약유형 | B8: ='2025년도'!B14 -> 공사 | D8: 검수일 | E8: 45930
A9: 계약상대자 | B9: 업체명 | C9: 성명 | D9: 주소
B10: ='2025년도'!G14 -> (주)우승 | C10: 이경희 | D10: 경남 통영시 해평 4길12-1(봉평동)
A11: 수의계약사유 | B11: 「지방계약법 시행령」 제25조 등 관계법령
A12: 사업장소 | B12: 통영욕지섬모노레일

Sheet 11
A2: 연번 | B2: 11
A3: 계약명 | B3: ='2025년도'!D15 -> 케이블카 중간지주 리프트 방호울 교체 공사
A4: 예정가격 | B4: 5536000 | D4: 최초계약금액 | E4: ='2025년도'!E15 -> 4982400
A5: 낙찰률 | B5: =E4/B4 -> 0.9 | D5: 계약금액 | E5: =E4 -> 4982400
A6: 계약일자 | B6: 45910 | D6: 시작일자 | E6: 45915
A7: 계약방법 | B7: 수의계약 | D7: 종료일자 | E7: 45930
A8: 계약유형 | B8: ='2025년도'!B15 -> 공사 | D8: 검수일 | E8: 45916
A9: 계약상대자 | B9: 업체명 | C9: 성명 | D9: 주소
B10: ='2025년도'!G15 -> 주식회사 도담 | C10: 박향주 | D10: 경상남도 통영시 멘데산업길 5, 2층(정량동)
A11: 수의계약사유 | B11: 「지방계약법 시행령」 제25조 등 관계법령
A12: 사업장소 | B12: 통영관광개발공사

Sheet 12
A2: 연번 | B2: 12
A3: 계약명 | B3: ='2025년도'!D16 -> 상부역사 야외용 원목 테이블 교체
A4: 예정가격 | B4: 2400000 | D4: 최초계약금액 | E4: ='2025년도'!E16 -> 2376000
A5: 낙찰률 | B5: =E4/B4 -> 0.99 | D5: 계약금액 | E5: =E4 -> 2376000
A6: 계약일자 | B6: 45911 | D6: 시작일자 | E6: 45929
A7: 계약방법 | B7: 수의계약 | D7: 종료일자 | E7: 45961
A8: 계약유형 | B8: ='2025년도'!B16 -> 물품 | D8: 검수일 | E8: 45929
A9: 계약상대자 | B9: 업체명 | C9: 성명 | D9: 주소
B10: ='2025년도'!G16 -> 서준디자인 | C10: 정영섭 | D10: 경상남도 거제시 연초면 송정1길 71-12
A11: 수의계약사유 | B11: 「지방계약법 시행령」 제25조 등 관계법령
A12: 사업장소 | B12: 통영케이블카

Sheet 13
A2: 연번 | B2: 13
A3: 계약명 | B3: ='2025년도'!D17 -> 케이블카 하부역사 외부매점 환경개선공사
A4: 예정가격 | B4: 2692000 | D4: 최초계약금액 | E4: ='2025년도'!E17 -> 2422800
A5: 낙찰률 | B5: =E4/B4 -> 0.9 | D5: 계약금액 | E5: =E4 -> 2422800
A6: 계약일자 | B6: 45911 | D6: 시작일자 | E6: 45918
A7: 계약방법 | B7: 수의계약 | D7: 종료일자 | E7: 45930
A8: 계약유형 | B8: ='2025년도'!B17 -> 공사 | D8: 검수일 | E8: 45926
A9: 계약상대자 | B9: 업체명 | C9: 성명 | D9: 주소
B10: ='2025년도'!G17 -> 공간씨엔아이(주) | C10: 권재훈 | D10: 경상남도 통영시 멘데산업길 5, 2층 202호
A11: 수의계약사유 | B11: 「지방계약법 시행령」 제25조 등 관계법령
A12: 사업장소 | B12: 통영관광개발공사

Sheet 14
A2: 연번 | B2: 14
A3: 계약명 | B3: ='2025년도'!D18 -> 하부역사 철골 도장공사
A4: 예정가격 | B4: 17500000 | D4: 최초계약금액 | E4: 17454820
A5: 낙찰률 | B5: =E4/B4 -> 0.99741829 | D5: 계약금액 | E5: =E4 -> 17454820
A6: 계약일자 | B6: 45912 | D6: 시작일자 | E6: 45915
A7: 계약방법 | B7: 수의계약 | D7: 종료일자 | E7: 45942
A8: 계약유형 | B8: ='2025년도'!B18 -> 공사 | D8: 검수일 | E8: 45932
A9: 계약상대자 | B9: 업체명 | C9: 성명 | D9: 주소
B10: ='2025년도'!G18 -> 진성개발 | C10: 성동진 | D10: 경남 통영시 광도면 노산2길 76
A11: 수의계약사유 | B11: 「지방계약법 시행령」 제25조 등 관계법령
A12: 사업장소 | B12: 통영관광개발공사

Sheet 15
A2: 연번 | B2: 15
A3: 계약명 | B3: ='2025년도'!D19 -> 케이블카 상부역사 PIT층 데크철골 및 계단 도장공사
A4: 예정가격 | B4: 19690000 | D4: 최초계약금액 | E4: ='2025년도'!E19 -> 17944200
A5: 낙찰률 | B5: =E4/B4 -> 0.9113357 | D5: 계약금액 | E5: =E4 -> 17944200
A6: 계약일자 | B6: 45912 | D6: 시작일자 | E6: 45915
A7: 계약방법 | B7: 수의계약 | D7: 종료일자 | E7: 45942
A8: 계약유형 | B8: ='2025년도'!B19 -> 공사 | D8: 검수일 | E8: 45931
A9: 계약상대자 | B9: 업체명 | C9: 성명 | D9: 주소
B10: ='2025년도'!G19 -> 에이스건설 | C10: 양미옥 | D10: 경상남도 통영시 광도면 노산길 128
A11: 수의계약사유 | B11: 「지방계약법 시행령」 제25조 등 관계법령
A12: 사업장소 | B12: 통영케이블카

Sheet 16
A2: 연번 | B2: 16
A3: 계약명 | B3: ='2025년도'!D20 -> 케이블카 상부역사 스카이워크 지붕 판넬 도장공사
A4: 예정가격 | B4: 10560000 | D4: 최초계약금액 | E4: ='2025년도'!E20 -> 9479950
A5: 낙찰률 | B5: =E4/B4 -> 0.89772254 | D5: 계약금액 | E5: =E4 -> 9479950
A6: 계약일자 | B6: 45912 | D6: 시작일자 | E6: 45915
A7: 계약방법 | B7: 수의계약 | D7: 종료일자 | E7: 45930
A8: 계약유형 | B8: ='2025년도'!B20 -> 공사 | D8: 검수일 | E8: 45930
A9: 계약상대자 | B9: 업체명 | C9: 성명 | D9: 주소
B10: ='2025년도'!G20 -> 버티컬 세븐 코리아 | C10: 김성현 | D10: 경상남도 통영시 데메4길 68, 201호(도남동, 성원상가)
A11: 수의계약사유 | B11: 「지방계약법 시행령」 제25조 등 관계법령
A12: 사업장소 | B12: 통영케이블카

Sheet 17
A2: 연번 | B2: 18
A3: 계약명 | B3: ='2025년도'!D21 -> 케이블카 내 차선도색 공사
A4: 예정가격 | B4: 5250000 | D4: 최초계약금액 | E4: ='2025년도'!E21 -> 5224000
A5: 낙찰률 | B5: =E4/B4 -> 0.99504762 | D5: 계약금액 | E5: =E4 -> 5224000
A6: 계약일자 | B6: 45925 | D6: 시작일자 | E6: 45926
A7: 계약방법 | B7: 수의계약 | D7: 종료일자 | E7: 45932
A8: 계약유형 | B8: ='2025년도'!B21 -> 공사 | D8: 검수일 | E8: 45930
A9: 계약상대자 | B9: 업체명 | C9: 성명 | D9: 주소
B10: 만수산업 | C10: 이만수 | D10: 창원시 마산합포구 유산군령로 184-32
A11: 수의계약사유 | B11: 「지방계약법 시행령」 제25조 등 관계법령
A12: 사업장소 | B12: 통영케이블카

Sheet 18
A2: 연번 | B2: 18
A3: 계약명 | B3: ='2025년도'!D22 -> 케이블카 차량 관련 부품 2축 기어캡 구입
A4: 예정가격 | B4: 2700000 | D4: 최초계약금액 | E4: ='2025년도'!E22 -> 2601500
A5: 낙찰률 | B5: =E4/B4 -> 0.96351852 | D5: 계약금액 | E5: =E4 -> 2601500
A6: 계약일자 | B6: 45926 | D6: 시작일자 | E6: 45926
A7: 계약방법 | B7: 수의계약 | D7: 종료일자 | E7: 45961
A8: 계약유형 | B8: ='2025년도'!B22 -> 물품 | D8: 검수일 | E8: 45932
A9: 계약상대자 | B9: 업체명 | C9: 성명
B10: ='2025년도'!G22 -> 나산기계 주식회사 | C10: 유병화 | D10: 인천광역시 남동구 고잔동 653-6번지
A11: 수의계약사유 | B11: 「지방계약법 시행령」 제25조 등 관계법령
A12: 사업장소 | B12: 통영케이블카
