Workbook

Sheet 2025년도
A1: 2025년 2분기 수의계약현황
A3: ■ 계약총괄
A4: 연번 | B4: 구분 | C4: 부서명 | D4: 계약명 | E4: 계약금액 | F4: 계약일 | G4: 계약상대자 | H4: 비고 | I4: 증빙번호
A5: 1 | B5: 용역 | C5: 경영지원팀 | D5: 2025년 제1차 직원 공개채용 필기시험 대행 용역 | E5: 9372000 | F5: 2025.04.02. | G5: 주식회사 사람인
A6: 2 | B6: 물품 | C6: 문화시설팀 | D6: 디피랑 춘추계 근무복 구입 | E6: 2390200 | F6: 2025.04.14. | G6: ㈜우성
A7: 3 | B7: 물품 | C7: 문화시설팀 | D7: 디피랑 글램핑 텐트 교체 | E7: 4070000 | F7: 2025.04.17. | G7: 주식회사 하드기어
A8: 4 | B8: 물품 | C8: 케이블카팀 | D8: 케이블카 유압 릴리프 밸브 구입 | E8: 1199000 | F8: 2025.04.29. | G8: 도펠마이어코리아 유한회사
A9: 5 | B9: 물품 | C9: 케이블카팀 | D9: 케이블카 악삭력 측정용 로드셀 구입 | E9: 2618000 | F9: 2025.04.29. | G9: 씨앤디테크
A10: 6 | B10: 물품 | C10: 기획마케팅팀 | D10: 공사 근무복(춘추) 구입 | E10: 4653000 | F10: 2025.04.29. | G10: 필로
A11: 7 | B11: 물품 | C11: 문화시설팀 | D11: 디피랑 라이트볼 구입 | E11: 33000000 | F11: 2025.04.29. | G11: 주식회사 닷밀
A12: 8 | B12: 물품 | C12: 케이블카팀 | D12: 케이블카 상부 구동활차 부품 구입 | E12: 17060000 | F12: 2025.05.02. | G12: 지제이테크
A13: 9 | B13: 물품 | C13: 케이블카팀 | D13: 케이블카 오퍼레이팅볼 구입 | E13: 1500000 | F13: 2025.05.02. | G13: 다이넥스 부산점
A14: 10 | B14: 물품 | C14: 케이블카팀 | D14: 어드벤처타워 연속빌레이(SSB) 락 해제장치 구입 | E14: 2200000 | F14: 2025.05.14. | G14: 어드벤처 주식회사
A15: 11 | B15: 물품 | C15: 케이블카팀 | D15: 케이블카 구동타이어 휠볼트 구입 | E15: 9350000 | F15: 2025.06.02. | G15: 쌍림비앤피
A16: 12 | B16: 물품 | C16: 경영지원팀 | D16: 통영관광개발공사 통합전산업무시스템 구입 | E16: 51370000 | F16: 2025.06.02. | G16: 하이텍라인
... A21: 17 | B21: 용역 | C21: 문화시설팀 | D21: 디피랑 전기이륜차 수리 | E21: 1430000 | F21: 2025.06.30. | G21: 야마하통영 덕바이크

Sheet 1
A2: 연번 | B2: 1
A3: 계약명 | B3: ='2025년도'!D5 -> 2025년 제1차 직원 공개채용 필기시험 대행 용역
A4: 예정가격 | B4: 13420000 | D4: 최초계약금액 | E4: 9372000
A5: 낙찰률 | B5: =E4/B4 -> 0.69836066 | D5: 계약금액 | E5: 9372000
A6: 계약일자 | B6: 45749 | D6: 시작일자 | E6: 45749
A7: 계약방법 | B7: 수의계약 | D7: 종료일자 | E7: 45823
A8: 계약유형 | B8: ='2025년도'!B5 -> 용역 | D8: 검수일 | E8: 45807
A9: 계약상대자 | B9: 업체명 | C9: 성명 | D9: 주소
B10: ='2025년도'!G5 -> 주식회사 사람인 | C10: 황현순 | D10: 서울 강서구 공항대로 165, C동 11층
A11: 수의계약사유 | B11: 「지방계약법 시행령」 제25조 등 관계법령
A12: 사업장소 | B12: 통영케이블카

Sheet 2
A2: 연번 | B2: 2
A3: 계약명 | B3: ='2025년도'!D6 -> 디피랑 춘추계 근무복 구입
A4: 예정가격 | B4: 3000000 | D4: 최초계약금액 | E4: 2390200
A5: 낙찰률 | B5: =E4/B4 -> 0.79673333 | D5: 계약금액 | E5: ='2025년도'!E6 -> 2390200
A6: 계약일자 | B6: 45761 | D6: 시작일자 | E6: 45761
A7: 계약방법 | B7: 수의계약 | D7: 종료일자 | E7: 45777
A8: 계약유형 | B8: ='2025년도'!B6 -> 물품 | D8: 검수일 | E8: 45762
A9: 계약상대자 | B9: 업체명 | C9: 성명 | D9: 주소
B10: ='2025년도'!G6 -> ㈜우성 | C10: 김치홍 | D10: 경남 양산시 서일동1길 30
A11: 수의계약사유 | B11: 「지방계약법 시행령」 제25조 등 관계법령
A12: 사업장소 | B12: 디피랑

Sheet 3
A2: 연번 | B2: 3
A3: 계약명 | B3: ='2025년도'!D7 -> 디피랑 글램핑 텐트 교체
A4: 예정가격 | B4: 4500000 | D4: 최초계약금액 | E4: 4070000
A5: 낙찰률 | B5: =E4/B4 -> 0.90444444 | D5: 계약금액 | E5: ='2025년도'!E7 -> 4070000
A6: 계약일자 | B6: 45764 | D6: 시작일자 | E6: 45764
A7: 계약방법 | B7: 수의계약 | D7: 종료일자 | E7: 45808
A8: 계약유형 | B8: ='2025년도'!B7 -> 물품 | D8: 검수일 | E8: 45776
A9: 계약상대자 | B9: 업체명 | C9: 성명 | D9: 주소
B10: ='2025년도'!G7 -> 주식회사 하드기어 | C10: 이광호 | D10: 경기 용인시 수지구 현암로 111, 701호
A11: 수의계약사유 | B11: 「지방계약법 시행령」 제25조 등 관계법령
A12: 사업장소 | B12: 디피랑

Sheet 4
A2: 연번 | B2: 4
A3: 계약명 | B3: ='2025년도'!D8 -> 케이블카 유압 릴리프 밸브 구입
A4: 예정가격 | B4: 1400000 | D4: 최초계약금액 | E4: 1199000
A5: 낙찰률 | B5: =E4/B4 -> 0.85642857 | D5: 계약금액 | E5: ='2025년도'!E8 -> 1199000
A6: 계약일자 | B6: 45776 | D6: 시작일자 | E6: 45776
A7: 계약방법 | B7: 수의계약 | D7: 종료일자 | E7: 45900
A8: 계약유형 | B8: ='2025년도'!B8 -> 물품 | D8: 검수일 | E8: 45859
A9: 계약상대자 | B9: 업체명 | C9: 성명 | D9: 주소
B10: ='2025년도'!G8 -> 도펠마이어코리아 유한회사 | C10: 엘리아스페텔레 | D10: 경기 하남시 미사대로 550, 509호 510호
A11: 수의계약사유 | B11: 「지방계약법 시행령」 제25조 등 관계법령
A12: 사업장소 | B12: 통영케이블카

Sheet 5
A2: 연번 | B2: 5
A3: 계약명 | B3: ='2025년도'!D9 -> 케이블카 악삭력 측정용 로드셀 구입
A4: 예정가격 | B4: 2700000 | D4: 최초계약금액 | E4: 2618000
A5: 낙찰률 | B5: =E4/B4 -> 0.96962963 | D5: 계약금액 | E5: ='2025년도'!E9 -> 2618000
A6: 계약일자 | B6: 45776 | D6: 시작일자 | E6: 45776
A7: 계약방법 | B7: 수의계약 | D7: 종료일자 | E7: 45838
A8: 계약유형 | B8: ='2025년도'!B9 -> 물품 | D8: 검수일 | E8: 45838
A9: 계약상대자 | B9: 업체명 | C9: 성명 | D9: 주소
B10: ='2025년도'!G9 -> 씨앤디테크 | C10: 전원근 | D10: 경기 화성시 동탄영천로 131, 10층 18호
A11: 수의계약사유 | B11: 「지방계약법 시행령」 제25조 등 관계법령
A12: 사업장소 | B12: 디피랑

Sheet 6
A2: 연번 | B2: 6
A3: 계약명 | B3: ='2025년도'!D10 -> 공사 근무복(춘추) 구입
A4: 예정가격 | B4: 4995000 | D4: 최초계약금액 | E4: 4653000
A5: 낙찰률 | B5: =E4/B4 -> 0.93153153 | D5: 계약금액 | E5: ='2025년도'!E10 -> 4653000
A6: 계약일자 | B6: 45776 | D6: 시작일자 | E6: 45776
A7: 계약방법 | B7: 수의계약 | D7: 종료일자 | E7: 45786
A8: 계약유형 | B8: ='2025년도'!B10 -> 물품 | D8: 검수일 | E8: 45785
A9: 계약상대자 | B9: 업체명 | C9: 성명 | D9: 주소
B10: 필로 | C10: 조현재 | D10: 경기 부천시 원미구 부천로57번길 28, A동 501호
A11: 수의계약사유 | B11: 「지방계약법 시행령」 제25조 등 관계법령
A12: 사업장소 | B12: 디피랑

Sheet 7
A2: 연번 | B2: 7
A3: 계약명 | B3: ='2025년도'!D11 -> 디피랑 라이트볼 구입
A4: 예정가격 | B4: 37000000 | D4: 최초계약금액 | E4: 33000000
A5: 낙찰률 | B5: =E4/B4 -> 0.89189189 | D5: 계약금액 | E5: 33000000
A6: 계약일자 | B6: 45776 | D6: 시작일자 | E6: 45776
A7: 계약방법 | B7: 수의계약 | D7: 종료일자 | E7: 45869
A8: 계약유형 | B8: ='2025년도'!B11 -> 물품 | D8: 검수일 | E8: 45860
A9: 계약상대자 | B9: 업체명 | C9: 성명 | D9: 주소
B10: 주식회사 닷밀 | C10: 정해운 | D10: 서울 마포구 동교로41길 41, 지1층,1층,2층
A11: 수의계약사유 | B11: 「지방계약법 시행령」 제25조 등 관계법령
A12: 사업장소 | B12: 통영케이블카

Sheet 8
A2: 연번 | B2: 8
A3: 계약명 | B3: ='2025년도'!D12 -> 케이블카 상부 구동활차 부품 구입
A4: 예정가격 | B4: 19100000 | D4: 최초계약금액 | E4: 17060000
A5: 낙찰률 | B5: =E4/B4 -> 0.89319372 | D5: 계약금액 | E5: 17060000
A6: 계약일자 | B6: 45779 | D6: 시작일자 | E6: 45779
A7: 계약방법 | B7: 수의계약 | D7: 종료일자 | E7: 45838
A8: 계약유형 | B8: ='2025년도'!B12 -> 물품 | D8: 검수일 | E8: 45834
A9: 계약상대자 | B9: 업체명 | C9: 성명 | D9: 주소
B10: ='2025년도'!G12 -> 지제이테크 | C10: 임규묵 | D10: 인천 남동구 은청로 4-7, B동 3층 330호
A11: 수의계약사유 | B11: 「지방계약법 시행령」 제25조 등 관계법령
A12: 사업장소 | B12: 통영관광개발공사

Sheet 9
A2: 연번 | B2: 9
A3: 계약명 | B3: ='2025년도'!D13 -> 케이블카 오퍼레이팅볼 구입
A4: 예정가격 | B4: 1650000 | D4: 최초계약금액 | E4: 1500000
A5: 낙찰률 | B5: =E4/B4 -> 0.90909091 | D5: 계약금액 | E5: ='2025년도'!E13 -> 1500000
A6: 계약일자 | B6: 45779 | D6: 시작일자 | E6: 45779
A7: 계약방법 | B7: 수의계약 | D7: 종료일자 | E7: 45808
A8: 계약유형 | B8: 물품 | D8: 검수일 | E8: 45800
A9: 계약상대자 | B9: 업체명 | C9: 성명 | D9: 주소
B10: 다이넥스 부산점 | C10: 서정숙 | D10: 부산 강서구 공항앞길85번길 122-1
A11: 수의계약사유 | B11: 「지방계약법 시행령」 제25조 등 관계법령
A12: 사업장소 | B12: 통영케이블카

Sheet 10
A2: 연번 | B2: 10
A3: 계약명 | B3: ='2025년도'!D14 -> 어드벤처타워 연속빌레이(SSB) 락 해제장치 구입
A4: 예정가격 | B4: 2500000 | D4: 최초계약금액 | E4: 2200000
A5: 낙찰률 | B5: =E4/B4 -> 0.88 | D5: 계약금액 | E5: 2200000
A6: 계약일자 | B6: 45791 | D6: 시작일자 | E6: 45791
A7: 계약방법 | B7: 수의계약 | D7: 종료일자 | E7: 45838
A8: 계약유형 | B8: ='2025년도'!B14 -> 물품 | D8: 검수일 | E8: 45831
A9: 계약상대자 | B9: 업체명 | C9: 성명 | D9: 주소
B10: 어드벤처 주식회사 | C10: 길승환 | D10: 경기 하남시 초광산단서로 14, 지하1층
A11: 수의계약사유 | B11: 「지방계약법 시행령」 제25조 등 관계법령
A12: 사업장소 | B12: 통영관광개발공사

Sheet 11
A2: 연번 | B2: 11
A3: 계약명 | B3: ='2025년도'!D15 -> 케이블카 구동타이어 휠볼트 구입
A4: 예정가격 | B4: 9700000 | D4: 최초계약금액 | E4: 9350000
A5: 낙찰률 | B5: =E4/B4 -> 0.96391753 | D5: 계약금액 | E5: 9350000
A6: 계약일자 | B6: 45810 | D6: 시작일자 | E6: 45810
A7: 계약방법 | B7: 수의계약 | D7: 종료일자 | E7: 45838
A8: 계약유형 | B8: 물품 | D8: 검수일 | E8: 45820
A9: 계약상대자 | B9: 업체명 | C9: 성명 | D9: 주소
B10: 쌍림비앤피 | C10: 김정환 | D10: 경남 양산시 동면 금오6길 37, 1층 102호
A11: 수의계약사유 | B11: 「지방계약법 시행령」 제25조 등 관계법령
A12: 사업장소 | B12: 통영케이블카

Sheet 12
A2: 연번 | B2: 12
A3: 계약명 | B3: ='2025년도'!D16 -> 통영관광개발공사 통합전산업무시스템 구입
A4: 예정가격 | B4: 55000000 | D4: 최초계약금액 | E4: 51370000
A5: 낙찰률 | B5: =E4/B4 -> 0.934 | D5: 계약금액 | E5: 51370000
A6: 계약일자 | B6: 45810 | D6: 시작일자 | E6: 45810
A7: 계약방법 | B7: 수의계약 | D7: 종료일자 | E7: 45838
A8: 계약유형 | B8: 물품 | D8: 검수일 | E8: 45835
A9: 계약상대자 | B9: 업체명 | C9: 성명 | D9: 주소
B10: ='2025년도'!G16 -> 하이텍라인 | C10: 제창환 | D10: 경남 창원시 의창구 차룡로48번길 44, 10층 1001호
A11: 수의계약사유 | B11: 「지방계약법 시행령」 제25조 등 관계법령
A12: 사업장소 | B12: 통영관광개발공사

Sheet 13
A2: 연번 | B2: 13
A3: 계약명 | B3: ='2025년도'!D17 -> 케이블카 상부역사 PIT층 트레이 설치공사
A4: 예정가격 | B4: 4000000 | D4: 최초계약금액 | E4: 3700000
A5: 낙찰률 | B5: =E4/B4 -> 0.925 | D5: 계약금액 | E5: 3700000
A6: 계약일자 | B6: 45817 | D6: 시작일자 | E6: 45817
A7: 계약방법 | B7: 수의계약 | D7: 종료일자 | E7: 45838
A8: 계약유형 | B8: 공사 | D8: 검수일 | E8: 45833
A9: 계약상대자 | B9: 업체명 | C9: 성명 | D9: 주소
B10: 광림전기공사 | C10: 송순이 | D10: 경남 통영시 용남면 장문로 425
A11: 수의계약사유 | B11: 「지방계약법 시행령」 제25조 등 관계법령
A12: 사업장소 | B12: 통영케이블카

Sheet 14
A2: 연번 | B2: 14
A3: 계약명 | B3: ='2025년도'!D18 -> 통영국민체육센터 승강기 교체부품 구입
A4: 예정가격 | B4: 2000000 | D4: 최초계약금액 | E4: 1700000
A5: 낙찰률 | B5: =E4/B4 -> 0.85 | D5: 계약금액 | E5: 1700000
A6: 계약일자 | B6: 45831 | D6: 시작일자 | E6: 45831
A7: 계약방법 | B7: 수의계약 | D7: 종료일자 | E7: 45861
A8: 계약유형 | B8: 물품 | D8: 검수일 | E8: 45834
A9: 계약상대자 | B9: 업체명 | C9: 성명 | D9: 주소
B10: ㈜엘지엘리베이터서비스 | C10: 배삼순 | D10: 경남 거제시 고현로 55-1
A11: 수의계약사유 | B11: 「지방계약법 시행령」 제25조 등 관계법령
A12: 사업장소 | B12: 통영관광개발공사

Sheet 15
A2: 연번 | B2: 15
A3: 계약명 | B3: ='2025년도'!D19 -> 2025년 통영관광개발공사 위험성평가 용역
A4: 예정가격 | B4: 5000000 | D4: 최초계약금액 | E4: 4950000
A5: 낙찰률 | B5: =E4/B4 -> 0.99 | D5: 계약금액 | E5: 4950000
A6: 계약일자 | B6: 45834 | D6: 시작일자 | E6: 45834
A7: 계약방법 | B7: 수의계약 | D7: 종료일자 | E7: 45961
A8: 계약유형 | B8: 용역 | D8: 검수일
A9: 계약상대자 | B9: 업체명 | C9: 성명 | D9: 주소
B10: (사)대한산업안전협회경남서부지회 | C10: 권영일 | D10: 경남 진주시 영천강로117번길 29, 1,2층
A11: 수의계약사유 | B11: 「지방계약법 시행령」 제25조 등 관계법령
A12: 사업장소 | B12: 통영관광개발공사

Sheet 16
A2: 연번 | B2: 16
A3: 계약명 | B3: ='2025년도'!D20 -> ISO 10002 고객만족경영시스템 인증을 위한 컨설팅 용역
A4: 예정가격 | B4: 5500000 | D4: 최초계약금액 | E4: 5000000
A5: 낙찰률 | B5: =E4/B4 -> 0.90909091 | D5: 계약금액
A6: 계약일자 | B6: 45835 | D6: 시작일자 | E6: 45835
A7: 계약방법 | B7: 수의계약 | D7: 종료일자 | E7: 45930
A8: 계약유형 | B8: 용역 | D8: 검수일
A9: 계약상대자 | B9: 업체명 | C9: 성명 | D9: 주소
B10: 다빛파트너즈 | C10: 이승권 | D10: 경기 성남시 수성구 위례동로 135, 801-38호
A11: 수의계약사유 | B11: 「지방계약법 시행령」 제25조 등 관계법령
A12: 사업장소 | B12: 디피랑

Sheet 17
A2: 연번 | B2: 17
A3: 계약명 | B3: ='2025년도'!D21 -> 디피랑 전기이륜차 수리
A4: 예정가격 | B4: 1600000 | D4: 최초계약금액 | E4: 1430000
A5: 낙찰률 | B5: =E4/B4 -> 0.89375 | D5: 계약금액 | E5: 1430000
A6: 계약일자 | B6: 45838 | D6: 시작일자 | E6: 45838
A7: 계약방법 | B7: 수의계약 | D7: 종료일자 | E7: 45863
A8: 계약유형 | B8: 용역 | D8: 검수일 | E8: 45841
A9: 계약상대자 | B9: 업체명 | C9: 성명 | D9: 주소
B10: 야마하통영 덕바이크 | C10: 김도훈 | D10: 경남 통영시 원문로 41, 1층
A11: 수의계약사유 | B11: 「지방계약법 시행령」 제25조 등 관계법령
A12: 사업장소 | B12: 통영케이블카
