Workbook

Sheet 2025년도
A1: 2025년 1분기 수의계약현황
A3: ■ 계약총괄
A4: 연번 | B4: 구분 | C4: 부서명 | D4: 계약명 | E4: 계약금액 | F4: 계약일 | G4: 계약상대자 | H4: 비고 | I4: 증빙번호
A5: 1 | B5: 용역 | C5: 케이블카팀 | D5: 통영케이블카 승강기 점검보수 용역 | E5: 3960000 | F5: 45663 | G5: ㈜타워엘리베이터
A6: 2 | B6: 용역 | C6: 문화시설팀 | D6: 디피랑 관람구간 CCTV 광선로 보수 | E6: 1320000 | F6: 45665 | G6: ㈜굿링크
A7: 3 | B7: 용역 | C7: 체육시설팀 | D7: 통영체육청소년센터 임시전기 가설 공사 | E7: 4510000 | F7: 45665 | G7: 부경전기공사
A8: 4 | B8: 물품 | C8: 케이블카팀 | D8: 케이블카 안내륜 구입 | E8: 3630000 | F8: 45670 | G8: 쌍림비앤피
A9: 5 | B9: 물품 | C9: 문화시설팀 | D9: 디피랑 4K HDMI 광연장기 구입 | E9: 2035000 | F9: 45677 | G9: ㈜제이씨앤더블유
A10: 6 | B10: 물품 | C10: 문화시설팀 | D10: 디피랑 팔찌입장권 구입 | E10: 3300000 | F10: 45674 | G10: 제이텍 스크린
A11: 7 | B11: 공사 | C11: 케이블카팀 | D11: 케이블카 메인전동기 베어링 교체 공사 | E11: 9300000 | F11: 45677 | G11: 주영테크
A12: 8 | B12: 용역 | C12: 경영지원팀 | D12: 2024 회계연도 결산업무지원 용역 계약 체결 | E12: 5550000 | F12: 45681 | G12: ㈜대양컴퓨터정보
A13: 9 | B13: 물품 | C13: 케이블카팀 | D13: 케이블카 상부 기계실 수변전 전기부품(AISS, MOF) 구입 계약 체결 | E13: 3304400 | F13: 45680 | G13: 밝은전기
A14: 10 | B14: 용역 | C14: 경영지원팀 | D14: 2024 회계연도 세무조정 지원용역 계약 체결 | E14: 6000000 | F14: 45679 | G14: 신한회계법인
A15: 11 | B15: 용역 | C15: 케이블카팀 | D15: 케이블카 상부 기계실 수변전 전기부품 교체 용역 | E15: 1056000 | F15: 45692 | G15: 광림전기공사
A16: 12 | B16: 용역 | C16: 경영지원팀 | D16: 2025년 통영관광개발공사 단체보장보험 용역 | E16: 35535050 | F16: 45715 | G16: 메리츠화재해상보험주식회사
... A26: 22 | B26: 물품 | C26: 케이블카팀 | D26: 케이블카 수삭륜안내륜 고무라이너 구입 | E26: 9086000 | F26: 45728 | G26: 부광고무산업사
A27: 23 | B27: 물품 | C27: 케이블카팀 | D27: 케이블카 마이터기어 구입 | E27: ='23'!E4 -> 9300000 | F27: 45728 | G27: 주영테크
A28: 24 | B28: 물품 | C28: 케이블카팀 | D28: 통영어드벤처타워 자유낙하안전장치(A) 재인증 및 수리 | E28: 4092000 | F28: 45730 | G28: 클라임코리아 주식회사
A29: 25 | B29: 물품 | C29: 케이블카팀 | D29: 케이블카 악삭기 스프링 구입 | E29: 9328000 | F29: 45734 | G29: 슈노르코리아 주식회사
A30: 26 | B30: 물품 | C30: 케이블카팀 | D30: 케이블카 상부 2축 기어박스 구입 | E30: 11330000 | F30: 45736 | G30: 지제이테크
A31: 27 | B31: 물품 | C31: 케이블카팀 | D31: 통영어드벤처타워 연속빌레이(SSB) 구입 | E31: 20700000 | F31: 20225-03-21 | G31: 어드벤처 주식회사
A32: 28 | B32: 물품 | C32: 케이블카팀 | D32: 케이블카 구동 타이어 구입 | E32: 8583850 | F32: 45741 | G32: 도펠마이어코리아 유한회사
A33: 29 | B33: 물품 | C33: 케이블카팀 | D33: 케이블카 오프닝 스프링 구입 | E33: 6380000 | F33: 45741 | G33: 도펠마이어코리아 유한회사
A34: 30 | B34: 공사 | C34: 케이블카팀 | D34: 케이블카 하부 승강장 조명 교체 | E34: 5900000 | F34: 45742 | G34: 광림전기공사
A35: 31 | B35: 물품 | C35: 케이블카팀 | D35: 케이블카 유압 컨트롤 밸브 구입 | E35: 4290000 | F35: 45744 | G35: 이지무역

Sheet 1
A2: 연번 | B2: 1
A3: 계약명 | B3: ='2025년도'!D5 -> 통영케이블카 승강기 점검보수 용역
A4: 예정가격 | B4: 3960000 | D4: 최초계약금액 | E4: 3960000
A5: 낙찰률 | B5: =E4/B4 -> 1 | D5: 계약금액 | E5: ='2025년도'!E5 -> 3960000
A6: 계약일자 | B6: ='2025년도'!F5 -> 45663 | D6: 시작일자 | E6: 45663
A7: 계약방법 | B7: 수의계약 | D7: 종료일자 | E7: 46022
A8: 계약유형 | B8: ='2025년도'!B5 -> 용역 | D8: 검수일
A9: 계약상대자 | B9: 업체명 | C9: 성명 | D9: 주소
B10: ='2025년도'!G5 -> ㈜타워엘리베이터 | C10: 박유하 | D10: 부산 중구 동영로 113-1
A11: 수의계약사유 | B11: 「지방계약법 시행령」 제25조 등 관계법령
A12: 사업장소 | B12: 통영케이블카

Sheet 2
A2: 연번 | B2: 2
A3: 계약명 | B3: ='2025년도'!D6 -> 디피랑 관람구간 CCTV 광선로 보수
A4: 예정가격 | B4: 1320000 | D4: 최초계약금액 | E4: 1320000
A5: 낙찰률 | B5: =E4/B4 -> 1 | D5: 계약금액 | E5: ='2025년도'!E6 -> 1320000
A6: 계약일자 | B6: ='2025년도'!F6 -> 45665 | D6: 시작일자 | E6: 45670
A7: 계약방법 | B7: 수의계약 | D7: 종료일자 | E7: 45672
A8: 계약유형 | B8: ='2025년도'!B6 -> 용역 | D8: 검수일 | E8: 45670
A9: 계약상대자 | B9: 업체명 | C9: 성명 | D9: 주소
B10: ='2025년도'!G6 -> ㈜굿링크 | C10: 이윤순 | D10: 경남 진주시 동진로 307
A11: 수의계약사유 | B11: 「지방계약법 시행령」 제25조 등 관계법령
A12: 사업장소 | B12: 디피랑

Sheet 3
A2: 연번 | B2: 3
A3: 계약명 | B3: ='2025년도'!D7 -> 통영체육청소년센터 임시전기 가설 공사
A4: 예정가격 | B4: 4591000 | D4: 최초계약금액 | E4: 4510000
A5: 낙찰률 | B5: =E4/B4 -> 0.98235679 | D5: 계약금액 | E5: ='2025년도'!E7 -> 4510000
A6: 계약일자 | B6: ='2025년도'!F7 -> 45665 | D6: 시작일자 | E6: 45666
A7: 계약방법 | B7: 수의계약 | D7: 종료일자 | E7: 45688
A8: 계약유형 | B8: ='2025년도'!B7 -> 용역 | D8: 검수일 | E8: 45671
A9: 계약상대자 | B9: 업체명 | C9: 성명 | D9: 주소
B10: ='2025년도'!G7 -> 부경전기공사 | C10: 김경한 | D10: 경남 통영시 용남면 상삼길 105-50
A11: 수의계약사유 | B11: 「지방계약법 시행령」 제25조 등 관계법령
A12: 사업장소 | B12: 디피랑

Sheet 4
A2: 연번 | B2: 4
A3: 계약명 | B3: ='2025년도'!D8 -> 케이블카 안내륜 구입
A4: 예정가격 | B4: 4038000 | D4: 최초계약금액 | E4: 3630000
A5: 낙찰률 | B5: =E4/B4 -> 0.89895988 | D5: 계약금액 | E5: ='2025년도'!E8 -> 3630000
A6: 계약일자 | B6: ='2025년도'!F8 -> 45670 | D6: 시작일자 | E6: 45670
A7: 계약방법 | B7: 수의계약 | D7: 종료일자 | E7: 45688
A8: 계약유형 | B8: ='2025년도'!B8 -> 물품 | D8: 검수일 | E8: 45680
A9: 계약상대자 | B9: 업체명 | C9: 성명 | D9: 주소
B10: ='2025년도'!G8 -> 쌍림비앤피 | C10: 김정환 | D10: 경남 양산시 동면 금오6길 37, 1층 102호
A11: 수의계약사유 | B11: 「지방계약법 시행령」 제25조 등 관계법령
A12: 사업장소 | B12: 통영케이블카

Sheet 5
A2: 연번 | B2: 5
A3: 계약명 | B3: ='2025년도'!D9 -> 디피랑 4K HDMI 광연장기 구입
A4: 예정가격 | B4: 2500000 | D4: 최초계약금액 | E4: 2035000
A5: 낙찰률 | B5: =E4/B4 -> 0.814 | D5: 계약금액 | E5: ='2025년도'!E9 -> 2035000
A6: 계약일자 | B6: 45677 | D6: 시작일자 | E6: 45677
A7: 계약방법 | B7: 수의계약 | D7: 종료일자 | E7: 45688
A8: 계약유형 | B8: ='2025년도'!B9 -> 물품 | D8: 검수일 | E8: 45678
A9: 계약상대자 | B9: 업체명 | C9: 성명 | D9: 주소
B10: ='2025년도'!G9 -> ㈜제이씨앤더블유 | C10: 우종률 | D10: 경기 부천시 길주로 77번길 55-19, 501호
A11: 수의계약사유 | B11: 「지방계약법 시행령」 제25조 등 관계법령
A12: 사업장소 | B12: 디피랑

Sheet 6
A2: 연번 | B2: 6
A3: 계약명 | B3: ='2025년도'!D10 -> 디피랑 팔찌입장권 구입
A4: 예정가격 | B4: 3900000 | D4: 최초계약금액 | E4: 3300000
A5: 낙찰률 | B5: =E4/B4 -> 0.84615385 | D5: 계약금액 | E5: ='2025년도'!E10 -> 3300000
A6: 계약일자 | B6: ='2025년도'!F10 -> 45674 | D6: 시작일자 | E6: 45674
A7: 계약방법 | B7: 수의계약 | D7: 종료일자 | E7: 45688
A8: 계약유형 | B8: ='2025년도'!B10 -> 물품 | D8: 검수일 | E8: 45678
A9: 계약상대자 | B9: 업체명 | C9: 성명 | D9: 주소
B10: 제이텍 스크린 | C10: 곽혜주 외 1명 | D10: 경기 부천시 부천로 323, 6층 605, 606호
A11: 수의계약사유 | B11: 「지방계약법 시행령」 제25조 등 관계법령
A12: 사업장소 | B12: 디피랑

Sheet 7
A2: 연번 | B2: 7
A3: 계약명 | B3: ='2025년도'!D11 -> 케이블카 메인전동기 베어링 교체 공사
A4: 예정가격 | B4: 9496000 | D4: 최초계약금액 | E4: 9300000
A5: 낙찰률 | B5: =E4/B4 -> 0.97935973 | D5: 계약금액 | E5: 9300000
A6: 계약일자 | B6: 45677 | D6: 시작일자 | E6: 45677
A7: 계약방법 | B7: 수의계약 | D7: 종료일자 | E7: 45681
A8: 계약유형 | B8: ='2025년도'!B11 -> 공사 | D8: 검수일 | E8: 45679
A9: 계약상대자 | B9: 업체명 | C9: 성명 | D9: 주소
B10: 주영테크 | C10: 김은숙 | D10: 경남 창원시 의창구 북면 운무로 783번길 16
A11: 수의계약사유 | B11: 「지방계약법 시행령」 제25조 등 관계법령
A12: 사업장소 | B12: 통영케이블카

Sheet 8
A2: 연번 | B2: 8
A3: 계약명 | B3: ='2025년도'!D12 -> 2024 회계연도 결산업무지원 용역 계약 체결
A4: 예정가격 | B4: 6000000 | D4: 최초계약금액 | E4: 5550000
A5: 낙찰률 | B5: =E4/B4 -> 0.925 | D5: 계약금액 | E5: ='2025년도'!E12 -> 5550000
A6: 계약일자 | B6: ='2025년도'!F12 -> 45681 | D6: 시작일자 | E6: 45681
A7: 계약방법 | B7: 수의계약 | D7: 종료일자 | E7: 45747
A8: 계약유형 | B8: ='2025년도'!B12 -> 용역 | D8: 검수일 | E8: 45740
A9: 계약상대자 | B9: 업체명 | C9: 성명 | D9: 주소
B10: ='2025년도'!G12 -> ㈜대양컴퓨터정보 | C10: 조연수 외 1명 | D10: 경기 성남시 분당구 황새울로 311번길 14, 504호
A11: 수의계약사유 | B11: 「지방계약법 시행령」 제25조 등 관계법령
A12: 사업장소 | B12: 통영관광개발공사

Sheet 9
A2: 연번 | B2: 9
A3: 계약명 | B3: ='2025년도'!D13 -> 케이블카 상부 기계실 수변전 전기부품(AISS, MOF) 구입 계약 체결
A4: 예정가격 | B4: 3600000 | D4: 최초계약금액 | E4: 3304400
A5: 낙찰률 | B5: =E4/B4 -> 0.91788889 | D5: 계약금액 | E5: ='2025년도'!E13 -> 3304400
A6: 계약일자 | B6: ='2025년도'!F13 -> 45680 | D6: 시작일자 | E6: 45680
A7: 계약방법 | B7: 수의계약 | D7: 종료일자 | E7: 45716
A8: 계약유형 | B8: 물품 | D8: 검수일 | E8: 45700
A9: 계약상대자 | B9: 업체명 | C9: 성명 | D9: 주소
B10: 밝은전기 | C10: 김은진 | D10: 경남 통영시 광도면 죽림2로 55-33, 501호
A11: 수의계약사유 | B11: 「지방계약법 시행령」 제25조 등 관계법령
A12: 사업장소 | B12: 통영케이블카

Sheet 10
A2: 연번 | B2: 10
A3: 계약명 | B3: ='2025년도'!D14 -> 2024 회계연도 세무조정 지원용역 계약 체결
A4: 예정가격 | B4: 6500000 | D4: 최초계약금액 | E4: 6000000
A5: 낙찰률 | B5: =E4/B4 -> 0.92307692 | D5: 계약금액 | E5: ='2025년도'!E14 -> 6000000
A6: 계약일자 | B6: ='2025년도'!F14 -> 45679 | D6: 시작일자 | E6: 45679
A7: 계약방법 | B7: 수의계약 | D7: 종료일자 | E7: 45747
A8: 계약유형 | B8: ='2025년도'!B14 -> 용역 | D8: 검수일 | E8: 45747
A9: 계약상대자 | B9: 업체명 | C9: 성명 | D9: 주소
B10: 신한회계법인 | C10: 이상문 외 | D10: 서울 영등포구 의사당대로 8
A11: 수의계약사유 | B11: 「지방계약법 시행령」 제25조 등 관계법령
A12: 사업장소 | B12: 통영관광개발공사

Sheet 11
A2: 연번 | B2: 11
A3: 계약명 | B3: ='2025년도'!D15 -> 케이블카 상부 기계실 수변전 전기부품 교체 용역
A4: 예정가격 | B4: 1100000 | D4: 최초계약금액 | E4: 1056000
A5: 낙찰률 | B5: =E4/B4 -> 0.96 | D5: 계약금액 | E5: ='2025년도'!E15 -> 1056000
A6: 계약일자 | B6: ='2025년도'!F15 -> 45692 | D6: 시작일자 | E6: 45692
A7: 계약방법 | B7: 수의계약 | D7: 종료일자 | E7: 45702
A8: 계약유형 | B8: 용역 | D8: 검수일 | E8: 45700
A9: 계약상대자 | B9: 업체명 | C9: 성명 | D9: 주소
B10: 광림전기공사 | C10: 송순이 | D10: 경남 통영시 용남면 장문로 425
A11: 수의계약사유 | B11: 「지방계약법 시행령」 제25조 등 관계법령
A12: 사업장소 | B12: 통영케이블카

Sheet 12
A2: 연번 | B2: 12
A3: 계약명 | B3: ='2025년도'!D16 -> 2025년 통영관광개발공사 단체보장보험 용역
A4: 예정가격 | B4: 40000000 | D4: 최초계약금액 | E4: 35535050
A5: 낙찰률 | B5: =E4/B4 -> 0.88837625 | D5: 계약금액 | E5: ='2025년도'!E16 -> 35535050
A6: 계약일자 | B6: ='2025년도'!F16 -> 45715 | D6: 시작일자 | E6: 45717
A7: 계약방법 | B7: 수의계약 | D7: 종료일자 | E7: 46081
A8: 계약유형 | B8: 용역 | D8: 검수일
A9: 계약상대자 | B9: 업체명 | C9: 성명 | D9: 주소
B10: ='2025년도'!G16 -> 메리츠화재해상보험주식회사 | C10: 김중현 | D10: 서울 강남구 강남대로 382, 1층
A11: 수의계약사유 | B11: 「지방계약법 시행령」 제25조 등 관계법령
A12: 사업장소 | B12: 통영관광개발공사

Sheet 13
A2: 연번 | B2: 13
A3: 계약명 | B3: ='2025년도'!D17 -> 케이블카 악삭기 구입
A4: 예정가격 | B4: 448866000 | D4: 최초계약금액 | E4: 404407080
A5: 낙찰률 | B5: =E4/B4 -> 0.9009528 | D5: 계약금액 | E5: 404407080
A6: 계약일자 | B6: ='2025년도'!F17 -> 45698 | D6: 시작일자 | E6: 45698
A7: 계약방법 | B7: 수의계약 | D7: 종료일자 | E7: 45961
A8: 계약유형 | B8: 용역 | D8: 검수일
A9: 계약상대자 | B9: 업체명 | C9: 성명 | D9: 주소
B10: ='2025년도'!G17 -> 도펠마이어코리아 유한회사 | C10: 엘리아스페텔레 | D10: 경기 하남시 미사대로 550, 509호 510호
A11: 수의계약사유 | B11: 「지방계약법 시행령」 제25조 등 관계법령
A12: 사업장소 | B12: 통영케이블카

Sheet 14
A2: 연번 | B2: 14
A3: 계약명 | B3: ='2025년도'!D18 -> 2025년 공사 그룹웨어 유지보수
A4: 예정가격 | B4: 9636000 | D4: 최초계약금액 | E4: 9636000
A5: 낙찰률 | B5: =E4/B4 -> 1 | D5: 계약금액 | E5: 9636000
A6: 계약일자 | D6: 시작일자 | E6: 45689
A7: 계약방법 | B7: 수의계약 | D7: 종료일자 | E7: 46053
A8: 계약유형 | B8: 용역 | D8: 검수일
A9: 계약상대자 | B9: 업체명 | C9: 성명 | D9: 주소
B10: ='2025년도'!G18 -> 주식회사 더존비즈온 | C10: 김용우 | D10: 강원 춘천시 남산면 버들1길 130
A11: 수의계약사유 | B11: 「지방계약법 시행령」 제25조 등 관계법령
A12: 사업장소 | B12: 통영관광개발공사

Sheet 15
A2: 연번 | B2: 15
A3: 계약명 | B3: ='2025년도'!D19 -> 공사 임금체계 개편 용역
A4: 예정가격 | B4: 10000000 | D4: 최초계약금액 | E4: 9900000
A5: 낙찰률 | B5: =E4/B4 -> 0.99 | D5: 계약금액 | E5: ='2025년도'!E19 -> 9900000
A6: 계약일자 | B6: 45709 | D6: 시작일자 | E6: 45709
A7: 계약방법 | B7: 수의계약 | D7: 종료일자 | E7: 45838
A8: 계약유형 | B8: 용역 | D8: 검수일
A9: 계약상대자 | B9: 업체명 | C9: 성명 | D9: 주소
B10: 유닉스 노무법인 | C10: 이기태 | D10: 부산시 연제구 연수로 86
A11: 수의계약사유 | B11: 「지방계약법 시행령」 제25조 등 관계법령
A12: 사업장소 | B12: 통영관광개발공사

Sheet 16
A2: 연번 | B2: 16
A3: 계약명 | B3: ='2025년도'!D20 -> 디피랑 엡손렌즈 구입
A4: 예정가격 | B4: 7000000 | D4: 최초계약금액 | E4: 6360000
A5: 낙찰률 | B5: =E4/B4 -> 0.90857143 | D5: 계약금액 | E5: 6360000
A6: 계약일자 | B6: ='2025년도'!F20 -> 45712 | D6: 시작일자 | E6: 45712
A7: 계약방법 | B7: 수의계약 | D7: 종료일자 | E7: 45723
A8: 계약유형 | B8: 물품 | D8: 검수일 | E8: 45716
A9: 계약상대자 | B9: 업체명 | C9: 성명 | D9: 주소
B10: ㈜프로젝터 매니아 | C10: 정석호 | D10: 서울 영등포구 양평로 22길 21
A11: 수의계약사유 | B11: 「지방계약법 시행령」 제25조 등 관계법령
A12: 사업장소 | B12: 디피랑

Sheet 17
A2: 연번 | B2: 17
A3: 계약명 | B3: ='2025년도'!D21 -> 케이블카 예비원동기 부품 구입
A4: 예정가격 | B4: 13349556 | D4: 최초계약금액 | E4: 13349556
A5: 낙찰률 | B5: =E4/B4 -> 1 | D5: 계약금액 | E5: 13349556
A6: 계약일자 | B6: ='2025년도'!F21 -> 45674 | D6: 시작일자 | E6: 45674
A7: 계약방법 | B7: 수의계약 | D7: 종료일자 | E7: 45688
A8: 계약유형 | B8: 물품 | D8: 검수일 | E8: 45681
A9: 계약상대자 | B9: 업체명 | C9: 성명 | D9: 주소
B10: ='2025년도'!G21 -> ㈜원진에이티 | C10: 이효선 | D10: 서울 영등포구 선유로 13길 25, 306호
A11: 수의계약사유 | B11: 「지방계약법 시행령」 제25조 등 관계법령
A12: 사업장소 | B12: 통영케이블카

Sheet 18
A2: 연번 | B2: 18
A3: 계약명 | B3: ='2025년도'!D22 -> 케이블카 주행륜 구입
A4: 예정가격 | B4: 9840000 | D4: 최초계약금액 | E4: 9240000
A5: 낙찰률 | B5: =E4/B4 -> 0.93902439 | D5: 계약금액 | E5: ='2025년도'!E22 -> 9240000
A6: 계약일자 | B6: ='2025년도'!F22 -> 45722 | D6: 시작일자 | E6: 45722
A7: 계약방법 | B7: 수의계약 | D7: 종료일자 | E7: 45808
A8: 계약유형 | B8: 물품 | D8: 검수일 | E8: 45773
A9: 계약상대자 | B9: 업체명 | C9: 성명 | D9: 주소
B10: ='2025년도'!G22 -> 쌍림비앤피 | C10: 김정환 | D10: 경남 양산시 동면 금오6길 37, 1층 102호
A11: 수의계약사유 | B11: 「지방계약법 시행령」 제25조 등 관계법령
A12: 사업장소 | B12: 통영케이블카

Sheet 19
A2: 연번 | B2: 19
A3: 계약명 | B3: ='2025년도'!D23 -> 케이블카 근접센서 구입
A4: 예정가격 | B4: 9520000 | D4: 최초계약금액 | E4: 9125600
A5: 낙찰률 | B5: =E4/B4 -> 0.95857143 | D5: 계약금액 | E5: ='2025년도'!E23 -> 9125600
A6: 계약일자 | B6: ='2025년도'!F23 -> 45722 | D6: 시작일자 | E6: 45722
A7: 계약방법 | B7: 수의계약 | D7: 종료일자 | E7: 45808
A8: 계약유형 | B8: 물품 | D8: 검수일 | E8: 45777
A9: 계약상대자 | B9: 업체명 | C9: 성명 | D9: 주소
B10: 이지무역 | C10: 김경현 | D10: 서울 강남구 개포로 22길 86, 2층 202호
A11: 수의계약사유 | B11: 「지방계약법 시행령」 제25조 등 관계법령
A12: 사업장소 | B12: 통영케이블카

Sheet 20
A2: 연번 | B2: 20
A3: 계약명 | B3: ='2025년도'!D24 -> 케이블카 악삭기 베어링 구입
A4: 예정가격 | B4: 2800000 | D4: 최초계약금액 | E4: 24640000
A5: 낙찰률 | B5: =E4/B4 -> 8.8 | D5: 계약금액 | E5: ='2025년도'!E24 -> 2464000
A6: 계약일자 | B6: ='2025년도'!F24 -> 45726 | D6: 시작일자 | E6: 45726
A7: 계약방법 | B7: 수의계약 | D7: 종료일자 | E7: 45747
A8: 계약유형 | B8: 물품 | D8: 검수일 | E8: 45729
A9: 계약상대자 | B9: 업체명 | C9: 성명 | D9: 주소
B10: 신륭기공㈜ | C10: 김재홍 | D10: 서울 영등포구 영등포로 109
A11: 수의계약사유 | B11: 「지방계약법 시행령」 제25조 등 관계법령
A12: 사업장소 | B12: 통영케이블카

Sheet 21
A2: 연번 | B2: 21
A3: 계약명 | B3: ='2025년도'!D25 -> 디피랑 무빙라이트 구입
A4: 예정가격 | B4: 3000000 | D4: 최초계약금액 | E4: 2530000
A5: 낙찰률 | B5: =E4/B4 -> 0.84333333 | D5: 계약금액 | E5: ='2025년도'!E25 -> 2530000
A6: 계약일자 | B6: ='2025년도'!F25 -> 45728 | D6: 시작일자 | E6: 45728
A7: 계약방법 | B7: 수의계약 | D7: 종료일자 | E7: 45777
A8: 계약유형 | B8: 물품 | D8: 검수일 | E8: 45776
A9: 계약상대자 | B9: 업체명 | C9: 성명 | D9: 주소
B10: C. A전자 | C10: 최무진 | D10: 서울 강서구 양천로 47길 40, 402호
A11: 수의계약사유 | B11: 「지방계약법 시행령」 제25조 등 관계법령
A12: 사업장소 | B12: 디피랑

Sheet 22
A2: 연번 | B2: 22
A3: 계약명 | B3: ='2025년도'!D26 -> 케이블카 수삭륜안내륜 고무라이너 구입
A4: 예정가격 | B4: 40000000 | D4: 최초계약금액 | E4: 9086000
A5: 낙찰률 | B5: =E4/B4 -> 0.22715 | D5: 계약금액 | E5: ='2025년도'!E26 -> 9086000
A6: 계약일자 | B6: ='2025년도'!F26 -> 45728 | D6: 시작일자 | E6: 45728
A7: 계약방법 | B7: 수의계약 | D7: 종료일자 | E7: 45808
A8: 계약유형 | B8: 물품 | D8: 검수일 | E8: 45772
A9: 계약상대자 | B9: 업체명 | C9: 성명 | D9: 주소
B10: ='2025년도'!G26 -> 부광고무산업사 | C10: 장병태 외 | D10: 경북 경산시 압량읍 가일길 32길 10
A11: 수의계약사유 | B11: 「지방계약법 시행령」 제25조 등 관계법령
A12: 사업장소 | B12: 통영케이블카

Sheet 23
A2: 연번 | B2: 23
A3: 계약명 | B3: 케이블카 마이터기어 구입
A4: 예정가격 | B4: 9840000 | D4: 최초계약금액 | E4: 9300000
A5: 낙찰률 | B5: =E4/B4 -> 0.94512195 | D5: 계약금액 | E5: 9300000
A6: 계약일자 | B6: 45728 | D6: 시작일자 | E6: 45728
A7: 계약방법 | B7: 수의계약 | D7: 종료일자 | E7: 45808
A8: 계약유형 | B8: 물품 | D8: 검수일 | E8: 45782
A9: 계약상대자 | B9: 업체명 | C9: 성명 | D9: 주소
B10: 주영테크 | C10: 김은숙 | D10: 경상남도 창원시 의창구 북면 운무로 783번길
A11: 수의계약사유 | B11: 「지방계약법 시행령」 제25조 등 관계법령
A12: 사업장소 | B12: 통영케이블카

Sheet 24
A2: 연번 | B2: 24
A3: 계약명 | B3: 통영어드벤처타워 자유낙하안전장치(A) 재인증 및 수리
A4: 예정가격 | B4: 4200000 | D4: 최초계약금액 | E4: 4092000
A5: 낙찰률 | B5: =E4/B4 -> 0.97428571 | D5: 계약금액 | E5: 4092000
A6: 계약일자 | B6: 45730 | D6: 시작일자 | E6: 45730
A7: 계약방법 | B7: 수의계약 | D7: 종료일자 | E7: 45747
A8: 계약유형 | B8: 물품 | D8: 검수일 | E8: 45735
A9: 계약상대자 | B9: 업체명 | C9: 성명 | D9: 주소
B10: 클라임코리아 주식회사 | C10: 홍주표 | D10: 경상북도 문경시 산양면 산양공단1길 19-59
A11: 수의계약사유 | B11: 「지방계약법 시행령」 제25조 등 관계법령
A12: 사업장소 | B12: 통영어드벤처타워

Sheet 25
A2: 연번 | B2: 25
A3: 계약명 | B3: 케이블카 악삭기 스프링 구입
A4: 예정가격 | B4: 9840000 | D4: 최초계약금액 | E4: 9328000
A5: 낙찰률 | B5: =E4/B4 -> 0.94796748 | D5: 계약금액 | E5: 9328000
A6: 계약일자 | B6: 45734 | D6: 시작일자 | E6: 45734
A7: 계약방법 | B7: 수의계약 | D7: 종료일자 | E7: 45777
A8: 계약유형 | B8: 물품 | D8: 검수일 | E8: 45750
A9: 계약상대자 | B9: 업체명 | C9: 성명 | D9: 주소
B10: 슈노르코리아 주식회사 | C10: 신상욱 | D10: 경기도 안양시 동안구 비산동 1112-1 안양건설타워 1414
A11: 수의계약사유 | B11: 「지방계약법 시행령」 제25조 등 관계법령
A12: 사업장소 | B12: 통영케이블카

Sheet 26
A2: 연번 | B2: 26
A3: 계약명 | B3: 케이블카 상부 2축 기어박스 구입
A4: 예정가격 | B4: 12600000 | D4: 최초계약금액 | E4: 11330000
A5: 낙찰률 | B5: =E4/B4 -> 0.89920635 | D5: 계약금액 | E5: 11330000
A6: 계약일자 | B6: 45736 | D6: 시작일자 | E6: 45736
A7: 계약방법 | B7: 수의계약 | D7: 종료일자 | E7: 45777
A8: 계약유형 | B8: 물품 | D8: 검수일 | E8: 45779
A9: 계약상대자 | B9: 업체명 | C9: 성명 | D9: 주소
B10: 지제이테크 | C10: 임규묵 | D10: 인천광역시 남동구 은청로 4-7, B동 3층 330호
A11: 수의계약사유 | B11: 「지방계약법 시행령」 제25조 등 관계법령
A12: 사업장소 | B12: 통영케이블카

Sheet 27
A2: 연번 | B2: 27
A3: 계약명 | B3: 통영어드벤처타워 연속빌레이(SSB) 구입
A4: 예정가격 | B4: 21780000 | D4: 최초계약금액 | E4: 20700000
A5: 낙찰률 | B5: =E4/B4 -> 0.95041322 | D5: 계약금액 | E5: 20700000
A6: 계약일자 | B6: 45737 | D6: 시작일자 | E6: 45737
A7: 계약방법 | B7: 수의계약 | D7: 종료일자
A8: 계약유형 | B8: 물품 | D8: 검수일
A9: 계약상대자 | B9: 업체명 | C9: 성명 | D9: 주소
B10: 어드벤처 주식회사 | C10: 길승환 | D10: 경기도 하남시 초광산단서로 4, 지하 1층
A11: 수의계약사유 | B11: 「지방계약법 시행령」 제25조 등 관계법령
A12: 사업장소 | B12: 통영어드벤처타워

Sheet 28
A2: 연번 | B2: 28
A3: 계약명 | B3: 케이블카 구동 타이어 구입
A4: 예정가격 | B4: 9600000 | D4: 최초계약금액 | E4: 8583850
A5: 낙찰률 | B5: =E4/B4 -> 0.89415104 | D5: 계약금액 | E5: 8583850
A6: 계약일자 | B6: 45741 | D6: 시작일자 | E6: 45741
A7: 계약방법 | B7: 수의계약 | D7: 종료일자 | E7: 45838
A8: 계약유형 | B8: 물품 | D8: 검수일 | E8: 45756
A9: 계약상대자 | B9: 업체명 | C9: 성명 | D9: 주소
B10: 도펠마이어코리아 유한회사 | C10: 엘리아스페텔레 | D10: 경기도 하남시 미사대로 550, 509호, 510호
A11: 수의계약사유 | B11: 「지방계약법 시행령」 제25조 등 관계법령
A12: 사업장소 | B12: 통영케이블카

Sheet 29
A2: 연번 | B2: 29
A3: 계약명 | B3: 케이블카 오프닝 스프링 구입
A4: 예정가격 | B4: 7100000 | D4: 최초계약금액 | E4: 6380000
A5: 낙찰률 | B5: =E4/B4 -> 0.89859155 | D5: 계약금액 | E5: 6380000
A6: 계약일자 | B6: 45741 | D6: 시작일자 | E6: 45741
A7: 계약방법 | B7: 수의계약 | D7: 종료일자 | E7: 45838
A8: 계약유형 | B8: 물품 | D8: 검수일 | E8: 45799
A9: 계약상대자 | B9: 업체명 | C9: 성명 | D9: 주소
B10: 도펠마이어코리아 유한회사 | C10: 엘리아스페텔레 | D10: 경기도 하남시 미사대로 550, 509호, 510호
A11: 수의계약사유 | B11: 「지방계약법 시행령」 제25조 등 관계법령
A12: 사업장소 | B12: 통영케이블카

Sheet 30
A2: 연번 | B2: 30
A3: 계약명 | B3: 케이블카 하부 승강장 조명 교체 공사
A4: 예정가격 | B4: 6600000 | D4: 최초계약금액 | E4: 5900000
A5: 낙찰률 | B5: =E4/B4 -> 0.89393939 | D5: 계약금액 | E5: 5900000
A6: 계약일자 | B6: 45742 | D6: 시작일자 | E6: 45742
A7: 계약방법 | B7: 수의계약 | D7: 종료일자 | E7: 45777
A8: 계약유형 | B8: 용역 | D8: 검수일 | E8: 45765
A9: 계약상대자 | B9: 업체명 | C9: 성명 | D9: 주소
B10: 광림전기공사 | C10: 송순이 | D10: 경상남도 통영시 용남면 장문로 425
A11: 수의계약사유 | B11: 「지방계약법 시행령」 제25조 등 관계법령
A12: 사업장소 | B12: 통영케이블카

Sheet 31
A2: 연번 | B2: 31
A3: 계약명 | B3: 케이블카 유압 컨트롤 밸브 구입
A4: 예정가격 | B4: 4800000 | D4: 최초계약금액 | E4: 4290000
A5: 낙찰률 | B5: =E4/B4 -> 0.89375 | D5: 계약금액 | E5: 4290000
A6: 계약일자 | B6: 2025. 3.28. | D6: 시작일자 | E6: 2025. 3. 28.
A7: 계약방법 | B7: 수의계약 | D7: 종료일자 | E7: 2025. 5. 31.
A8: 계약유형 | B8: 물품 | D8: 검수일 | E8: 2025. 4. 30.
A9: 계약상대자 | B9: 업체명 | C9: 성명 | D9: 주소
B10: 이지무역 | C10: 김경현 | D10: 인천광역시 연수구 송도동 203-5 스마트스퀘어 A동 1408호
A11: 수의계약사유 | B11: 「지방계약법 시행령」 제25조 등 관계법령
A12: 사업장소 | B12: 통영케이블카
