Workbook

Sheet 갑지
A1: 사장 | C1: 본부장 | E1: 팀장 | G1: 담당 | I1: 설계자 | K1: 설계년월일 | L1: 2015년 01월
A4: 설 계 예 산 서
A6: 공사명 : 통영케이블카 지주(1,3,4) 도장 공사
C11: 구 분 | F11: 금 액
C13: 총공사비 | F13: 금52,153,200원 | H13: (금 오천이백일십오만삼천이백원)
C14: 도 급 비 | D14: 공사원가 | F14: 금47,412,000원 | H14: (금 사천칠백사십일만이천원)
D15: 부가가치세 | F15: 금 4,741,200원 | H15: (금 사백칠십사만일천이백원)
D16: 계 | F16: 금52,153,200원 | H16: (금 오천이백일십오만삼천이백원)

Sheet 목차
A2: 목 차
D4: 1. | E4: 공 사 설 명 서
D5: 2. | E5: 예 정 공 정 표
D6: 3. | E6: 설 계 예 산 서
D7: 4. | E7: 도 장 공 사 일 반 시 방 서
D8: 5. | E8: 지 주(1, 3, 4번) 도 면 리 스 트

Sheet 1.설계설명서(속지)
A1: 1. 공 사 설 명 서

Sheet 설계설명서
A1: 설 계 설 명 서
A3: 1. 공 사 명 : 통영관광개발공사 지주(1,3,4)도장 공사
A5: 2. 위 치 : 경상남도 통영시 발개로 205(통영관광개발공사)
A7: 3. 과업내용 : 본과업은 통영관광개발공사의 케이블카 지주(1,3,4)철재 도장공사를 통하여 미관의 가치를 높이는데 만전을 기하고자 함.
A10: 4. 공사개요 : 통영관광개발공사 지주(1,3,4) 도장 공사 1식
A13: 5. 공사기간 : 본 공사의 공사기간은 착공일로부터 25 일간으로 하며 예정공정표는 별지 참조
A15: 6. 설계변경 : 천재지변이나 설계한 물량이 현저한 차이가 있거나 시행청의 사정으로 변경시공이 불가피한 경우
B16: 설계변경할수 있다.
A18: 7. 공사연기 : 본 공사의 시공중 다음과 같은 사유 발생시는 공사를 연기할수 있다.
B19: 1) 설계변경으로 인해 공사기간의 연장이 불가시피한 경우
B20: 2) 천재지변, 기타 부득이한 사유로 공기지연이 불가피한 경우
B21: 3) 기타 시행청이 필요하다고 인정할 경우

Sheet 2.예정공정표(속지)
A1: 2. 예 정 공 정 표

Sheet 예정공정표
A2: 예 정 공 정 표
A4: ※ 지주(1,3,4)도장 공사
A5: 공종 | B5: 보할(%) | C5: 공 사 기 간 ( 25일 ) | H5: 비고
C7: 5일 | D7: 10일 | E7: 15일 | F7: 20일 | G7: 25일
A8: =A4 -> ※ 지주(1,3,4)도장 공사 | B8: 100
C9: 20 | D9: 20 | E9: 20 | F9: 20 | G9: 20
A11: 소 계 | B11: 100 | C11: 20 | D11: 20 | E11: 20 | F11: 20 | G11: 20
A12: 합 계 | B12: 100 | C12: 20 | D12: 40 | E12: 60 | F12: 80 | G12: 100
A14: ※ 공사에 소요되는 공사기간은 위와 같으며, 품질관리와 완벽한 시공을 위하여 공정표의 수정을 필요로 할 경우에는 시행청에 요청하여 변경할 수 있다.

Sheet 3.설계예산서(속지)
A1: 3. 설 계 예 산 서

Sheet 공사원가계산서
B1: 공 사 원 가 계 산 서
B2: =[1]수량산출서!A3 -> 통영케이블카 지주(1,3,4) 도장공사
B3: 비 목 | E3: 금 액 | F3: 구 성 비 | G3: 비 고
A4: A1 | B4: 순 공 사 원 가 | C4: 재 료 비 | D4: 직 접 재 료 비 | E4: =[1]내역서!F21 -> 12202973
A5: A2 | D5: 간 접 재 료 비
A6: A3 | D6: 작업설, 부산물(△)
A7: AS | D7: [ 소 계 ] | E7: =SUM(E4:E6) -> 12202973
A8: B1 | C8: 노 무 비 | D8: 직 접 노 무 비 | E8: =[1]내역서!H21 -> 22180876
A9: B2 | D9: 간 접 노 무 비 | E9: =E8*0.091 -> 2018459.7 | F9: 직접노무비 * 9.1%
A10: BS | D10: [ 소 계 ] | E10: =SUM(E8:E9) -> 24199336
A11: C4 | C11: 경 비 | D11: 산 재 보 험 료 | E11: =(E8+E9)*0.038 -> 919574.76 | F11: 노무비 * 3.8%
A12: C5 | D12: 고 용 보 험 료 | E12: =(E8+E9)*0.0087 -> 210534.22 | F12: 노무비 * 0.87%
A13: C6 | D13: 국민 건강 보험료 | G13: 공사기간1개월미만
A14: C7 | D14: 국민 연금 보험료 | G14: 공사기간1개월미만
A15: CB | D15: 노인장기요양보험료 | G15: 공사기간1개월미만
A16: C8 | D16: 퇴직 공제 부금비
A17: CA | D17: 산업안전보건관리비 | E17: =(E7+E8)*0.0293 -> 1007446.8 | F17: (재료비+직접노무비)*2.93% | H17: 뿜칠이므로 등산로입구 통제 통제인력소요??
A18: CG | D18: 기 타 경 비 | E18: =(E7+E10)*0.051 -> 1856517.7 | F18: (재료비+노무비) * 5.1% | H18: 현수막제작 및 사전통보
A19: CS | D19: [ 소 계 ] | E19: =SUM(E11:E18) -> 3994073.5
A20: S1 | B20: 계 | E20: =E7+E10+E19 -> 40396382
A21: D1 | B21: 일 반 관 리 비 | E21: =(E7+E10+E19)*0.06 -> 2423782.9 | F21: (재료비+노무비+경비) * 6.0%
A22: D2 | B22: 이 윤 | E22: =(E10+E19+E21)*0.15 -> 4592578.8 | F22: (노무비+경비+일반관리비) * 15%
A23: D9 | B23: 공 급 가 액 | E23: =ROUNDDOWN(E20+E21+E22,-3) -> 47412000 | G23: 천단위 미만 절사
A24: DB | B24: 부 가 가 치 세 | E24: =E23*0.1 -> 4741200 | F24: 공급가액 * 10%
A25: DH | B25: 도 급 예 정 액 | E25: =E23+E24 -> 52153200
A26: S2 | B26: 총 공 사 비 | E26: =E25 -> 52153200

Sheet 내역서(속지)
A1: 내 역 서

Sheet 내역서
A1: 내 역 서
A3: =[1]수량산출서!A3 -> 통영케이블카 지주(1,3,4) 도장공사
A4: 품 명 | B4: 규 격 | C4: 단위 | D4: 수량 | E4: 재 료 비 | G4: 노 무 비 | I4: 경 비 | K4: 합 계 | M4: 비 고 | N4: 품목코드 | O4: 변수 | P4: 설정 | Q4: 공종코드 | R4: 일위 | S4: 단산 | T4: 자재 | U4: 손료적용 | V4: 손료저장 | W4: 적용율 | X4: JUK1 | Y4: JUK2 | Z4: JUK3 | AA4: JUK4 | AB4: JUK5 | AC4: JUK6 | AD4: JUK7 | AE4: JUK8 | AF4: JUK9 | AG4: JUK10 | AH4: JUK11 | AI4: JUK12 | AJ4: JUK13 | AK4: JUK14 | AL4: JUK15 | AM4: JUK16 | AN4: JUK17 | AO4: JUK18 | AP4: JUK19 | AQ4: JUK20 | AR4: 자재구분 | AS4: 공종구분 | AT4: 공종레벨 | AU4: 공종+자재 | AV4: 고유번호
E5: 단 가 | F5: 금 액 | G5: 단 가 | H5: 금 액 | I5: 단 가 | J5: 금 액 | K5: 단 가 | L5: 금 액
A6: 상도우레탄페인트 | B6: 우레탄페인트 | C6: M2 | D6: =[1]수량산출서!J504 -> 226 | E6: =[1]일위대가표!G13 -> 3999.512 | F6: =TRUNC(E6*D6, 0) -> 903889 | G6: =[1]일위대가표!I13 -> 732.768 | H6: =TRUNC(G6*D6, 0) -> 165605 | I6: =[1]일위대가표!K13 -> 238.5 | J6: =TRUNC(I6*D6, 0) -> 53901 | L6: =SUM(F6,H6,J6) -> 1123395 | N6: 57D3218AE5A7A45EAC236D1CF2B5 | Q6: 0101 | R6: T | S6: F | T6: F | AU6: 010157D3218AE5A7A45EAC236D1CF2B5 | AV6: 4
B7: 우레탄페인트, 위험할증20% | C7: M2 | D7: =[1]수량산출서!J505 -> 677 | E7: =[1]일위대가표!G22 -> 3999.512 | F7: =TRUNC(E7*D7, 0) -> 2707669 | G7: =[1]일위대가표!I22 -> 879.3216 | H7: =TRUNC(G7*D7, 0) -> 595300 | I7: =[1]일위대가표!K22 -> 238.5 | J7: =TRUNC(I7*D7, 0) -> 161464 | L7: =SUM(F7,H7,J7) -> 3464433 | N7: 57D3218AE5A7A45EAC236D1CF2B6 | Q7: 0101 | R7: T | S7: F | T7: F | AU7: 010157D3218AE5A7A45EAC236D1CF2B6 | AV7: 5
B8: 우레탄페인트, 위험할증40% | C8: M2 | D8: =[1]수량산출서!J506 -> 831 | E8: =[1]일위대가표!G31 -> 3999.512 | F8: =TRUNC(E8*D8, 0) -> 3323594 | G8: =[1]일위대가표!I31 -> 1025.8752 | H8: =TRUNC(G8*D8, 0) -> 852502 | I8: =[1]일위대가표!K31 -> 238.5 | J8: =TRUNC(I8*D8, 0) -> 198193 | L8: =SUM(F8,H8,J8) -> 4374289 | N8: 57D3218AE5A7A45EA953271F624C | Q8: 0101 | R8: T | S8: F | T8: F | AU8: 010157D3218AE5A7A45EA953271F624C | AV8: 6
B9: 우레탄페인트, 위험할증70% | C9: M2 | D9: =[1]수량산출서!J507 -> 423 | E9: =[1]일위대가표!G40 -> 3999.512 | F9: =TRUNC(E9*D9, 0) -> 1691793 | G9: =[1]일위대가표!I40 -> 1245.7056 | H9: =TRUNC(G9*D9, 0) -> 526933 | I9: =[1]일위대가표!K40 -> 238.5 | J9: =TRUNC(I9*D9, 0) -> 100885 | L9: =SUM(F9,H9,J9) -> 2319611 | N9: 57D3218AE5A7A45EA953271F6500 | Q9: 0101 | R9: T | S9: F | T9: F | AU9: 010157D3218AE5A7A45EA953271F6500 | AV9: 7
A10: 기존건축물바탕만들기 | B10: 재도장녹제거 | C10: M2 | D10: =[1]수량산출서!J504*0.3 -> 67.8 | E10: 0 | F10: =TRUNC(E10*D10, 0) -> 0 | G10: =[1]일위대가표!I43 -> 21649 | H10: =TRUNC(G10*D10, 0) -> 1467802 | I10: 0 | J10: =TRUNC(I10*D10, 0) -> 0 | L10: =SUM(F10,H10,J10) -> 1467802
A11: (전체면적의 30%적용) | B11: 재도장녹제거, 위험할증 20% | C11: M2 | D11: =[1]수량산출서!J505*0.3 -> 203.1 | E11: 0 | F11: =TRUNC(E11*D11, 0) -> 0 | G11: =[1]일위대가표!I46 -> 25978.8 | H11: =TRUNC(G11*D11, 0) -> 5276294 | I11: 0 | J11: =TRUNC(I11*D11, 0) -> 0 | L11: =SUM(F11,H11,J11) -> 5276294
B12: 재도장녹제거, 위험할증 40% | C12: M2 | D12: =[1]수량산출서!J506*0.3 -> 249.3 | E12: 0 | F12: =TRUNC(E12*D12, 0) -> 0 | G12: =[1]일위대가표!I49 -> 30308.6 | H12: =TRUNC(G12*D12, 0) -> 7555933 | I12: 0 | J12: =TRUNC(I12*D12, 0) -> 0 | L12: =SUM(F12,H12,J12) -> 7555933
B13: 재도장녹제거, 위험할증 70% | C13: M2 | D13: =[1]수량산출서!J507*0.3 -> 126.9 | E13: 0 | F13: =TRUNC(E13*D13, 0) -> 0 | G13: =[1]일위대가표!I52 -> 36803.3 | H13: =TRUNC(G13*D13, 0) -> 4670338 | I13: 0 | J13: =TRUNC(I13*D13, 0) -> 0 | L13: =SUM(F13,H13,J13) -> 4670338
E14: =[2]일위대가표!G51 -> 25.5 | F14: =TRUNC(E14*D14, 0) -> 0 | H14: =TRUNC(G14*D14, 0) -> 0 | J14: =TRUNC(I14*D14, 0) -> 0 | L14: =SUM(F14,H14,J14) -> 0
E15: =[2]일위대가표!G52 | F15: =TRUNC(E15*D15, 0) -> #VALUE! | H15: =TRUNC(G15*D15, 0) -> 0 | J15: =TRUNC(I15*D15, 0) -> 0 | K15: =TRUNC(E15+G15+I15, 0) -> #VALUE! | L15: =SUM(F15,H15,J15) -> #VALUE!
E16: =[2]일위대가표!G54 -> 5680.5107 | F16: =TRUNC(E16*D16, 0) -> 0 | H16: =TRUNC(G16*D16, 0) -> 0 | J16: =TRUNC(I16*D16, 0) -> 0 | L16: =SUM(F16,H16,J16) -> 0
A17: 하도에폭시페인트 | B17: 에폭시페인트 | C17: M2 | D17: =[1]수량산출서!J504*0.5 -> 113 | E17: =[1]일위대가표!G60 -> 3315.744 | F17: =TRUNC(E17*D17, 0) -> 374679 | G17: =[1]일위대가표!I60 -> 732.768 | H17: =TRUNC(G17*D17, 0) -> 82802 | I17: =[1]일위대가표!K60 -> 238.5 | J17: =TRUNC(I17*D17, 0) -> 26950 | L17: =SUM(F17,H17,J17) -> 484431
A18: (전체면적의 50%적용) | B18: 에폭시페인트, 위험할증20% | C18: M2 | D18: =[1]수량산출서!J505*0.5 -> 338.5 | E18: =[1]일위대가표!G68 -> 3315.744 | F18: =TRUNC(E18*D18, 0) -> 1122379 | G18: =[1]일위대가표!I68 -> 879.3216 | H18: =TRUNC(G18*D18, 0) -> 297650 | I18: =[1]일위대가표!K68 -> 238.5 | J18: =TRUNC(I18*D18, 0) -> 80732 | L18: =SUM(F18,H18,J18) -> 1500761
B19: 에폭시페인트 위험할증 40% | C19: M2 | D19: =[1]수량산출서!J506*0.5 -> 415.5 | E19: =[1]일위대가표!G76 -> 3315.744 | F19: =TRUNC(E19*D19, 0) -> 1377691 | G19: =[1]일위대가표!I76 -> 1025.8752 | H19: =TRUNC(G19*D19, 0) -> 426251 | I19: =[1]일위대가표!K76 -> 238.5 | J19: =TRUNC(I19*D19, 0) -> 99096 | L19: =SUM(F19,H19,J19) -> 1903038
B20: 에폭시페인트 위험할증 70% | C20: M2 | D20: =[1]수량산출서!J507*0.5 -> 211.5 | E20: =[1]일위대가표!G84 -> 3315.744 | F20: =TRUNC(E20*D20, 0) -> 701279 | G20: =[1]일위대가표!I84 -> 1245.7056 | H20: =TRUNC(G20*D20, 0) -> 263466 | I20: =[1]일위대가표!K84 -> 238.5 | J20: =TRUNC(I20*D20, 0) -> 50442 | L20: =SUM(F20,H20,J20) -> 1015187
A21: [ 합 계 ] | F21: =SUM(F6,F7,F8,F9,F17,F18,F19,F20) -> 12202973 | H21: =SUM(H6:H20) -> 22180876 | J21: =SUM(J6:J13) -> 514443 | L21: =SUM(F21,H21,J21) -> 34898292 | N21: TOTAL

Sheet 일위대가표(속지)
A1: 일 위 대 가 표

Sheet 일위대가표
A1: 일 위 대 가 목 록
A2: =[1]수량산출서!A3 -> 통영케이블카 지주(1,3,4) 도장공사
A3: 코 드 | B3: 품 명 | C3: 규 격 | D3: 단위 | E3: 수량 | F3: 재 료 비 | H3: 노 무 비 | J3: 경 비 | L3: 합 계 | N3: 노임계수 | O3: 할증 | P3: 품셈개요
F4: 단 가 | G4: 금 액 | H4: 단 가 | I4: 금 액 | J4: 단 가 | K4: 금 액 | L4: 단 가 | M4: 금 엑
B5: 제 1호표 19-6-3 상도우레탄페인트(뿜칠) 2회칠 ㎡
A6: 57D3218AE5A7A45EAC236D1CF2B5 | B6: 우레탄 페인트 | C6: 우레탄 상도 | D6: L | E6: 0.256 | F6: =[1]단가대비표!J5 -> 10062.5 | G6: =E6*F6 -> 2576 | M6: =SUM(G6,I6,K6) -> 2576
B7: 신너 | C7: 우레탄용 | D7: L | E7: 0.008 | F7: =[1]단가대비표!J6 -> 3105.5 | G7: =E7*F7 -> 24.844 | M7: =SUM(G7,I7,K7) -> 24.844
A8: 57D3218AE5A7A45EA953271F624C | B8: 연마지 | C8: #180 230*280 | D8: 매 | E8: 0.125 | F8: =[1]단가대비표!J9 -> 220 | G8: =E8*F8 -> 27.5 | M8: =SUM(G8,I8,K8) -> 27.5 | P8: 건축 13-10
B9: 노무비 | C9: 도장공 | D9: L | E9: 0.006 | H9: =[1]단가대비표!K10 -> 122128 | I9: =E9*H9 -> 732.768 | M9: =SUM(G9,I9,K9) -> 732.768 | Q9: 별도 적용할것
B10: 엔진식도장기 | C10: 4.7l/min | D10: 시간 | E10: 0.05 | J10: 4770 | K10: =E10*J10 -> 238.5 | M10: =SUM(G10,I10,K10) -> 238.5
B11: 주연료 | C11: 휘발유 | D11: L | E11: 0.72 | F11: =[1]단가대비표!L14 -> 1587 | G11: =E11*F11 -> 1142.64
B12: 잡재료 | C12: 주연료비의 20% | D12: 식 | E12: 1 | F12: =G11*0.2 -> 228.528 | G12: =E12*F12 -> 228.528
B13: [합 계] | G13: =SUM(G6:G12) -> 3999.512 | I13: =SUM(I6:I12) -> 732.768 | K13: =SUM(K6:K12) -> 238.5 | M13: =SUM(M6:M12) -> 3599.612
B14: 제 2호표 19-6-3 상도우레탄페인트(뿜칠) 2회칠 ㎡ -위험할증률 20%적용
A15: 57D3218AE5A7A45EAC236D1CF2B5 | B15: 우레탄 페인트 | C15: 우레탄 상도 | D15: L | E15: 0.256 | F15: =F6 -> 10062.5 | G15: =E15*F15 -> 2576 | M15: =SUM(G15,I15,K15) -> 2576
A16: 57D3218AE5A7A45EA953271F624C | B16: 신너 | C16: 우레탄용 | D16: L | E16: 0.008 | F16: =F7 -> 3105.5 | G16: =E16*F16 -> 24.844 | M16: =SUM(G16,I16,K16) -> 24.844 | P16: 건축 13-10
B17: 연마지 | C17: #180 230*280 | D17: 매 | E17: 0.125 | F17: =F8 -> 220 | G17: =E17*F17 -> 27.5 | M17: =SUM(G17,I17,K17) -> 27.5
B18: 노무비 | C18: 도장공 | D18: L | E18: 0.0072 | H18: =H9 -> 122128 | I18: =E18*H18 -> 879.3216 | M18: =SUM(G18,I18,K18) -> 879.3216
B19: 엔진식도장기 | C19: 4.7l/min | D19: 시간 | E19: 0.05 | J19: 4770 | K19: =E19*J19 -> 238.5 | M19: =SUM(G19,I19,K19) -> 238.5
B20: 주연료 | C20: 휘발유 | D20: L | E20: 0.72 | F20: =F11 -> 1587 | G20: =E20*F20 -> 1142.64
B21: 잡재료 | C21: 주연료비의 20% | D21: 식 | E21: 1 | F21: =F12 -> 228.528 | G21: =E21*F21 -> 228.528
B22: [합 계] | G22: =SUM(G15:G21) -> 3999.512 | I22: =SUM(I15:I21) -> 879.3216 | K22: =SUM(K15:K21) -> 238.5 | M22: =SUM(M15:M21) -> 3746.1656
B23: 제 3호표 19-6-3 상도우레탄페인트(뿜칠) 2회칠 ㎡ -위험할증률 40%적용
A24: 57D3218AE5A7A45EAC236D1CF2B5 | B24: 우레탄 페인트 | C24: 우레탄 상도 | D24: L | E24: 0.256 | F24: =F15 -> 10062.5 | G24: =E24*F24 -> 2576 | M24: =SUM(G24,I24,K24) -> 2576
B25: 신너 | C25: 우레탄용 | D25: L | E25: 0.008 | F25: =F16 -> 3105.5 | G25: =E25*F25 -> 24.844 | M25: =SUM(G25,I25,K25) -> 24.844
B26: 연마지 | C26: #180 230*280 | D26: 매 | E26: 0.125 | F26: =F17 -> 220 | G26: =E26*F26 -> 27.5 | M26: =SUM(G26,I26,K26) -> 27.5
B27: 노무비 | C27: 도장공 | D27: L | E27: 0.0084 | H27: =H18 -> 122128 | I27: =E27*H27 -> 1025.8752 | M27: =SUM(G27,I27,K27) -> 1025.8752
A28: 57D3218AE5A7A45EA953271F624C | B28: 엔진식도장기 | C28: 4.7l/min | D28: 시간 | E28: 0.05 | J28: 4770 | K28: =E28*J28 -> 238.5 | M28: =SUM(G28,I28,K28) -> 238.5 | P28: 건축 13-10
B29: 주연료 | C29: 휘발유 | D29: L | E29: 0.72 | F29: =F20 -> 1587 | G29: =E29*F29 -> 1142.64
B30: 잡재료 | C30: 주연료비의 20% | D30: 식 | E30: 1 | F30: =F21 -> 228.528 | G30: =E30*F30 -> 228.528
B31: [합 계] | G31: =SUM(G24:G30) -> 3999.512 | I31: =SUM(I24:I30) -> 1025.8752 | K31: =SUM(K24:K30) -> 238.5 | M31: =SUM(M24:M30) -> 3892.7192
B32: 제 4호표 19-6-3 상도우레탄페인트(뿜칠) 2회칠 ㎡ -위험할증률 70%적용
A33: 57D3218AE5A7A45EAC236D1CF2B5 | B33: 우레탄 페인트 | C33: 우레탄 상도 | D33: L | E33: 0.256 | F33: =F24 -> 10062.5 | G33: =E33*F33 -> 2576 | M33: =SUM(G33,I33,K33) -> 2576
B34: 신너 | C34: 우레탄용 | D34: L | E34: 0.008 | F34: =F25 -> 3105.5 | G34: =E34*F34 -> 24.844 | M34: =SUM(G34,I34,K34) -> 24.844
B35: 연마지 | C35: #180 230*280 | D35: 매 | E35: 0.125 | F35: =F26 -> 220 | G35: =E35*F35 -> 27.5 | M35: =SUM(G35,I35,K35) -> 27.5
B36: 노무비 | C36: 도장공 | D36: L | E36: 0.0102 | H36: =H27 -> 122128 | I36: =E36*H36 -> 1245.7056 | M36: =SUM(G36,I36,K36) -> 1245.7056
A37: 57D3218AE5A7A45EA953271F624C | B37: 엔진식도장기 | C37: 4.7l/min | D37: 시간 | E37: 0.05 | J37: 4770 | K37: =E37*J37 -> 238.5 | M37: =SUM(G37,I37,K37) -> 238.5 | P37: 건축 13-10
B38: 주연료 | C38: 휘발유 | D38: L | E38: 0.72 | F38: =F29 -> 1587 | G38: =E38*F38 -> 1142.64
B39: 잡재료 | C39: 주연료비의 20% | D39: 식 | E39: 1 | F39: =F30 -> 228.528 | G39: =E39*F39 -> 228.528
B40: [합 계] | G40: =SUM(G33:G39) -> 3999.512 | I40: =SUM(I33:I39) -> 1245.7056 | K40: =SUM(K33:K39) -> 238.5 | M40: =SUM(M33:M39) -> 4112.5496
...

Sheet 단가대비표(속지)
A1: 단 가 대 비 표

Sheet 단가대비표
A1: 단 가 대 비 표
A2: =[1]수량산출서!A3 -> 통영케이블카 지주(1,3,4) 도장공사
A3: 품 명 | B3: 규 격 | C3: 단위 | D3: 재 료 비 | K3: 노무비 | L3: 경비 | N3: 비고
D4: 물가정보 | E4: page | F4: 거래가격 | G4: page | H4: 물가자료 | I4: page | J4: 적용단가 | L4: 조사가격 | M4: 적용단가
A5: 우레탄 페인트 | B5: 우레탄 상도 | C5: L | D5: 10062.5 | E5: 269 | H5: 10937.5 | I5: 636 | J5: =MIN(D5,F5,H5) -> 10062.5
A6: 신너 | B6: 우레탄용 | C6: L | D6: 3617.6 | E6: 262 | F6: 3105.5 | G6: 539 | H6: 3617.6 | I6: 625 | J6: =MIN(D6,F6,H6) -> 3105.5
A7: 에폭시 페인트 | B7: 에폭시 하도 | C7: L | D7: 7500 | E7: 269 | H7: 8156.25 | I7: 636 | J7: =MIN(D7,F7,H7) -> 7500
A8: 신너 | B8: 에폭시용 | C8: L | D8: 3570.5 | E8: 262 | F8: 3072 | G8: 539 | H8: 3570.5 | I8: 625 | J8: =MIN(D8,F8,H8) -> 3072
A9: 연마지 | B9: #180,230*280㎜ | C9: 매 | D9: 255 | E9: 662 | F9: 220 | G9: 1209 | H9: 220 | I9: 1418 | J9: =MIN(D9,F9,H9) -> 220
A10: 노무비 | B10: 도장공 | C10: 인 | K10: 122128 | N10: 2015상반기
A11: 노무비 | B11: 특별인부 | C11: 인 | K11: 108245
A12: 노무비 | B12: 보통인부 | C12: 인 | K12: 87805
A13: 엔진도장기 | B13: 4.7ℓ/min | C13: 시간 | L13: 26800 | M13: =L13 -> 26800 | N13: 천원 | P13: 설계사무소
A14: 저황유 | B14: 휘발유 | C14: L | L14: 1587 | M14: =L14 -> 1587 | P14: 외국기술자 금액은 노무비로 할경우는 재경비를 많이 타기때문에
P15: 일반적으로는 재료비로 설계를 하거나 여건에 따라 노무비나 경비로 나누어 적용가능

Sheet 수량산출내역(속지)
A1: 수 량 산 출 서

Sheet 수량산출서
A1: 수량산출서
A3: 통영케이블카 지주(1,3,4) 도장공사
A4: 구분 | B4: NO | C4: 부재명 | D4: 규격 | H4: 수량 | I4: 표면적(㎡) | J4: 높이구간 | K4: 기타
D5: 가로 | E5: 세로 | F5: 폭 | G5: 길이
A6: 3번지주 | B6: 1 | C6: 1PA | D6: ∅216.3*8 | G6: 5955 | H6: 4 | I6: 32.35 | J6: 30m 이상
B7: 2 | C7: 1P52 | D7: ∅216.3*8 | G7: 1397 | H7: 2 | I7: 3.79 | J7: 30m 이상
B8: 3 | C8: 1T1, 1T2 | D8: 200 | E8: 200 | F8: 20 | G8: 5944 | H8: 2 | I8: =(((D8*2)+(E8*2))*G8)*H8/1000000 -> 9.5104 | J8: 30m 이상
B9: 4 | C9: 1B1 | D9: 200 | E9: 200 | F9: 15 | G9: 1906 | H9: 2 | I9: =(((D9*2)+(E9*2))*G9)*H9/1000000 -> 3.0496 | J9: 30m 이상 | N9: 산출내역
B10: 5 | C10: 2B1 | D10: 200 | E10: 200 | F10: 15 | G10: 2499 | H10: 4 | I10: =(((D10*2)+(E10*2))*G10)*H10/1000000 -> 7.9968 | J10: 30m 이상
B11: 6 | C11: 3B1 | D11: 200 | E11: 200 | F11: 15 | G11: 2485 | H11: 4 | J11: 30m 이상
B12: 7 | C12: 4B1 | D12: 200 | E12: 200 | F12: 15 | G12: 2421 | H12: 4 | J12: 30m 이상
B13: 8 | C13: 2T1 | D13: 200 | E13: 200 | F13: 15 | G13: 5000 | H13: 2 | I13: =(((D13*2)+(E13*2))*G13)*H13/1000000 -> 8 | J13: 30m 이상 | N13: 1. (((파이x지름x길이)x2)/1000000)x수량
B14: 9 | C14: 3T1 | D14: 200 | E14: 200 | F14: 15 | G14: 5000 | H14: 2 | I14: =(((D14*2)+(E14*2))*G14)*H14/1000000 -> 8 | J14: 30m 이상 | N14: 2. ((가로x2/1000)+(세로x2/1000))x길이x수량
B15: 10 | C15: 4T1 | D15: 200 | E15: 200 | F15: 15 | G15: 5000 | H15: 2 | I15: =(((D15*2)+(E15*2))*G15)*H15/1000000 -> 8 | J15: 30m 이상 | N15: 3. 치수가 기입되지 않은 것. CAD로 area 지정, 면적 산출
B16: 11 | C16: 5T1 | D16: 200 | E16: 200 | F16: 15 | G16: 5000 | H16: 2 | I16: =(((D16*2)+(E16*2))*G16)*H16/1000000 -> 8 | J16: 30m 이상
B17: 12 | C17: 1P03 | D17: 30*988 | G17: 1088 | H17: 4 | I17: =1.145*H17 -> 4.58 | J17: 30m 이상
B18: 13 | C18: 1P04 | D18: 30*434 | G18: 772 | H18: 4 | I18: =0.65*H18 -> 2.6 | J18: 30m 이상
B19: 14 | C19: 1P05 | D19: 25*220 | G19: 772 | H19: 4 | I19: 1.36 | J19: 30m 이상
B20: 15 | C20: 1P13 | D20: 30*552 | G20: 1284 | H20: 4 | I20: 4.63 | J20: 30m 이상
B21: 16 | C21: 1P14 | D21: 30*434 | G21: 1284 | H21: 4 | I21: 4.3 | J21: 30m 이상
B22: 17 | C22: 1P15 | D22: 25*220 | G22: 1284 | H22: 4 | I22: 2.26 | J22: 30m 이상
B23: 18 | C23: 1P16 | D23: 30*563 | G23: 1262 | H23: 4 | I23: 5.12 | J23: 30m 이상
B24: 19 | C24: 1P17 | D24: 30*447 | G24: 1262 | H24: 4 | I24: 4.29 | J24: 30m 이상
B25: 20 | C25: 1P18 | D25: 25*225 | G25: 1262 | H25: 4 | I25: 2.27 | J25: 30m 이상
B26: 21 | C26: 1P19 | D26: 30*440 | G26: 487 | H26: 4 | I26: 1.253 | J26: 30m 이상
B27: 22 | C27: 1P53 | D27: 25*225 | G27: 746 | H27: 2 | I27: 1.321 | J27: 30m 이상
B28: 23 | C28: 1P54 | D28: 25*131 | G28: 273 | H28: 2 | I28: 0.23 | J28: 30m 이상
B29: 24 | C29: 1P55 | D29: 25*220 | G29: 265 | H29: 2 | I29: 0.695 | J29: 30m 이상
B30: 25 | C30: 1P57 | E30: 30*656*746 | J30: 30m 이상
B31: 26 | C31: 1P58 | D31: 30*434 | G31: 1163 | H31: 2 | I31: 1.798 | J31: 30m 이상
B32: 27 | C32: 1P59 | D32: 30*434 | G32: 1163 | H32: 2 | I32: 1.798 | J32: 30m 이상
B33: 28 | C33: 1P60 | D33: 25*256 | G33: 1147 | H33: 2 | I33: 1.55 | J33: 30m 이상
B34: 29 | C34: 1P61 | D34: 25*220 | G34: 1163 | H34: 2 | I34: 1.02 | J34: 30m 이상
B35: 30 | C35: 1P62 | E35: 25*220*1163 | J35: 30m 이상
B36: 31 | C36: 2T2 | D36: 200 | E36: 200 | F36: 15 | G36: 1304 | H36: 2 | I36: =(((D36*2)+(E36*2))*G36)*H36/1000000 -> 2.0864 | J36: 30m 이상
B37: 32 | C37: 2B2 | D37: 200 | E37: 200 | F37: 15 | G37: 1838 | H37: 4 | I37: =(((D37*2)+(E37*2))*G37)*H37/1000000 -> 5.8816 | J37: 30m 이상
B38: 33 | C38: 3B2 | D38: 200 | E38: 200 | F38: 15 | G38: 1837 | H38: 4 | J38: 30m 이상
B39: 34 | C39: 4B2 | D39: 200 | E39: 200 | F39: 15 | G39: 1751 | H39: 4 | J39: 30m 이상
B40: 35 | C40: 1P05 | D40: 25*220 | G40: 772 | H40: 2 | I40: 0.68 | J40: 30m 이상
B41: 36 | C41: 1P13 | D41: 30*552 | G41: 1284 | H41: 2 | I41: 2.115 | J41: 30m 이상
...

Sheet 4.시방서(속지)
A1: 4. 시 방 서

Sheet 시방서
A1: 제 1장 총 칙
A2: 1. 1 공사일반
A3: 1. 1. 1 적용범위
A4: (1) 적용
A5: 이 공사 시방서는 본공사 해당공정에만 적용한다.
A6: (2) 적용순서
A7: 가. 설계도서간에 상호 모순이 있을 경우에는 공사시방서, 설계도면, 물량내역서의 순서에 따라 적용한다.
A8: 나. 이 공사시방서의 총칙과 총칙이외의 시방내용간에 상호 모순이 있을 경우에는 총칙 이외의 시방에 명시된 내용을 우선 적용한다.
A9: 다. 건축공사의 시방은 본 시방서및 특기시방서에 기재치 않은 사항은 건교부 재정 건축공사 표준시방서에 준용한다.
A10: 라. 각 공사에 있어서 다른 공사의 관련이 있는 사항에 대하여는 각기 그 해당공사의 기재사항 준용한다.
A12: 1. 1. 2 담당원과 그의 책무
A13: 가. 이 시방서에 담당원이라 함은 감독자 및 감독보조원을 말한다. 감독자라 함은 관공서에서 지정한 감독책임기술자로서 당해 공사의 공사관리,
... A244: 연마지 닦기 한다.

Sheet 5.도면리스트
A1: 5. 도 면 리 스 트

Sheet 도면
